Workbook
Name Brutto: '6. Angebotssumme'!$F$24
Name Nachlass_Absolut: '6. Angebotssumme'!$F$26
Name Nachlass_Prozent: '6. Angebotssumme'!$E$26
Name Netto: '6. Angebotssumme'!$F$20
Name SR_Summe_Pos.1: '5. Preisblatt SR'!$H$21
Name SR_Summe_Pos.2: '5. Preisblatt SR'!$H$28
Name SR_Summe_Pos.3: '5. Preisblatt SR'!$H$33
Name Ust: '6. Angebotssumme'!$E$22

Sheet Inhaltsverzeichnis
A1: Vergabeverfahren im Geschäftsbereich des Bayerischen Staatsministerium für Wohnen, Bau und Verkehr
A3: StBA Augsburg: Unterhaltsreinigung zwei Dienstgebäude in Augsburg Excel-Teil: Leistungsverzeichnis (Anlage 1)
A5: Auftraggeber: | B5: Staatliches Bauamt Augsburg
A6: Vergabenummer: | B6: LBD-26-15-271
A7: maximale Vertragslaufzeit: | B7: 01.02.2027 bis 31.01.2032
A9: Inhaltsverzeichnis | D9: Eintragungen erforderlich*)
A10: 1. Legende Reigungshäufigkeiten (Turnus) und Reinigungsgruppen | C10: (1. Legende RH und RG) | D10: r
A11: 2. Leistungsverzeichnis | C11: (2. LV) | D11: r
A12: 3. Kalkulationsschema Stundenverrechungssatz Unterhaltsreinigung | C12: (3. Kalk. SVS UR) | D12: ü
A13: 4.1 Aufmaß und Einzelraumkalkulation Unterhaltsreinigung DG Holbeinstraße/ Preisblatt | C13: (4.1 Preisblatt UR HBS) | D13: ü
A14: 4.2 Aufmaß und Einzelraumkalkulation Unterhaltsreinigung DG Burgkmairstraße / Preisblatt | C14: (4.2 Preisblatt UR BMS) | D14: ü
A15: 5. Sonderreinigung / Regiearbeiten Preisblatt | C15: (5. Preisblatt SR) | D15: ü
A16: 6. Angebotssumme | C16: (6. Angebotssumme) | D16: ü
A19: *) Hinweise:
A20: Es sind in allen blau markierten Feldern Eintragungen vorzunehmen. Die im Leistungsverzeichnis (LV) aufgeführten Leistungen sind zwingend anzubieten. Unentgeltliche Leistungen sind im Preisblatt mit 0,00 € einzutragen.Geben Sie bitte die Preise entgegen der Bestimmung aus Nr. 3.8 "L 212 EU Bewerbungsbedingungen" mit max. zwei Nachkommastellen für die zu erbringenden Leistungen an. Die Bestimmungen zu den Preisen ergeben sich aus Nr. 4 der Leistungsbeschreibung. Alle Leistungen sind mit den im Preisblatt angebotenen Preisen abgegolten. Die Bewerbungsbedingungen "L 212EU Bewerbungsbedingungen" sind zu beachten.

Sheet 1.  Legende RH und RG
A1: =Inhaltsverzeichnis!A1 -> Vergabeverfahren im Geschäftsbereich des Bayerischen Staatsministerium für Wohnen, Bau und Verkehr
A3: =Inhaltsverzeichnis!A3 -> StBA Augsburg: Unterhaltsreinigung zwei Dienstgebäude in Augsburg Excel-Teil: Leistungsverzeichnis (Anlage 1)
A5: =Inhaltsverzeichnis!A10 -> 1. Legende Reigungshäufigkeiten (Turnus) und Reinigungsgruppen
A7: Auftraggeber: | B7: =Inhaltsverzeichnis!B5 -> Staatliches Bauamt Augsburg
A8: Vergabenr.: | B8: =Inhaltsverzeichnis!B6 -> LBD-26-15-271
A10: 1.1 Reinigungshäufigkeiten (Turnus)
A11: Je nach Funktion des Bereiches ist nach der Reinigungshäufigkeit zu unterscheiden:
A12: Turnus | B12: Erläuterung Reinigungshäufigkeit | C12: Reinigungstage pro Jahr | D12: Reinigungstage pro Halbjahr (bei Sommer-/Winterreinigung)
A13: X | B13: Turnus "X" wird ggf. nur im Tabellenblatt "2. LV" verwendet gemäß Turnus / Reinigungshäufigkeit (Spalte G) aus 4. Preisblatt UR | C13: gemäß Reinigungstage / Jahr (Spalte I) aus 4. Preisblatt UR | D13: gemäß Reinigungstage / Jahr (Spalte I) aus 4.1 Preisblatt UR Sommer und 4.2 Preisblatt UR Winter
A14: 0 | B14: keine Reinigung durchzuführen | C14: --- | D14: ---
A15: 1 | B15: einmal wöchentlich reinigen | C15: 52 | D15: 26
A16: 2 | B16: zweimal wöchentlich reinigen | C16: 104 | D16: 52
A17: 3 | B17: dreimal wöchentlich reinigen | C17: 156 | D17: 78
A18: 5 | B18: täglich reinigen | C18: 250 | D18: 125
A19: M1 | B19: einmal monatlich reinigen | C19: 12 | D19: 6
A20: M2 | B20: zweimal monatlich reinigen | C20: 24 | D20: 12
A22: Folgende Reinigungshäufigkeiten sind nur als Sonderarbeiten (auf Regie) möglich:
A23: Turnus | B23: Erläuterung Reinigungshäufigkeit | C23: Reinigungstage pro Jahr
A24: J1 | B24: einmal jährlich reinigen | C24: 1
A25: J2 | B25: zweimal jährlich reinigen | C25: 2
A26: J4 | B26: viermal jährlich reinigen | C26: 4
A27: J6 | B27: sechsmal jährlich reinigen | C27: 6
A29: 1.2 Reinigungsgruppen
A31: Reinigungs-gruppe | B31: Beschreibung
A32: A | B32: Büro- und Verwaltungsräume und ähnliche Räume
A33: B | B33: Besprechungszimmer, Schulungsräume und ähnliche Räume
A34: C | B34: Sanitärräume (z. B. Toiletten, Duschen, Waschräume) und ähnliche Räume
A35: D | B35: Teeküchen und ähnliche Räume
A36: E | B36: Aufenthaltsräume und ähnliche Räume
A37: F | B37: Umkleideräume, Garderoben und ähnliche Räume
A38: G | B38: Aufzüge
A39: H | B39: Flure und ähnliche Bereiche
A40: I | B40: Eingangshallen, Windfänge und ähnliche Bereiche
A41: J | B41: Treppen und Podeste
A42: K | B42: Nebenräume, Lager, Technik, Abstellräume und ähnliche Räume
A43: L | B43: Laborräume

Sheet 2. LV 
A1: =Inhaltsverzeichnis!A1 -> Vergabeverfahren im Geschäftsbereich des Bayerischen Staatsministerium für Wohnen, Bau und Verkehr
A3: =Inhaltsverzeichnis!A3 -> StBA Augsburg: Unterhaltsreinigung zwei Dienstgebäude in Augsburg Excel-Teil: Leistungsverzeichnis (Anlage 1)
A5: =Inhaltsverzeichnis!A11 -> 2. Leistungsverzeichnis
A7: Auftraggeber: | B7: =Inhaltsverzeichnis!B5 -> Staatliches Bauamt Augsburg
A8: Vergabenummer: | B8: =Inhaltsverzeichnis!B6 -> LBD-26-15-271
C9: DG Holbeinstr. 10 | M9: DG Burgkmairstr. 12
A10: Bezeichnung | B10: Tätigkeit | C10: Reinigungsgruppen und -häufigkeiten gemäß "1. Legende RH und RG" | M10: Reinigungsgruppen und -häufigkeiten gemäß "1. Legende RH und RG"
C11: A | D11: B | E11: C | F11: D | G11: F | H11: G | I11: H | J11: I | K11: J | L11: K | M11: A | N11: B | O11: C | P11: D | Q11: G | R11: H | S11: I | T11: J | U11: K
C12: Büro- und Verwaltung | D12: Besprechungs- zimmer | E12: Sanitär | F12: Teeküchen | G12: Umkleiden | H12: Aufzüge | I12: Flure | J12: Eingang, Windfänge | K12: Treppen und Podeste | L12: Lager, Technik, Abstellräume | M12: Büro- und Verwaltung | N12: Besprechungs- zimmer | O12: Sanitär | P12: Teeküchen | Q12: Aufzüge | R12: Flure | S12: Eingang, Windfänge | T12: Treppen und Podeste | U12: Lager, Technik, Abstellräume
A13: Obenarbeiten
A14: Abfallbehälter (Restmüll, Bio, Wertstoffe, usw.) | B14: Inhalte entleeren und mit einem Beutel versehen. Wertstoffe getrennt sammeln und in den dafür vorgesehenen Sammelstellen/Mülltonnen entsorgen. | C14: - | D14: 5 | E14: 5 | F14: 5 | G14: - | H14: - | I14: - | J14: - | K14: - | L14: - | M14: - | N14: 5 | O14: 5 | P14: 5 | Q14: - | R14: - | S14: - | T14: - | U14: -
A15: Abfallbehälter (Papierkörbe, Reißwölfe in Kopierräumen) | B15: Inhalte Entleeren und entsorgen | C15: 5 | D15: 5 | E15: - | F15: - | G15: - | H15: - | I15: - | J15: - | K15: - | L15: 5 | M15: 5 | N15: 5 | O15: - | P15: - | Q15: - | R15: - | S15: - | T15: - | U15: 5
A16: Abfallbehälter (alle) | B16: Innen und außen feucht/nass reinigen | C16: M1 | D16: M1 | E16: M1 | F16: M1 | G16: - | H16: - | I16: - | J16: - | K16: - | L16: M1 | M16: M1 | N16: M1 | O16: M1 | P16: M1 | Q16: - | R16: - | S16: - | T16: - | U16: M1
A17: Aschenbecher, evtl. kombiniert mit Abfallbehälter | B17: Entleeren und feucht/nass reinigen | C17: - | D17: - | E17: - | F17: - | G17: - | H17: - | I17: - | J17: 5 | K17: - | L17: - | M17: - | N17: - | O17: - | P17: - | Q17: - | R17: - | S17: 5 | T17: - | U17: -
A18: Aufzug | B18: Komplett Griffspuren und sichtbare Verschmutzungen feucht/nass entfernen bis zur Decke | C18: - | D18: - | E18: - | F18: - | G18: - | H18: 1 | I18: - | J18: - | K18: - | L18: - | M18: - | N18: - | O18: - | P18: - | Q18: 1 | R18: - | S18: - | T18: - | U18: -
A19: Automaten (Getränke, Lebensmittel etc.) | B19: Komplett von außen feucht/nass reinigen auch über 1,60 m | C19: - | D19: - | E19: - | F19: - | G19: - | H19: - | I19: 1 | J19: - | K19: - | L19: - | M19: - | N19: - | O19: - | P19: - | Q19: - | R19: 1 | S19: - | T19: - | U19: -
A20: Beleuchtungskörper, Lichtleisten | B20: Steh- und Tischleuchten inkl. Lampenschirme: Unter Beachtung der Sicherheitsvorschriften feucht/nass reinigen | C20: M1 | D20: - | E20: - | F20: - | G20: - | H20: - | I20: - | J20: - | K20: - | L20: - | M20: M1 | N20: - | O20: - | P20: - | Q20: - | R20: - | S20: - | T20: - | U20: -
A21: Drucker, Kopierer | B21: Komplett von außen feucht/nass reinigen bzw. abstauben | C21: - | D21: - | E21: - | F21: - | G21: - | H21: - | I21: - | J21: - | K21: - | L21: 1 | M21: - | N21: - | O21: - | P21: - | Q21: - | R21: - | S21: - | T21: - | U21: 1
A22: Fernseher | B22: Komplett von außen feucht/nass reinigen bzw. abstauben auch über 1,60 m | C22: - | D22: M1 | E22: - | F22: - | G22: - | H22: - | I22: - | J22: - | K22: - | L22: - | M22: - | N22: M1 | O22: - | P22: - | Q22: - | R22: - | S22: - | T22: - | U22: -
A23: Feuerlöscher/Kästen, Abdeckungen | B23: Feucht/Nass reinigen auch über 1,60 m | C23: - | D23: - | E23: - | F23: - | G23: - | H23: - | I23: M1 | J23: M1 | K23: M1 | L23: - | M23: - | N23: - | O23: - | P23: - | Q23: - | R23: M1 | S23: M1 | T23: M1 | U23: -
A24: Innenfensterbänke | B24: Feucht/Nass reinigen, auch über 1,60 m. | C24: M1 | D24: M1 | E24: - | F24: M1 | G24: - | H24: - | I24: M1 | J24: - | K24: - | L24: - | M24: M1 | N24: M1 | O24: - | P24: M1 | Q24: - | R24: M1 | S24: - | T24: - | U24: -
A25: Innenverglasung, Windfänge, Glastrennwände | B25: Griffspuren und sichtbare Verschmutzungen feucht/nass entfernen bis 2,10 m | C25: M1 | D25: - | E25: - | F25: - | G25: - | H25: - | I25: M1 | J25: M1 | K25: - | L25: - | M25: M1 | N25: - | O25: - | P25: - | Q25: - | R25: M1 | S25: M1 | T25: - | U25: -
A26: Kleiderständer, Garderoben/Haken | B26: Komplett feucht/nass reinigen auch über 1,60 m | C26: - | D26: M1 | E26: - | F26: - | G26: - | H26: - | I26: - | J26: - | K26: - | L26: - | M26: - | N26: M1 | O26: - | P26: - | Q26: - | R26: - | S26: - | T26: - | U26: -
A27: Küchenzeilen Arbeitsflächen | B27: Komplett feucht/nass reinigen | C27: - | D27: - | E27: - | F27: 5 | G27: - | H27: - | I27: - | J27: - | K27: - | L27: - | M27: - | N27: - | O27: - | P27: 5 | Q27: - | R27: - | S27: - | T27: - | U27: -
A28: Küchenzeilen Möbel | B28: Komplett von außen feucht/nass reinigen | C28: - | D28: - | E28: - | F28: M1 | G28: - | H28: - | I28: - | J28: - | K28: - | L28: - | M28: - | N28: - | O28: - | P28: M1 | Q28: - | R28: - | S28: - | T28: - | U28: -
A29: Küchenzeilen techn. Geräte (Kühlschrank, Herd, Backofen, usw.) | B29: Komplett von außen feucht/nass reinigen | C29: - | D29: - | E29: - | F29: 1 | G29: - | H29: - | I29: - | J29: - | K29: - | L29: - | M29: - | N29: - | O29: - | P29: 1 | Q29: - | R29: - | S29: - | T29: - | U29: -
A30: Messing-, Chrom-, und Edelstahlteile/Flächen | B30: Reinigen und Polieren | C30: - | D30: - | E30: - | F30: 1 | G30: - | H30: - | I30: 1 | J30: 1 | K30: - | L30: - | M30: - | N30: - | O30: - | P30: 1 | Q30: - | R30: 1 | S30: 1 | T30: - | U30: -
A31: Polstermöbel, Stühle, Hocker, Tritte, Bänke, Sitzgruppen etc. | B31: Griffspuren und sichtbare Verschmutzungen feucht/nass entfernen, bzw. absaugen | C31: M1 | D31: M1 | E31: - | F31: 2 | G31: - | H31: - | I31: - | J31: - | K31: - | L31: - | M31: M1 | N31: M1 | O31: - | P31: 2 | Q31: - | R31: - | S31: - | T31: - | U31: -
A32: Rollcontainer, Anstell/Unterstellcontainer | B32: Griffspuren und sichtbare Verschmutzungen feucht/nass entfernen | C32: 1 | D32: - | E32: - | F32: - | G32: - | H32: - | I32: - | J32: - | K32: - | L32: - | M32: 1 | N32: - | O32: - | P32: - | Q32: - | R32: - | S32: - | T32: - | U32: -
A33: Schreibtische | B33: Griffspuren und sichtbare Verschmutzungen feucht/nass entfernen | C33: 1 | D33: - | E33: - | F33: - | G33: - | H33: - | I33: - | J33: - | K33: - | L33: - | M33: 1 | N33: - | O33: - | P33: - | Q33: - | R33: - | S33: - | T33: - | U33: -
A34: Schreibtische | B34: Nur vorher abgeräumte Tische: Komplett feucht/nass reinigen | C34: 1 | D34: - | E34: - | F34: - | G34: - | H34: - | I34: - | J34: - | K34: - | L34: - | M34: 1 | N34: - | O34: - | P34: - | Q34: - | R34: - | S34: - | T34: - | U34: -
A35: Schlüsselkasten und Vitrinen im Eingangsbereich | B35: Komplett feucht/nass reinigen auch über 1,60 m | C35: - | D35: - | E35: - | F35: - | G35: - | H35: - | I35: M1 | J35: - | K35: - | L35: - | M35: - | N35: - | O35: - | P35: - | Q35: - | R35: M1 | S35: - | T35: - | U35: -
A36: Sonstige abwaschbare Wände | B36: Sichtbare Verschmutzungen feucht/nass entfernen bis 2,10 m | C36: - | D36: - | E36: - | F36: 1 | G36: - | H36: - | I36: - | J36: - | K36: - | L36: - | M36: - | N36: - | O36: - | P36: 1 | Q36: - | R36: - | S36: - | T36: - | U36: -
A37: Spinnweben | B37: Spinnweben entfernen bis zur Decke | C37: M1 | D37: M1 | E37: M1 | F37: M1 | G37: - | H37: - | I37: M1 | J37: M1 | K37: M1 | L37: - | M37: M1 | N37: M1 | O37: M1 | P37: M1 | Q37: - | R37: M1 | S37: M1 | T37: M1 | U37: -
A38: Stoßleisten | B38: Komplett feucht/nass reinigen | C38: - | D38: - | E38: - | F38: - | G38: - | H38: - | I38: - | J38: 2 | K38: 1 | L38: - | M38: - | N38: - | O38: - | P38: - | Q38: - | R38: - | S38: 2 | T38: 1 | U38: -
A39: Telefone | B39: Nur Hörer und Hörerauflage feucht/nass reinigen | C39: - | D39: M1 | E39: - | F39: - | G39: - | H39: - | I39: - | J39: - | K39: - | L39: - | M39: - | N39: M1 | O39: - | P39: - | Q39: - | R39: - | S39: - | T39: - | U39: -
A40: Tische, Glastische, Stehpulte | B40: Komplett feucht/nass reinigen | C40: 1 | D40: 1 | E40: - | F40: 1 | G40: - | H40: - | I40: - | J40: - | K40: - | L40: - | M40: 1 | N40: 1 | O40: - | P40: 1 | Q40: - | R40: - | S40: - | T40: - | U40: -
A41: Treppengeländer auch Glasflächen, Plexiglas | B41: Komplett Griffspuren und sichtbare Verschmutzungen feucht/nass entfernen | C41: - | D41: - | E41: - | F41: - | G41: - | H41: - | I41: - | J41: - | K41: M1 | L41: - | M41: - | N41: - | O41: - | P41: - | Q41: - | R41: - | S41: - | T41: M1 | U41: -
A42: Treppengeländer auch Glasflächen, Plexiglas | B42: nur Handläufe: Komplett feucht/nass reinigen. | C42: - | D42: - | E42: - | F42: - | G42: - | H42: - | I42: - | J42: - | K42: 1 | L42: - | M42: - | N42: - | O42: - | P42: - | Q42: - | R42: - | S42: - | T42: 1 | U42: -
A43: Türen, Türrahmen, Türgriffe, Türbeschläge und Glastüren | B43: Komplett Griffspuren und sichtbare Verschmutzungen feucht/nass bis 2,10 m entfernen | C43: M1 | D43: M1 | E43: M1 | F43: M1 | G43: - | H43: - | I43: M1 | J43: M1 | K43: M1 | L43: M1 | M43: M1 | N43: M1 | O43: M1 | P43: M1 | Q43: - | R43: M1 | S43: M1 | T43: M1 | U43: M1
...

Sheet 3. Kalk. SVS UR
A1: =Inhaltsverzeichnis!A1 -> Vergabeverfahren im Geschäftsbereich des Bayerischen Staatsministerium für Wohnen, Bau und Verkehr
A3: =Inhaltsverzeichnis!A3 -> StBA Augsburg: Unterhaltsreinigung zwei Dienstgebäude in Augsburg Excel-Teil: Leistungsverzeichnis (Anlage 1)
A5: =Inhaltsverzeichnis!A12 -> 3. Kalkulationsschema Stundenverrechungssatz Unterhaltsreinigung
A7: Bieter:
C8: Nur hier eintragen, wird in alle weiteren Tabellenblätter automatisch übernommen!
A9: =Inhaltsverzeichnis!A5 -> Auftraggeber: | C9: =Inhaltsverzeichnis!B5 -> Staatliches Bauamt Augsburg | F9: Durchschnittliche Urlaubstage je Mitarbeiter jährlich | K9: Tage
A10: =Inhaltsverzeichnis!A6 -> Vergabenummer: | C10: =Inhaltsverzeichnis!B6 -> LBD-26-15-271 | F10: Tage tarifliche Arbeitsfreistellung je Mitarbeiter jährlich | K10: Tage
F11: durchschnittliche Krankheitstage je Mitarbeiter jährlich | K11: Tage
A13: Hinweis: Zum Zwecke der Angebotswertung ist der Tarifvertrag zur Regelung der Mindestlöhne für gewerbliche Arbeitnehmer in der Gebäudereinigung im Gebiet der Bundesrepublik Deutschland (TV Mindestlohn) vom 15. November 2024 (gültig ab 1. Januar 2025) Grundlage der Kalkulation. Die Preisanpassung regelt sich gemäß Anlage 4 (Preisanpassung Unterhaltsreinigung). | F13: voll sozialversicherungs-pflichtiges Personal | H13: Midijob (Übergangsbereich) | J13: Minijob (geringfügig Beschäftigte)
F14: Lohngruppe | H14: Lohngruppe | J14: Lohngruppe
A15: In Anlehnung an das Kalkulationsschema des Bundesinnungsverbandes des Gebäudereiniger-Handwerks. | F15: %-Sätze | G15: € | H15: %-Sätze | I15: € | J15: %-Sätze | K15: €
A16: 1 | B16: Stunden- /Tariflohn werktags (gemäß o. g. Lohngruppe) 1) | F16: 100 | H16: 100 | J16: 100
A17: 2 | B17: Lohngebundene Kosten = tariflich und gesetzlich vorgegebene Zuschläge (anpassungs-fähige Kosten) | C17: 2.1 Sozialversicherungs-beiträge (Arbeitgeberanteil) | D17: 2.1.1 | E17: Krankenversicherung | F17: 7.3 | G17: =ROUND($G$16*F17%,4) -> 0 | I17: =ROUND($I$16*H17%,4) -> 0 | K17: =ROUND($K$16*J17%,4) -> 0
D18: 2.1.2 | E18: Zusatzbeitrag Krankenversicherung | F18: 1.45 | G18: =ROUND($G$16*F18%,4) -> 0 | I18: =ROUND($I$16*H18%,4) -> 0 | K18: =ROUND($K$16*J18%,4) -> 0
D19: 2.1.3 | E19: Rentenversicherung | F19: 9.3 | G19: =ROUND($G$16*F19%,4) -> 0 | I19: =ROUND($I$16*H19%,4) -> 0 | K19: =ROUND($K$16*J19%,4) -> 0
D20: 2.1.4 | E20: Arbeitslosenversicherung (entfällt bei geringfügiger Beschäftigung) | F20: 1.3 | G20: =ROUND($G$16*F20%,4) -> 0 | I20: =ROUND($I$16*H20%,4) -> 0 | K20: =ROUND($K$16*J20%,4) -> 0
D21: 2.1.5 | E21: Pflegeversicherung (entfällt bei geringfügiger Beschäftigung) | F21: 1.8 | G21: =ROUND($G$16*F21%,4) -> 0 | I21: =ROUND($I$16*H21%,4) -> 0 | K21: =ROUND($K$16*J21%,4) -> 0
D22: 2.1.6 | E22: Umlage U1 Arbeitsunfähigkeit | G22: =ROUND($G$16*F22%,4) -> 0 | I22: =ROUND($I$16*H22%,4) -> 0 | K22: =ROUND($K$16*J22%,4) -> 0
D23: 2.1.7 | E23: Umlage U2 Mutterschaft | G23: =ROUND($G$16*F23%,4) -> 0 | I23: =ROUND($I$16*H23%,4) -> 0 | K23: =ROUND($K$16*J23%,4) -> 0
D24: 2.1.8 | E24: Umlage U3 Insolvenzgeld | F24: 0.15 | G24: =ROUND($G$16*F24%,4) -> 0 | H24: 0.15 | I24: =ROUND($I$16*H24%,4) -> 0 | J24: 0.15 | K24: =ROUND($K$16*J24%,4) -> 0
D25: 2.1.9 | E25: Gesetzliche Unfallversicherung | G25: =ROUND($G$16*F25%,4) -> 0 | I25: =ROUND($I$16*H25%,4) -> 0 | K25: =ROUND($K$16*J25%,4) -> 0
D26: Zwischensumme Sozialversicherungsbeiträge | F26: =IF(G16="","",ROUND(SUM(F17:F25),4)) | G26: =IF(OR(F22="",F23="",F25=""),"",ROUND(SUM(G17:G25),4)) | H26: =IF(I16="","",ROUND(SUM(H17:H25),4)) | I26: =IF(OR(H17="",H18="",H19="",H20="",H21="",H22="",H23="",H25=""),"",ROUND(SUM(I17:I25),4)) | J26: =IF(K16="","",ROUND(SUM(J17:J25),4)) | K26: =IF(OR(J17="",J18="",J19="",J22="",J23="",J25=""),"",ROUND(SUM(K17:K25),4))
C27: 2.2 Soziallöhne | D27: 2.2.1 | E27: Gesetzliche Feiertage | G27: =ROUND($G$16*F27%,4) -> 0 | I27: =ROUND($I$16*H27%,4) -> 0 | K27: =ROUND($K$16*J27%,4) -> 0
D28: 2.2.2 | E28: Sozialversicherung auf Feiertage | F28: =IF(F26="","",F26*F27/100) | G28: =IF($G$16="","",ROUND($G$16*F28%,4)) | H28: =IF(H26="","",H26*H27/100) | I28: =IF($I$16="","",ROUND($I$16*H28%,4)) | J28: =IF(J26="","",J26*J27/100) | K28: =IF($K$16="","",ROUND($K$16*J28%,4))
D29: 2.2.3 | E29: Urlaubsentgelt | G29: =ROUND($G$16*F29%,4) -> 0 | I29: =ROUND($I$16*H29%,4) -> 0 | K29: =ROUND($K$16*J29%,4) -> 0
D30: 2.2.4 | E30: Sozialversicherung auf Urlaubsentgelt | F30: =IF(F26="","",F26*F29/100) | G30: =IF($G$16="","",ROUND($G$16*F30%,4)) | H30: =IF(H26="","",H26*H29/100) | I30: =IF($I$16="","",ROUND($I$16*H30%,4)) | J30: =IF(J26="","",J26*J29/100) | K30: =IF($K$16="","",ROUND($K$16*J30%,4))
D31: 2.2.5 | E31: Arbeitsfreistellung/Tarifliche Ausfallzeiten | G31: =ROUND($G$16*F31%,4) -> 0 | I31: =ROUND($I$16*H31%,4) -> 0 | K31: =ROUND($K$16*J31%,4) -> 0
D32: 2.2.6 | E32: Sozialversicherung auf Arbeitsfreistellung/Tarifliche Ausfallzeiten | F32: =IF(F26="","",F26*F31/100) | G32: =IF($G$16="","",ROUND($G$16*F32%,4)) | H32: =IF(H26="","",H26*H31/100) | I32: =IF($I$16="","",ROUND($I$16*H32%,4)) | J32: =IF(J26="","",J26*J31/100) | K32: =IF($K$16="","",ROUND($K$16*J32%,4))
D33: 2.2.7 | E33: Entgeltfortzahlung im Krankheitsfall | G33: =ROUND($G$16*F33%,4) -> 0 | I33: =ROUND($I$16*H33%,4) -> 0 | K33: =ROUND($K$16*J33%,4) -> 0
D34: 2.2.8 | E34: Sozialversicherung auf Entgeltfortzahlung im Krankheitsfall | F34: =IF(F26="","",F26*F33/100) | G34: =IF($G$16="","",ROUND($G$16*F34%,4)) | H34: =IF(H26="","",H26*H33/100) | I34: =IF($I$16="","",ROUND($I$16*H34%,4)) | J34: =IF(J26="","",J26*J33/100) | K34: =IF($K$16="","",ROUND($K$16*J34%,4))
D35: 2.2.9 | E35: zusätzliches Urlaubsgeld | G35: =ROUND($G$16*F35%,4) -> 0 | I35: =ROUND($I$16*H35%,4) -> 0 | K35: =ROUND($K$16*J35%,4) -> 0
D36: 2.2.10 | E36: Sozialversicherung auf zusätzliches Urlaubsgeld | F36: =IF(F26="","",F26*F35/100) | G36: =IF($G$16="","",ROUND($G$16*F36%,4)) | H36: =IF(H26="","",H26*H35/100) | I36: =IF($I$16="","",ROUND($I$16*H36%,4)) | J36: =IF(J26="","",J26*J35/100) | K36: =IF($K$16="","",ROUND($K$16*J36%,4))
D37: Zwischensumme Soziallöhne inkl. SV-Beiträge auf Soziallöhne | F37: =ROUND(SUM(F27:F36),4) -> 0 | G37: =IF(OR(F27="",F29="",F31="",F33="",F35=""),"",ROUND(SUM(G27:G36),4)) | H37: =ROUND(SUM(H27:H36),4) -> 0 | I37: =IF(OR(H27="",H29="",H31="",H33="",H35=""),"",ROUND(SUM(I27:I36),4)) | J37: =ROUND(SUM(J27:J36),4) -> 0 | K37: =IF(OR(J27="",J29="",J31="",J33="",J35=""),"",ROUND(SUM(K27:K36),4))
C38: 2.3 Zusätzliche lohngebundene Kosten | D38: 2.3.1 | E38: Haftpflichtversicherung | G38: =ROUND($G$16*F38%,4) -> 0 | I38: =ROUND($I$16*H38%,4) -> 0 | K38: =ROUND($K$16*J38%,4) -> 0
D39: 2.3.2 | E39: Sonstige Personalkosten (Arbeitskleidung, etc.) | G39: =ROUND($G$16*F39%,4) -> 0 | I39: =ROUND($I$16*H39%,4) -> 0 | K39: =ROUND($K$16*J39%,4) -> 0
D40: Zwischensumme zusätzliche lohngebundene Kosten | F40: =ROUND(SUM(F38:F39),4) -> 0 | G40: =IF(OR(F38="",F39=""),"",ROUND(SUM(G38:G39),4)) | H40: =ROUND(SUM(H38:H39),4) -> 0 | I40: =IF(OR(H38="",H39=""),"",ROUND(SUM(I38:I39),4)) | J40: =ROUND(SUM(J38:J39),4) -> 0 | K40: =IF(OR(J38="",J39=""),"",ROUND(SUM(K38:K39),4))
C41: Kalkulationszuschlag lohngebundene Kosten | F41: =IF(ISERROR(F26+F37+F40),"",(F26+F37+F40)) | G41: =IF(ISERROR(G26+G37+G40),"",(G26+G37+G40)) | H41: =IF(ISERROR(H26+H37+H40),"",(H26+H37+H40)) | I41: =IF(ISERROR(I26+I37+I40),"",(I26+I37+I40)) | J41: =IF(ISERROR(J26+J37+J40),"",(J26+J37+J40)) | K41: =IF(ISERROR(K26+K37+K40),"",(K26+K37+K40))
A42: 3 | B42: auftrags- und unternehmens-bezogene Zuschläge, Risiko und Gewinn (nicht anpassungs-fähige Kosten) | C42: 3.1 auftragsbezogene Kosten | G42: =ROUND($G$16*F42%,4) -> 0 | I42: =ROUND($I$16*H42%,4) -> 0 | K42: =ROUND($K$16*J42%,4) -> 0
C43: 3.2 unternehmensbezogene Kosten | G43: =ROUND($G$16*F43%,4) -> 0 | I43: =ROUND($I$16*H43%,4) -> 0 | K43: =ROUND($K$16*J43%,4) -> 0
C44: 3.3 Gewerbesteuer | G44: =ROUND($G$16*F44%,4) -> 0 | I44: =ROUND($I$16*H44%,4) -> 0 | K44: =ROUND($K$16*J44%,4) -> 0
...

Sheet 4.1 Preisblatt UR HBS
A1: =Inhaltsverzeichnis!A1 -> Vergabeverfahren im Geschäftsbereich des Bayerischen Staatsministerium für Wohnen, Bau und Verkehr
A3: =Inhaltsverzeichnis!A3 -> StBA Augsburg: Unterhaltsreinigung zwei Dienstgebäude in Augsburg Excel-Teil: Leistungsverzeichnis (Anlage 1)
A5: =Inhaltsverzeichnis!A13 -> 4.1 Aufmaß und Einzelraumkalkulation Unterhaltsreinigung DG Holbeinstraße/ Preisblatt
A7: Auftraggeber: | B7: =Inhaltsverzeichnis!B5 -> Staatliches Bauamt Augsburg
A8: Vergabenr.: | B8: =Inhaltsverzeichnis!B6 -> LBD-26-15-271
A9: =Inhaltsverzeichnis!A7 -> maximale Vertragslaufzeit: | B9: =Inhaltsverzeichnis!B7 -> 01.02.2027 bis 31.01.2032
A10: Bieter: | B10: ='3. Kalk. SVS UR'!C7 -> 0
A12: Bitte die farblich markierten Zellen ausfüllen!
A13: Bitte maximal zwei Nachkommastellen eingeben!
A15: wöchentliche Arbeitsstunden bei einer 5-Tage-Woche Es gelten die Bestimmungen gemäß Nr. 1.2 der Leistungsbeschreibung. Angebote, die der Mindestvorgabe nicht entsprechen, werden ausgeschlossen. | L15: =IFERROR(ROUND(P15*5,2),"") | M15: Arbeitsstunden pro Tag | P15: =IFERROR(ROUND(L190/250,2),"")
A17: Preis je Ausführung | F17: Häufigkeit während maximaler Vertragslaufzeit | H17: Preis je Ausführung/ Tag | I17: Gesamtpreis Vertrags-laufzeit
A18: Objektübergabe (werktags) gemäß Nr. 3.1 der Leistungsbeschreibung | F18: 2 | I18: =IF(H18="","Preis fehlt",ROUND(F18*(ROUND(H18,2)),2)) -> Preis fehlt
A20: Eingabehilfen:
A21: Reinigungsgruppe gemäß "1. Legende RH und RG" | E21: A | F21: B | G21: C | H21: D | I21: E | J21: F | K21: G | L21: H | M21: I | N21: J | O21: K
A22: Leistungswert (m²/h)
A24: Aufmaß / Flächenverzeichnis | I24: Einzelraumkalkulation
A25: Gebäude | B25: Geschoss | C25: Raum Nr. | D25: Raumbezeichnung | E25: Bodenbelag | F25: Boden- fläche | G25: Turnus / Reinigungs- häufigkeit gemäß "1. Legende RH und RG" | H25: Reinigungs- gruppen gemäß "1. Legende RH und RG" | I25: Reinigungs- tage / Jahr gemäß "1. Legende RH und RG" | J25: Reinigungs- fläche pro Jahr | K25: Leistungswert in m² pro Stunde | L25: Stunden pro Jahr | M25: Stunden pro Reinigungstag hh:mm:ss | N25: Stunden-verrechnungs-satz gemäß "3. Kalk. SVS UR" | O25: Kosten pro Jahr (netto) | P25: Kosten pro Monat (netto) | Q25: Kosten pro Reinigungstag (netto) | R25: Bemerkung
A26: HBS | B26: KG | C26: K-03 | D26: Dusche | E26: Fliesen | F26: 11.73 | G26: 5 | H26: C | I26: =VLOOKUP(G26,'1. Legende RH und RG'!$A$15:$D$20,3,FALSE) -> 250 | J26: =F26*I26 -> 2932.5 | K26: =ROUND(HLOOKUP(H26,$E$21:$O$22,2,FALSE),2) -> 0 | L26: =J26/ROUND(K26,2) -> #DIV/0! | M26: =(ROUND(L26/I26,2))/24 -> #DIV/0! | N26: ='3. Kalk. SVS UR'!$F$52 | O26: =ROUND(ROUND(N26,2)*L26,2) -> #VALUE! | P26: =ROUND(O26/12,2) -> #VALUE! | Q26: =ROUND(O26/I26,2) -> #VALUE!
A27: HBS | B27: KG | C27: K-04 | D27: Windfang am Aufzug | E27: Linoleum/Estrich | F27: 13.45 | G27: 5 | H27: I | I27: =VLOOKUP(G27,'1. Legende RH und RG'!$A$15:$D$20,3,FALSE) -> 250 | J27: =F27*I27 -> 3362.5 | K27: =ROUND(HLOOKUP(H27,$E$21:$O$22,2,FALSE),2) -> 0 | L27: =J27/ROUND(K27,2) -> #DIV/0! | M27: =(ROUND(L27/I27,2))/24 -> #DIV/0! | N27: ='3. Kalk. SVS UR'!$F$52 | O27: =ROUND(ROUND(N27,2)*L27,2) -> #VALUE! | P27: =ROUND(O27/12,2) -> #VALUE! | Q27: =ROUND(O27/I27,2) -> #VALUE!
A28: HBS | B28: KG | C28: K04 | D28: Treppe am Aufzug | E28: Metall | F28: 11.73 | G28: 5 | H28: J | I28: =VLOOKUP(G28,'1. Legende RH und RG'!$A$15:$D$20,3,FALSE) -> 250 | J28: =F28*I28 -> 2932.5 | K28: =ROUND(HLOOKUP(H28,$E$21:$O$22,2,FALSE),2) -> 0 | L28: =J28/ROUND(K28,2) -> #DIV/0! | M28: =(ROUND(L28/I28,2))/24 -> #DIV/0! | N28: ='3. Kalk. SVS UR'!$F$52 | O28: =ROUND(ROUND(N28,2)*L28,2) -> #VALUE! | P28: =ROUND(O28/12,2) -> #VALUE! | Q28: =ROUND(O28/I28,2) -> #VALUE!
A29: HBS | B29: KG | C29: K-05 | D29: Sanitätsraum | E29: Linoleum | F29: 6.37 | G29: 1 | H29: F | I29: =VLOOKUP(G29,'1. Legende RH und RG'!$A$15:$D$20,3,FALSE) -> 52 | J29: =F29*I29 -> 331.24 | K29: =ROUND(HLOOKUP(H29,$E$21:$O$22,2,FALSE),2) -> 0 | L29: =J29/ROUND(K29,2) -> #DIV/0! | M29: =(ROUND(L29/I29,2))/24 -> #DIV/0! | N29: ='3. Kalk. SVS UR'!$F$52 | O29: =ROUND(ROUND(N29,2)*L29,2) -> #VALUE! | P29: =ROUND(O29/12,2) -> #VALUE! | Q29: =ROUND(O29/I29,2) -> #VALUE!
A30: HBS | B30: KG | C30: K-06 | D30: Behinderten-WC | E30: Linoleum | F30: 7.84 | G30: 5 | H30: C | I30: =VLOOKUP(G30,'1. Legende RH und RG'!$A$15:$D$20,3,FALSE) -> 250 | J30: =F30*I30 -> 1960 | K30: =ROUND(HLOOKUP(H30,$E$21:$O$22,2,FALSE),2) -> 0 | L30: =J30/ROUND(K30,2) -> #DIV/0! | M30: =(ROUND(L30/I30,2))/24 -> #DIV/0! | N30: ='3. Kalk. SVS UR'!$F$52 | O30: =ROUND(ROUND(N30,2)*L30,2) -> #VALUE! | P30: =ROUND(O30/12,2) -> #VALUE! | Q30: =ROUND(O30/I30,2) -> #VALUE!
A31: HBS | B31: KG | C31: K-08 | D31: Treppenhaus west | E31: Stein | F31: 20.6 | G31: 1 | H31: J | I31: =VLOOKUP(G31,'1. Legende RH und RG'!$A$15:$D$20,3,FALSE) -> 52 | J31: =F31*I31 -> 1071.2 | K31: =ROUND(HLOOKUP(H31,$E$21:$O$22,2,FALSE),2) -> 0 | L31: =J31/ROUND(K31,2) -> #DIV/0! | M31: =(ROUND(L31/I31,2))/24 -> #DIV/0! | N31: ='3. Kalk. SVS UR'!$F$52 | O31: =ROUND(ROUND(N31,2)*L31,2) -> #VALUE! | P31: =ROUND(O31/12,2) -> #VALUE! | Q31: =ROUND(O31/I31,2) -> #VALUE!
A32: HBS | B32: KG | C32: K-20 | D32: Treppenhaus ost | E32: Stein | F32: 17.21 | G32: 1 | H32: J | I32: =VLOOKUP(G32,'1. Legende RH und RG'!$A$15:$D$20,3,FALSE) -> 52 | J32: =F32*I32 -> 894.92 | K32: =ROUND(HLOOKUP(H32,$E$21:$O$22,2,FALSE),2) -> 0 | L32: =J32/ROUND(K32,2) -> #DIV/0! | M32: =(ROUND(L32/I32,2))/24 -> #DIV/0! | N32: ='3. Kalk. SVS UR'!$F$52 | O32: =ROUND(ROUND(N32,2)*L32,2) -> #VALUE! | P32: =ROUND(O32/12,2) -> #VALUE! | Q32: =ROUND(O32/I32,2) -> #VALUE!
A33: HBS | B33: KG | C33: K-24 | D33: Flur | E33: Estrich | F33: 3.24 | G33: 1 | H33: H | I33: =VLOOKUP(G33,'1. Legende RH und RG'!$A$15:$D$20,3,FALSE) -> 52 | J33: =F33*I33 -> 168.48 | K33: =ROUND(HLOOKUP(H33,$E$21:$O$22,2,FALSE),2) -> 0 | L33: =J33/ROUND(K33,2) -> #DIV/0! | M33: =(ROUND(L33/I33,2))/24 -> #DIV/0! | N33: ='3. Kalk. SVS UR'!$F$52 | O33: =ROUND(ROUND(N33,2)*L33,2) -> #VALUE! | P33: =ROUND(O33/12,2) -> #VALUE! | Q33: =ROUND(O33/I33,2) -> #VALUE!
A34: HBS | B34: KG | C34: K-25 | D34: Flur | E34: Estrich | F34: 33.11 | G34: 1 | H34: H | I34: =VLOOKUP(G34,'1. Legende RH und RG'!$A$15:$D$20,3,FALSE) -> 52 | J34: =F34*I34 -> 1721.72 | K34: =ROUND(HLOOKUP(H34,$E$21:$O$22,2,FALSE),2) -> 0 | L34: =J34/ROUND(K34,2) -> #DIV/0! | M34: =(ROUND(L34/I34,2))/24 -> #DIV/0! | N34: ='3. Kalk. SVS UR'!$F$52 | O34: =ROUND(ROUND(N34,2)*L34,2) -> #VALUE! | P34: =ROUND(O34/12,2) -> #VALUE! | Q34: =ROUND(O34/I34,2) -> #VALUE!
A35: HBS | B35: KG | C35: K-26 | D35: Putzraum/Getränkel. | E35: Fliesen | F35: 12.12 | G35: M1 | H35: K | I35: =VLOOKUP(G35,'1. Legende RH und RG'!$A$15:$D$20,3,FALSE) -> 12 | J35: =F35*I35 -> 145.44 | K35: =ROUND(HLOOKUP(H35,$E$21:$O$22,2,FALSE),2) -> 0 | L35: =J35/ROUND(K35,2) -> #DIV/0! | M35: =(ROUND(L35/I35,2))/24 -> #DIV/0! | N35: ='3. Kalk. SVS UR'!$F$52 | O35: =ROUND(ROUND(N35,2)*L35,2) -> #VALUE! | P35: =ROUND(O35/12,2) -> #VALUE! | Q35: =ROUND(O35/I35,2) -> #VALUE!
A36: HBS | B36: KG | C36: K-27 | D36: Flur | E36: Estrich | F36: 42.17 | G36: 1 | H36: H | I36: =VLOOKUP(G36,'1. Legende RH und RG'!$A$15:$D$20,3,FALSE) -> 52 | J36: =F36*I36 -> 2192.84 | K36: =ROUND(HLOOKUP(H36,$E$21:$O$22,2,FALSE),2) -> 0 | L36: =J36/ROUND(K36,2) -> #DIV/0! | M36: =(ROUND(L36/I36,2))/24 -> #DIV/0! | N36: ='3. Kalk. SVS UR'!$F$52 | O36: =ROUND(ROUND(N36,2)*L36,2) -> #VALUE! | P36: =ROUND(O36/12,2) -> #VALUE! | Q36: =ROUND(O36/I36,2) -> #VALUE!
A37: HBS Altbau | B37: EG | C37: 001 | D37: Windfang Treppenhaus | E37: Terrazzo | F37: 45.6 | G37: 2 | H37: I | I37: =VLOOKUP(G37,'1. Legende RH und RG'!$A$15:$D$20,3,FALSE) -> 104 | J37: =F37*I37 -> 4742.4 | K37: =ROUND(HLOOKUP(H37,$E$21:$O$22,2,FALSE),2) -> 0 | L37: =J37/ROUND(K37,2) -> #DIV/0! | M37: =(ROUND(L37/I37,2))/24 -> #DIV/0! | N37: ='3. Kalk. SVS UR'!$F$52 | O37: =ROUND(ROUND(N37,2)*L37,2) -> #VALUE! | P37: =ROUND(O37/12,2) -> #VALUE! | Q37: =ROUND(O37/I37,2) -> #VALUE!
A38: HBS Altbau | B38: EG | D38: Treppe | E38: Stein | F38: 11.05 | G38: 2 | H38: J | I38: =VLOOKUP(G38,'1. Legende RH und RG'!$A$15:$D$20,3,FALSE) -> 104 | J38: =F38*I38 -> 1149.2 | K38: =ROUND(HLOOKUP(H38,$E$21:$O$22,2,FALSE),2) -> 0 | L38: =J38/ROUND(K38,2) -> #DIV/0! | M38: =(ROUND(L38/I38,2))/24 -> #DIV/0! | N38: ='3. Kalk. SVS UR'!$F$52 | O38: =ROUND(ROUND(N38,2)*L38,2) -> #VALUE! | P38: =ROUND(O38/12,2) -> #VALUE! | Q38: =ROUND(O38/I38,2) -> #VALUE!
A39: HBS Altbau | B39: EG | C39: 002 | D39: WC-D | E39: Fliesen | F39: 9.39 | G39: 5 | H39: C | I39: =VLOOKUP(G39,'1. Legende RH und RG'!$A$15:$D$20,3,FALSE) -> 250 | J39: =F39*I39 -> 2347.5 | K39: =ROUND(HLOOKUP(H39,$E$21:$O$22,2,FALSE),2) -> 0 | L39: =J39/ROUND(K39,2) -> #DIV/0! | M39: =(ROUND(L39/I39,2))/24 -> #DIV/0! | N39: ='3. Kalk. SVS UR'!$F$52 | O39: =ROUND(ROUND(N39,2)*L39,2) -> #VALUE! | P39: =ROUND(O39/12,2) -> #VALUE! | Q39: =ROUND(O39/I39,2) -> #VALUE!
A40: HBS Altbau | B40: EG | C40: 003 | D40: Flur | E40: Terrazzo | F40: 52.54 | G40: 2 | H40: H | I40: =VLOOKUP(G40,'1. Legende RH und RG'!$A$15:$D$20,3,FALSE) -> 104 | J40: =F40*I40 -> 5464.16 | K40: =ROUND(HLOOKUP(H40,$E$21:$O$22,2,FALSE),2) -> 0 | L40: =J40/ROUND(K40,2) -> #DIV/0! | M40: =(ROUND(L40/I40,2))/24 -> #DIV/0! | N40: ='3. Kalk. SVS UR'!$F$52 | O40: =ROUND(ROUND(N40,2)*L40,2) -> #VALUE! | P40: =ROUND(O40/12,2) -> #VALUE! | Q40: =ROUND(O40/I40,2) -> #VALUE!
A41: HBS Altbau | B41: EG | D41: Treppe | E41: Stein | F41: 3.87 | G41: 2 | H41: J | I41: =VLOOKUP(G41,'1. Legende RH und RG'!$A$15:$D$20,3,FALSE) -> 104 | J41: =F41*I41 -> 402.48 | K41: =ROUND(HLOOKUP(H41,$E$21:$O$22,2,FALSE),2) -> 0 | L41: =J41/ROUND(K41,2) -> #DIV/0! | M41: =(ROUND(L41/I41,2))/24 -> #DIV/0! | N41: ='3. Kalk. SVS UR'!$F$52 | O41: =ROUND(ROUND(N41,2)*L41,2) -> #VALUE! | P41: =ROUND(O41/12,2) -> #VALUE! | Q41: =ROUND(O41/I41,2) -> #VALUE!
A42: HBS Altbau | B42: EG | C42: 004 | D42: Galerie | E42: Teppich | F42: 23.62 | G42: 2 | H42: J | I42: =VLOOKUP(G42,'1. Legende RH und RG'!$A$15:$D$20,3,FALSE) -> 104 | J42: =F42*I42 -> 2456.48 | K42: =ROUND(HLOOKUP(H42,$E$21:$O$22,2,FALSE),2) -> 0 | L42: =J42/ROUND(K42,2) -> #DIV/0! | M42: =(ROUND(L42/I42,2))/24 -> #DIV/0! | N42: ='3. Kalk. SVS UR'!$F$52 | O42: =ROUND(ROUND(N42,2)*L42,2) -> #VALUE! | P42: =ROUND(O42/12,2) -> #VALUE! | Q42: =ROUND(O42/I42,2) -> #VALUE!
A43: HBS Altbau | B43: EG | C43: 005 | D43: Büro | E43: Teppich | F43: 49.89 | G43: 2 | H43: A | I43: =VLOOKUP(G43,'1. Legende RH und RG'!$A$15:$D$20,3,FALSE) -> 104 | J43: =F43*I43 -> 5188.56 | K43: =ROUND(HLOOKUP(H43,$E$21:$O$22,2,FALSE),2) -> 0 | L43: =J43/ROUND(K43,2) -> #DIV/0! | M43: =(ROUND(L43/I43,2))/24 -> #DIV/0! | N43: ='3. Kalk. SVS UR'!$F$52 | O43: =ROUND(ROUND(N43,2)*L43,2) -> #VALUE! | P43: =ROUND(O43/12,2) -> #VALUE! | Q43: =ROUND(O43/I43,2) -> #VALUE!
A44: HBS Altbau | B44: EG | C44: 006 | D44: Treppenhaus west | E44: Stein | F44: 18.73 | G44: 1 | H44: J | I44: =VLOOKUP(G44,'1. Legende RH und RG'!$A$15:$D$20,3,FALSE) -> 52 | J44: =F44*I44 -> 973.96 | K44: =ROUND(HLOOKUP(H44,$E$21:$O$22,2,FALSE),2) -> 0 | L44: =J44/ROUND(K44,2) -> #DIV/0! | M44: =(ROUND(L44/I44,2))/24 -> #DIV/0! | N44: ='3. Kalk. SVS UR'!$F$52 | O44: =ROUND(ROUND(N44,2)*L44,2) -> #VALUE! | P44: =ROUND(O44/12,2) -> #VALUE! | Q44: =ROUND(O44/I44,2) -> #VALUE!
A45: HBS Altbau | B45: EG | C45: 008 | D45: Vorraum | E45: Teppich | F45: 4.93 | G45: 2 | H45: H | I45: =VLOOKUP(G45,'1. Legende RH und RG'!$A$15:$D$20,3,FALSE) -> 104 | J45: =F45*I45 -> 512.72 | K45: =ROUND(HLOOKUP(H45,$E$21:$O$22,2,FALSE),2) -> 0 | L45: =J45/ROUND(K45,2) -> #DIV/0! | M45: =(ROUND(L45/I45,2))/24 -> #DIV/0! | N45: ='3. Kalk. SVS UR'!$F$52 | O45: =ROUND(ROUND(N45,2)*L45,2) -> #VALUE! | P45: =ROUND(O45/12,2) -> #VALUE! | Q45: =ROUND(O45/I45,2) -> #VALUE!
A46: HBS Altbau | B46: EG | C46: 009 | D46: Büro | E46: Teppich | F46: 30.4 | G46: 2 | H46: A | I46: =VLOOKUP(G46,'1. Legende RH und RG'!$A$15:$D$20,3,FALSE) -> 104 | J46: =F46*I46 -> 3161.6 | K46: =ROUND(HLOOKUP(H46,$E$21:$O$22,2,FALSE),2) -> 0 | L46: =J46/ROUND(K46,2) -> #DIV/0! | M46: =(ROUND(L46/I46,2))/24 -> #DIV/0! | N46: ='3. Kalk. SVS UR'!$F$52 | O46: =ROUND(ROUND(N46,2)*L46,2) -> #VALUE! | P46: =ROUND(O46/12,2) -> #VALUE! | Q46: =ROUND(O46/I46,2) -> #VALUE!
A47: HBS Altbau | B47: EG | C47: 010 | D47: Büro | E47: Teppich | F47: 20.83 | G47: 2 | H47: A | I47: =VLOOKUP(G47,'1. Legende RH und RG'!$A$15:$D$20,3,FALSE) -> 104 | J47: =F47*I47 -> 2166.32 | K47: =ROUND(HLOOKUP(H47,$E$21:$O$22,2,FALSE),2) -> 0 | L47: =J47/ROUND(K47,2) -> #DIV/0! | M47: =(ROUND(L47/I47,2))/24 -> #DIV/0! | N47: ='3. Kalk. SVS UR'!$F$52 | O47: =ROUND(ROUND(N47,2)*L47,2) -> #VALUE! | P47: =ROUND(O47/12,2) -> #VALUE! | Q47: =ROUND(O47/I47,2) -> #VALUE!
A48: HBS Altbau | B48: EG | C48: 011 | D48: Büro | E48: Teppich | F48: 41.11 | G48: 2 | H48: A | I48: =VLOOKUP(G48,'1. Legende RH und RG'!$A$15:$D$20,3,FALSE) -> 104 | J48: =F48*I48 -> 4275.44 | K48: =ROUND(HLOOKUP(H48,$E$21:$O$22,2,FALSE),2) -> 0 | L48: =J48/ROUND(K48,2) -> #DIV/0! | M48: =(ROUND(L48/I48,2))/24 -> #DIV/0! | N48: ='3. Kalk. SVS UR'!$F$52 | O48: =ROUND(ROUND(N48,2)*L48,2) -> #VALUE! | P48: =ROUND(O48/12,2) -> #VALUE! | Q48: =ROUND(O48/I48,2) -> #VALUE!
...

Sheet 4.2 Preisblatt UR BMS
A1: =Inhaltsverzeichnis!A1 -> Vergabeverfahren im Geschäftsbereich des Bayerischen Staatsministerium für Wohnen, Bau und Verkehr
A3: =Inhaltsverzeichnis!A3 -> StBA Augsburg: Unterhaltsreinigung zwei Dienstgebäude in Augsburg Excel-Teil: Leistungsverzeichnis (Anlage 1)
A5: =Inhaltsverzeichnis!A14 -> 4.2 Aufmaß und Einzelraumkalkulation Unterhaltsreinigung DG Burgkmairstraße / Preisblatt
A7: Auftraggeber: | B7: =Inhaltsverzeichnis!B5 -> Staatliches Bauamt Augsburg
A8: Vergabenr.: | B8: =Inhaltsverzeichnis!B6 -> LBD-26-15-271
A9: =Inhaltsverzeichnis!A7 -> maximale Vertragslaufzeit: | B9: =Inhaltsverzeichnis!B7 -> 01.02.2027 bis 31.01.2032
A10: Bieter: | B10: ='3. Kalk. SVS UR'!C7 -> 0
A12: Bitte die farblich markierten Zellen ausfüllen!
A13: Bitte maximal zwei Nachkommastellen eingeben!
A15: wöchentliche Arbeitsstunden bei einer 5-Tage-Woche Es gelten die Bestimmungen gemäß Nr. 1.2 der Leistungsbeschreibung. Angebote, die der Mindestvorgabe nicht entsprechen, werden ausgeschlossen. | L15: =IFERROR(ROUND(P15*5,2),"") | M15: Arbeitsstunden pro Tag | P15: =IFERROR(ROUND(L106/250,2),"")
A18: Eingabehilfen:
A19: Reinigungsgruppe gemäß "1. Legende RH und RG" | E19: A | F19: B | G19: C | H19: D | I19: E | J19: F | K19: G | L19: H | M19: I | N19: J | O19: K
A20: Leistungswert (m²/h)
A22: Aufmaß / Flächenverzeichnis | I22: Einzelraumkalkulation
A23: Gebäude | B23: Geschoss | C23: Raum Nr. | D23: Raumbezeichnung | E23: Bodenbelag | F23: Boden- fläche | G23: Turnus / Reinigungs- häufigkeit gemäß "1. Legende RH und RG" | H23: Reinigungs- gruppen gemäß "1. Legende RH und RG" | I23: Reinigungs- tage / Jahr gemäß "1. Legende RH und RG" | J23: Reinigungs- fläche pro Jahr | K23: Leistungswert in m² pro Stunde | L23: Stunden pro Jahr | M23: Stunden pro Reinigungstag hh:mm:ss | N23: Stunden-verrechnungs-satz gemäß "3. Kalk. SVS UR" | O23: Kosten pro Jahr (netto) | P23: Kosten pro Monat (netto) | Q23: Kosten pro Reinigungstag (netto) | R23: Bemerkung
A24: BMS | B24: KG | C24: K008 | D24: Dusche | E24: Fliesen | F24: 9.28 | G24: 5 | H24: C | I24: =VLOOKUP(G24,'1. Legende RH und RG'!$A$15:$D$20,3,FALSE) -> 250 | J24: =F24*I24 -> 2320 | K24: =ROUND(HLOOKUP(H24,$E$19:$O$20,2,FALSE),2) -> 0 | L24: =J24/ROUND(K24,2) -> #DIV/0! | M24: =(ROUND(L24/I24,2))/24 -> #DIV/0! | N24: ='3. Kalk. SVS UR'!$F$52 | O24: =ROUND(ROUND(N24,2)*L24,2) -> #VALUE! | P24: =ROUND(O24/12,2) -> #VALUE! | Q24: =ROUND(O24/I24,2) -> #VALUE!
A25: BMS | B25: KG | C25: K009 | D25: Besprechungsraum | E25: Teppich | F25: 19.35 | G25: 3 | H25: B | I25: =VLOOKUP(G25,'1. Legende RH und RG'!$A$15:$D$20,3,FALSE) -> 156 | J25: =F25*I25 -> 3018.6 | K25: =ROUND(HLOOKUP(H25,$E$19:$O$20,2,FALSE),2) -> 0 | L25: =J25/ROUND(K25,2) -> #DIV/0! | M25: =(ROUND(L25/I25,2))/24 -> #DIV/0! | N25: ='3. Kalk. SVS UR'!$F$52 | O25: =ROUND(ROUND(N25,2)*L25,2) -> #VALUE! | P25: =ROUND(O25/12,2) -> #VALUE! | Q25: =ROUND(O25/I25,2) -> #VALUE!
A26: BMS | B26: KG | C26: K010 | D26: Technikraum | E26: Linoleum | F26: 23.25 | G26: 2 | H26: K | I26: =VLOOKUP(G26,'1. Legende RH und RG'!$A$15:$D$20,3,FALSE) -> 104 | J26: =F26*I26 -> 2418 | K26: =ROUND(HLOOKUP(H26,$E$19:$O$20,2,FALSE),2) -> 0 | L26: =J26/ROUND(K26,2) -> #DIV/0! | M26: =(ROUND(L26/I26,2))/24 -> #DIV/0! | N26: ='3. Kalk. SVS UR'!$F$52 | O26: =ROUND(ROUND(N26,2)*L26,2) -> #VALUE! | P26: =ROUND(O26/12,2) -> #VALUE! | Q26: =ROUND(O26/I26,2) -> #VALUE!
A27: BMS | B27: KG | C27: K013 | D27: Treppe | E27: Beton | F27: 8.76 | G27: 3 | H27: J | I27: =VLOOKUP(G27,'1. Legende RH und RG'!$A$15:$D$20,3,FALSE) -> 156 | J27: =F27*I27 -> 1366.56 | K27: =ROUND(HLOOKUP(H27,$E$19:$O$20,2,FALSE),2) -> 0 | L27: =J27/ROUND(K27,2) -> #DIV/0! | M27: =(ROUND(L27/I27,2))/24 -> #DIV/0! | N27: ='3. Kalk. SVS UR'!$F$52 | O27: =ROUND(ROUND(N27,2)*L27,2) -> #VALUE! | P27: =ROUND(O27/12,2) -> #VALUE! | Q27: =ROUND(O27/I27,2) -> #VALUE!
A28: BMS | B28: KG | C28: K015 | D28: Flur | E28: Linoleum | F28: 47.94 | G28: 2 | H28: H | I28: =VLOOKUP(G28,'1. Legende RH und RG'!$A$15:$D$20,3,FALSE) -> 104 | J28: =F28*I28 -> 4985.76 | K28: =ROUND(HLOOKUP(H28,$E$19:$O$20,2,FALSE),2) -> 0 | L28: =J28/ROUND(K28,2) -> #DIV/0! | M28: =(ROUND(L28/I28,2))/24 -> #DIV/0! | N28: ='3. Kalk. SVS UR'!$F$52 | O28: =ROUND(ROUND(N28,2)*L28,2) -> #VALUE! | P28: =ROUND(O28/12,2) -> #VALUE! | Q28: =ROUND(O28/I28,2) -> #VALUE!
A29: BMS | B29: KG | C29: K016 | D29: Putzraum | E29: Linoleum | F29: 5.17 | G29: M1 | H29: K | I29: =VLOOKUP(G29,'1. Legende RH und RG'!$A$15:$D$20,3,FALSE) -> 12 | J29: =F29*I29 -> 62.04 | K29: =ROUND(HLOOKUP(H29,$E$19:$O$20,2,FALSE),2) -> 0 | L29: =J29/ROUND(K29,2) -> #DIV/0! | M29: =(ROUND(L29/I29,2))/24 -> #DIV/0! | N29: ='3. Kalk. SVS UR'!$F$52 | O29: =ROUND(ROUND(N29,2)*L29,2) -> #VALUE! | P29: =ROUND(O29/12,2) -> #VALUE! | Q29: =ROUND(O29/I29,2) -> #VALUE!
A30: BMS | B30: EG | C30: 001 | D30: Poststelle | E30: Teppich | F30: 22.52 | G30: 2 | H30: A | I30: =VLOOKUP(G30,'1. Legende RH und RG'!$A$15:$D$20,3,FALSE) -> 104 | J30: =F30*I30 -> 2342.08 | K30: =ROUND(HLOOKUP(H30,$E$19:$O$20,2,FALSE),2) -> 0 | L30: =J30/ROUND(K30,2) -> #DIV/0! | M30: =(ROUND(L30/I30,2))/24 -> #DIV/0! | N30: ='3. Kalk. SVS UR'!$F$52 | O30: =ROUND(ROUND(N30,2)*L30,2) -> #VALUE! | P30: =ROUND(O30/12,2) -> #VALUE! | Q30: =ROUND(O30/I30,2) -> #VALUE!
A31: BMS | B31: EG | C31: 002 | D31: Büro | E31: Teppich | F31: 22.74 | G31: 2 | H31: A | I31: =VLOOKUP(G31,'1. Legende RH und RG'!$A$15:$D$20,3,FALSE) -> 104 | J31: =F31*I31 -> 2364.96 | K31: =ROUND(HLOOKUP(H31,$E$19:$O$20,2,FALSE),2) -> 0 | L31: =J31/ROUND(K31,2) -> #DIV/0! | M31: =(ROUND(L31/I31,2))/24 -> #DIV/0! | N31: ='3. Kalk. SVS UR'!$F$52 | O31: =ROUND(ROUND(N31,2)*L31,2) -> #VALUE! | P31: =ROUND(O31/12,2) -> #VALUE! | Q31: =ROUND(O31/I31,2) -> #VALUE!
A32: BMS | B32: EG | C32: 003 | D32: Büro | E32: Teppich | F32: 15.42 | G32: 2 | H32: A | I32: =VLOOKUP(G32,'1. Legende RH und RG'!$A$15:$D$20,3,FALSE) -> 104 | J32: =F32*I32 -> 1603.68 | K32: =ROUND(HLOOKUP(H32,$E$19:$O$20,2,FALSE),2) -> 0 | L32: =J32/ROUND(K32,2) -> #DIV/0! | M32: =(ROUND(L32/I32,2))/24 -> #DIV/0! | N32: ='3. Kalk. SVS UR'!$F$52 | O32: =ROUND(ROUND(N32,2)*L32,2) -> #VALUE! | P32: =ROUND(O32/12,2) -> #VALUE! | Q32: =ROUND(O32/I32,2) -> #VALUE!
A33: BMS | B33: EG | C33: 004 | D33: Büro | E33: Teppich | F33: 15.49 | G33: 2 | H33: A | I33: =VLOOKUP(G33,'1. Legende RH und RG'!$A$15:$D$20,3,FALSE) -> 104 | J33: =F33*I33 -> 1610.96 | K33: =ROUND(HLOOKUP(H33,$E$19:$O$20,2,FALSE),2) -> 0 | L33: =J33/ROUND(K33,2) -> #DIV/0! | M33: =(ROUND(L33/I33,2))/24 -> #DIV/0! | N33: ='3. Kalk. SVS UR'!$F$52 | O33: =ROUND(ROUND(N33,2)*L33,2) -> #VALUE! | P33: =ROUND(O33/12,2) -> #VALUE! | Q33: =ROUND(O33/I33,2) -> #VALUE!
A34: BMS | B34: EG | C34: 005 | D34: Büro | E34: Teppich | F34: 26.18 | G34: 2 | H34: A | I34: =VLOOKUP(G34,'1. Legende RH und RG'!$A$15:$D$20,3,FALSE) -> 104 | J34: =F34*I34 -> 2722.72 | K34: =ROUND(HLOOKUP(H34,$E$19:$O$20,2,FALSE),2) -> 0 | L34: =J34/ROUND(K34,2) -> #DIV/0! | M34: =(ROUND(L34/I34,2))/24 -> #DIV/0! | N34: ='3. Kalk. SVS UR'!$F$52 | O34: =ROUND(ROUND(N34,2)*L34,2) -> #VALUE! | P34: =ROUND(O34/12,2) -> #VALUE! | Q34: =ROUND(O34/I34,2) -> #VALUE!
A35: BMS | B35: EG | C35: 006 | D35: Büro | E35: Teppich | F35: 22.41 | G35: 2 | H35: A | I35: =VLOOKUP(G35,'1. Legende RH und RG'!$A$15:$D$20,3,FALSE) -> 104 | J35: =F35*I35 -> 2330.64 | K35: =ROUND(HLOOKUP(H35,$E$19:$O$20,2,FALSE),2) -> 0 | L35: =J35/ROUND(K35,2) -> #DIV/0! | M35: =(ROUND(L35/I35,2))/24 -> #DIV/0! | N35: ='3. Kalk. SVS UR'!$F$52 | O35: =ROUND(ROUND(N35,2)*L35,2) -> #VALUE! | P35: =ROUND(O35/12,2) -> #VALUE! | Q35: =ROUND(O35/I35,2) -> #VALUE!
A36: BMS | B36: EG | C36: 007 | D36: Büro | E36: Teppich | F36: 33.28 | G36: 2 | H36: A | I36: =VLOOKUP(G36,'1. Legende RH und RG'!$A$15:$D$20,3,FALSE) -> 104 | J36: =F36*I36 -> 3461.12 | K36: =ROUND(HLOOKUP(H36,$E$19:$O$20,2,FALSE),2) -> 0 | L36: =J36/ROUND(K36,2) -> #DIV/0! | M36: =(ROUND(L36/I36,2))/24 -> #DIV/0! | N36: ='3. Kalk. SVS UR'!$F$52 | O36: =ROUND(ROUND(N36,2)*L36,2) -> #VALUE! | P36: =ROUND(O36/12,2) -> #VALUE! | Q36: =ROUND(O36/I36,2) -> #VALUE!
A37: BMS | B37: EG | C37: 008 | D37: Kop/Teeküche | E37: Linoleum | F37: 10.6 | G37: 5 | H37: D | I37: =VLOOKUP(G37,'1. Legende RH und RG'!$A$15:$D$20,3,FALSE) -> 250 | J37: =F37*I37 -> 2650 | K37: =ROUND(HLOOKUP(H37,$E$19:$O$20,2,FALSE),2) -> 0 | L37: =J37/ROUND(K37,2) -> #DIV/0! | M37: =(ROUND(L37/I37,2))/24 -> #DIV/0! | N37: ='3. Kalk. SVS UR'!$F$52 | O37: =ROUND(ROUND(N37,2)*L37,2) -> #VALUE! | P37: =ROUND(O37/12,2) -> #VALUE! | Q37: =ROUND(O37/I37,2) -> #VALUE!
A38: BMS | B38: EG | C38: 009 | D38: Büro | E38: Teppich | F38: 20.85 | G38: 2 | H38: A | I38: =VLOOKUP(G38,'1. Legende RH und RG'!$A$15:$D$20,3,FALSE) -> 104 | J38: =F38*I38 -> 2168.4 | K38: =ROUND(HLOOKUP(H38,$E$19:$O$20,2,FALSE),2) -> 0 | L38: =J38/ROUND(K38,2) -> #DIV/0! | M38: =(ROUND(L38/I38,2))/24 -> #DIV/0! | N38: ='3. Kalk. SVS UR'!$F$52 | O38: =ROUND(ROUND(N38,2)*L38,2) -> #VALUE! | P38: =ROUND(O38/12,2) -> #VALUE! | Q38: =ROUND(O38/I38,2) -> #VALUE!
A39: BMS | B39: EG | C39: 010 | D39: Büro | E39: Teppich | F39: 13.49 | G39: 2 | H39: A | I39: =VLOOKUP(G39,'1. Legende RH und RG'!$A$15:$D$20,3,FALSE) -> 104 | J39: =F39*I39 -> 1402.96 | K39: =ROUND(HLOOKUP(H39,$E$19:$O$20,2,FALSE),2) -> 0 | L39: =J39/ROUND(K39,2) -> #DIV/0! | M39: =(ROUND(L39/I39,2))/24 -> #DIV/0! | N39: ='3. Kalk. SVS UR'!$F$52 | O39: =ROUND(ROUND(N39,2)*L39,2) -> #VALUE! | P39: =ROUND(O39/12,2) -> #VALUE! | Q39: =ROUND(O39/I39,2) -> #VALUE!
A40: BMS | B40: EG | C40: 011 | D40: Beh.-WC/D | E40: Fliesen | F40: 5.06 | G40: 5 | H40: C | I40: =VLOOKUP(G40,'1. Legende RH und RG'!$A$15:$D$20,3,FALSE) -> 250 | J40: =F40*I40 -> 1265 | K40: =ROUND(HLOOKUP(H40,$E$19:$O$20,2,FALSE),2) -> 0 | L40: =J40/ROUND(K40,2) -> #DIV/0! | M40: =(ROUND(L40/I40,2))/24 -> #DIV/0! | N40: ='3. Kalk. SVS UR'!$F$52 | O40: =ROUND(ROUND(N40,2)*L40,2) -> #VALUE! | P40: =ROUND(O40/12,2) -> #VALUE! | Q40: =ROUND(O40/I40,2) -> #VALUE!
A41: BMS | B41: EG | C41: 012 | D41: Windfang | E41: Terrazzo | F41: 5.67 | G41: 5 | H41: I | I41: =VLOOKUP(G41,'1. Legende RH und RG'!$A$15:$D$20,3,FALSE) -> 250 | J41: =F41*I41 -> 1417.5 | K41: =ROUND(HLOOKUP(H41,$E$19:$O$20,2,FALSE),2) -> 0 | L41: =J41/ROUND(K41,2) -> #DIV/0! | M41: =(ROUND(L41/I41,2))/24 -> #DIV/0! | N41: ='3. Kalk. SVS UR'!$F$52 | O41: =ROUND(ROUND(N41,2)*L41,2) -> #VALUE! | P41: =ROUND(O41/12,2) -> #VALUE! | Q41: =ROUND(O41/I41,2) -> #VALUE!
... A104: BMS | B104: 4. OG | C104: 414 | D104: Flur | E104: Parkett | F104: 25.44 | G104: 2 | H104: H | I104: =VLOOKUP(G104,'1. Legende RH und RG'!$A$15:$D$20,3,FALSE) -> 104 | J104: =F104*I104 -> 2645.76 | K104: =ROUND(HLOOKUP(H104,$E$19:$O$20,2,FALSE),2) -> 0 | L104: =J104/ROUND(K104,2) -> #DIV/0! | M104: =(ROUND(L104/I104,2))/24 -> #DIV/0! | N104: ='3. Kalk. SVS UR'!$F$52 | O104: =ROUND(ROUND(N104,2)*L104,2) -> #VALUE! | P104: =ROUND(O104/12,2) -> #VALUE! | Q104: =ROUND(O104/I104,2) -> #VALUE!
A105: BMS | D105: Aufzug | E105: Linoleum | F105: 3.4 | G105: 5 | H105: G | I105: =VLOOKUP(G105,'1. Legende RH und RG'!$A$15:$D$20,3,FALSE) -> 250 | J105: =F105*I105 -> 850 | K105: =ROUND(HLOOKUP(H105,$E$19:$O$20,2,FALSE),2) -> 0 | L105: =J105/ROUND(K105,2) -> #DIV/0! | M105: =(ROUND(L105/I105,2))/24 -> #DIV/0! | N105: ='3. Kalk. SVS UR'!$F$52 | O105: =ROUND(ROUND(N105,2)*L105,2) -> #VALUE! | P105: =ROUND(O105/12,2) -> #VALUE! | Q105: =ROUND(O105/I105,2) -> #VALUE!
A106: Summe: | F106: =SUM(F24:F105) -> 1675.23 | J106: =SUM(J24:J105) -> 214603.78 | L106: =SUM(L24:L105) -> #DIV/0! | O106: =IFERROR(SUM(O24:O105),"Preis fehlt") -> Preis fehlt | P106: =IFERROR(SUM(P24:P105),"Preis fehlt") -> Preis fehlt
A109: Räume und Flächen ohne turnusmäßige Reinigung - ggf. Sonderreinigung
A111: BMS | B111: KG | C111: K001 | D111: Elektroverteilung-Telefonverteilung | E111: Linoleum | F111: 21.09
A112: BMS | B112: KG | C112: K002 | D112: Aktenregistratur | E112: Linoleum | F112: 25.09
A113: BMS | B113: KG | C113: K003 | D113: Aktenregistratur | E113: Linoleum | F113: 31.22
...

Sheet 5. Preisblatt SR
A1: =Inhaltsverzeichnis!A1 -> Vergabeverfahren im Geschäftsbereich des Bayerischen Staatsministerium für Wohnen, Bau und Verkehr
A3: =Inhaltsverzeichnis!A3 -> StBA Augsburg: Unterhaltsreinigung zwei Dienstgebäude in Augsburg Excel-Teil: Leistungsverzeichnis (Anlage 1)
A5: =Inhaltsverzeichnis!A15 -> 5. Sonderreinigung / Regiearbeiten Preisblatt
B7: =Inhaltsverzeichnis!B5 -> Staatliches Bauamt Augsburg
B8: =Inhaltsverzeichnis!B6 -> LBD-26-15-271
A9: Bieter: | B9: ='3. Kalk. SVS UR'!C7 -> 0
A11: Einzelpreise für Sonderreinigung / Regiearbeiten
A12: Es gelten die Bestimmungen gemäß Nr. 2.6 der Leistungsbeschreibung. Der zu erwartende Umfang an Sonderarbeiten wurde aufgrund von Erfahrungswerten geschätzt (Prognose). Der tatsächliche (jährliche) Umfang der Sonderarbeiten während der Vertragslaufzeit kann daher abweichen. Es besteht kein Anspruch auf Beauftragung. Der hier vorgegebene Wert ist jedoch den Angeboten zugrunde zu legen und ist Bestandteil der Angebotswertung.
A13: Bitte beachten Sie:
A14: - Die Arbeiten werden auch für einzelne Räume in Auftrag gegeben.
A15: - Die aufgeführten Arbeiten sind laut den Definitionen der Leistungsarten (Anlage 2) auszuführen.
A16: - Die Vergütung bestimmt sich gemäß Nr. 4.2 der Leistungsbeschreibung
A18: Position 1: Preise nach Zeitaufwand (Regieleistung werktags) | F18: Stunden jährlich ca. | G18: Stunden-verrechnungs-satz gemäß "3. Kalk. SVS UR" | H18: Jahressumme
A19: 1. | B19: Reinigung von Ausstattung, Einrichtung, Decken und Wänden (z. B. nass reinigen von vorher ausgeräumten Möbeln innen, Heizkörper und -leitungen reinigen, Wand- und Deckenlampen reinigen, ...) | F19: 40 | G19: =IF('3. Kalk. SVS UR'!$F$52="","",'3. Kalk. SVS UR'!$F$52) | H19: =IF(G19="","",ROUND(SUM(F19*(ROUND(G19,2))),2))
C21: Summe Position 1 jährlich | H21: =IF(H19="","Preis fehlt",SUM(H19:H19)) -> Preis fehlt
A23: Position 2: Preise nach Fläche in m² (werktags) | C23: Häufigkeit im Jahr | D23: Bodenfläche in m² | E23: Leistungswert in m² / je Stunde | F23: Stunden-verrechnungs-satz gemäß "3. Kalk. SVS UR" | G23: Preis je m² Bodenfläche | H23: Jahressumme
A24: 2.1 | B24: Grundreinigung Bodenflächen Teppichboden | C24: 5 | D24: 40 | F24: ='3. Kalk. SVS UR'!$F$52 | G24: =IF(OR(E24="",F24=""),"",ROUND(D24/E24*(ROUND(F24,2)/D24),2)) | H24: =IF(E24="","",C24*D24*G24)
A25: 2.2 | B25: Kehren Kellerflächen | C25: 2 | D25: 200 | F25: ='3. Kalk. SVS UR'!$F$52 | G25: =IF(OR(E25="",F25=""),"",ROUND(D25/E25*(ROUND(F25,2)/D25),2)) | H25: =IF(E25="","",C25*D25*G25)
A26: 2.3 | B26: zweistufiges Nasswischen, Absatzstriche sind zu entfernen: siehe Aufmaß in '4.1 und 4.2 Preisblatt UR Flächen ohne turnunsmäßige Reinigung | C26: 2 | D26: 655 | F26: ='3. Kalk. SVS UR'!$F$52 | G26: =IF(OR(E26="",F26=""),"",ROUND(D26/E26*(ROUND(F26,2)/D26),2)) | H26: =IF(E26="","",C26*D26*G26)
C28: Summe Positionen 2 jährlich | H28: =IFERROR(SUM(H24:H26),"Preis fehlt") -> 0
A30: Position 3: Preise je Ausführung (werktags) | F30: Häufigkeit im Jahr | G30: Preis je Ausführung/Tag | H30: Jahressumme
A31: 3.1 | B31: Besprechung mit der Objektleitung gemäß Nr. 3.2 der Leistungsbeschreibung | F31: 12 | H31: =IF(G31="","",ROUND(F31*(ROUND(G31,2)),2))
C33: Summe Positionen 3 jährlich | H33: =IF(OR(H31="",H31=""),"Preis fehlt",SUM(H31:H31)) -> Preis fehlt
C35: Gesamtsumme Sonderreinigung / Regiearbeiten jährlich | H35: =IF(OR(SR_Summe_Pos.1="Preis fehlt",SR_Summe_Pos.2="Preis fehlt",SR_Summe_Pos.3="Preis fehlt"),"Preis fehlt",SUM(SR_Summe_Pos.1,SR_Summe_Pos.2,SR_Summe_Pos.3)) -> Preis fehlt

Sheet 6. Angebotssumme
A1: =Inhaltsverzeichnis!A1 -> Vergabeverfahren im Geschäftsbereich des Bayerischen Staatsministerium für Wohnen, Bau und Verkehr
A3: =Inhaltsverzeichnis!A3 -> StBA Augsburg: Unterhaltsreinigung zwei Dienstgebäude in Augsburg Excel-Teil: Leistungsverzeichnis (Anlage 1)
A5: =Inhaltsverzeichnis!A16 -> 6. Angebotssumme
A7: Auftraggeber: | C7: =Inhaltsverzeichnis!B5 -> Staatliches Bauamt Augsburg
A8: Vergabenr.: | C8: =Inhaltsverzeichnis!B6 -> LBD-26-15-271
A9: =Inhaltsverzeichnis!A7 -> maximale Vertragslaufzeit: | C9: =Inhaltsverzeichnis!B7 -> 01.02.2027 bis 31.01.2032
A10: Bieter: | B10: ='3. Kalk. SVS UR'!C7 -> 0
B12: Laufzeit einschließlich Verlängerungsoptionen | F12: 5
B14: Position | C14: Leistung | F14: Kosten Vertragslaufzeit | G14: Jahreskosten | H14: Monatskosten*)
B15: 1 | C15: Unterhaltsreinigung Holbeinstraße (Gesamtsumme aus 4.1 Preisblatt UR HBS) | F15: =IFERROR(G15*$F$12,"") | G15: ='4.1 Preisblatt UR HBS'!O190 -> Preis fehlt | H15: ='4.1 Preisblatt UR HBS'!P190 -> Preis fehlt
B16: 2 | C16: Unterhaltsreinigung DG Burkmairstraße (Gesamtsumme aus 4.2 Preisblatt UR BMS) | F16: =IFERROR(G16*$F$12,"") | G16: ='4.2 Preisblatt UR BMS'!O106 -> Preis fehlt | H16: ='4.2 Preisblatt UR BMS'!P106 -> Preis fehlt
B17: 3 | C17: Sonderreinigung/ Regiearbeiten Unterhaltsreinigung (Gesamtsumme Sonderreinigung/ Regiearbeiten aus 5. Preisblatt SR) | F17: =IFERROR(G17*$F$12,"") | G17: ='5. Preisblatt SR'!H35 -> Preis fehlt
B18: 4 | C18: Objektübergabe (Summe aus 4.1 Preisblatt UR HBS ) | F18: ='4.1 Preisblatt UR HBS'!I18 -> Preis fehlt
B20: Angebotsendsumme netto (Pos. 1 - Pos. 4) | F20: =IF(OR(F15="",F16="",F17="",F18=""),"Preisangabe fehlt",SUM(F15:F18)) -> Preisangabe fehlt | G20: =IF(OR(G15="Preis fehlt",G16="Preis fehlt",G17="Preis fehlt"),"Preisangabe fehlt",SUM(G15:G17)) -> Preisangabe fehlt | H20: =IF(OR(H15="Preis fehlt",H16="Preis fehlt"),"Preisangabe fehlt",SUM(H15:H16)) -> Preisangabe fehlt
B22: Umsatzsteuer | D22: (Eintragung des Prozentwertes) | F22: =IF(Ust="","Umsatzsteuer fehlt",ROUND(Netto*Ust,2)) -> Umsatzsteuer fehlt | G22: =IF(Ust="","Umsatzsteuer fehlt",ROUND(G20*Ust,2)) -> Umsatzsteuer fehlt | H22: =IF(Ust="","Umsatzsteuer fehlt",ROUND(H20*Ust,2)) -> Umsatzsteuer fehlt
B24: Angebotsendsumme brutto wird in Ziffer 2 des Angebotsschreibens - Formblatt L213 - übertragen | F24: =IF(Ust="","Angebotspreis fehlt",Netto+F22) -> Angebotspreis fehlt | G24: =IF($E$22="","Angebotspreis fehlt",G20+G22) -> Angebotspreis fehlt | H24: =IF($E$22="","Angebotspreis fehlt",H20+H22) -> Angebotspreis fehlt
B26: Preisnachlass ohne Bedingung auf die Abrechnungssumme für Hauptangebote wird in Ziffer 4 des Angebotsschreibens - Formblatt L213 - übertragen | D26: (Eintragung des Prozentwertes) | F26: =IF(Nachlass_Prozent="","",ROUND(Brutto*Nachlass_Prozent,2)) | G26: =IF(Nachlass_Prozent="","",ROUND(G24*Nachlass_Prozent,2)) | H26: =IF(Nachlass_Prozent="","",ROUND(H24*Nachlass_Prozent,2))
B28: Gesamtsumme brutto einschl. Nachlass (= Wertungssumme) | F28: =IF(Nachlass_Prozent="",Brutto,Brutto-Nachlass_Absolut) -> Angebotspreis fehlt | G28: =IF(Nachlass_Prozent="",G24,G24-G26) -> Angebotspreis fehlt | H28: =IF(Nachlass_Prozent="",H24,H24-H26) -> Angebotspreis fehlt
A31: *) Entspricht der monatlichen Pauschalvergütung gemäß Nr. 4.1 der Leistungsbeschreibung.

Sheet Änderungen
A1: Datum | B1: Name | C1: Änderung
A2: 44894 | B2: CF | C2: in 3.1 Preisblatt UR: Aufmaß filtern bei Blattschutz
