Workbook

Sheet Haus 1
A2: Gebäude | B2: Etage | C2: Raum- Nr. | D2: Raumbezeichnung | E2: Belagsart | F2: Grundfläche QM | G2: Raumgruppe | H2: Reinigungshäufigkeit Reinigen der Fußböden und Einrichtungsgegenstände (einschließlich der Arbeitsplätze) | O2: Bemerkungen
H3: wöchentlich in QM | K3: monatlich in QM | L3: vierteljährig in QM | M3: halbjährig in QM | N3: jährlich in QM
H4: 5x | I4: 2x | J4: 1x | K4: 1x | L4: 1x | M4: 1x | N4: 1x
A5: Haus 1 | B5: 1. OG | C5: 01 | D5: Büro | E5: Teppichboden | F5: 14.74 | G5: A | J5: =F5 -> 14.74
A6: Haus 1 | B6: 1. OG | C6: 02 | D6: Büro | E6: Teppichboden | F6: 33.19 | G6: A | J6: =F6 -> 33.19
A7: Haus 1 | B7: 1. OG | C7: 03 | D7: Büro | E7: Teppichboden | F7: 23.51 | G7: A | J7: =F7 -> 23.51
A8: Haus 1 | B8: 1. OG | C8: 04 | D8: Büro | E8: Teppichboden | F8: 23.22 | G8: A | J8: =F8 -> 23.22
A9: Haus 1 | B9: 1. OG | C9: 05 | D9: Büro | E9: Teppichboden | F9: 22.99 | G9: A | J9: =F9 -> 22.99
A10: Haus 1 | B10: 1. OG | C10: 06 | D10: Büro | E10: Teppichboden | F10: 22.99 | G10: A | J10: =F10 -> 22.99
A11: Haus 1 | B11: 1. OG | C11: 07 | D11: Büro | E11: Teppichboden | F11: 26.02 | G11: A | J11: =F11 -> 26.02
A12: Haus 1 | B12: 1. OG | C12: 08 | D12: Büro | E12: Teppichboden | F12: 24.18 | G12: A | J12: =F12 -> 24.18
A13: Haus 1 | B13: 1. OG | C13: 09 | D13: Büro | E13: Teppichboden | F13: 23.38 | G13: A | J13: =F13 -> 23.38
A14: Haus 1 | B14: 1. OG | C14: 10 | D14: Büro | E14: Teppichboden | F14: 22.63 | G14: A | J14: =F14 -> 22.63
A15: Haus 1 | B15: 1. OG | C15: 11 | D15: Büro | E15: Teppichboden | F15: 22.63 | G15: A | J15: =F15 -> 22.63
A16: Haus 1 | B16: 1. OG | C16: 12a | D16: Bürotechnik | E16: Teppichboden | F16: 11.25 | G16: F | J16: =F16 -> 11.25
... A26: Haus 1 | B26: 1. OG | C26: 21 | D26: Bürotechnik | E26: Teppichboden | F26: 6.35 | G26: F | J26: =F26 -> 6.35
A27: Haus 1 | B27: 1. OG | C27: 31 | D27: Küche | E27: PVC oder Fliesen | F27: 3.24 | G27: D1 | H27: =F27 -> 3.24
A28: Haus 1 | B28: 1. OG | C28: 32a | D28: WC | E28: Fliesen | F28: 3.89 | G28: E | H28: =F28 -> 3.89
A29: Haus 1 | B29: 1. OG | C29: 32b | D29: WC | E29: Fliesen | F29: 14.43 | G29: E | H29: =F29 -> 14.43
A30: Haus 1 | B30: 1. OG | C30: 33 | D30: Flur | E30: Teppichboden | F30: 11.82 | G30: I | J30: =F30 -> 11.82
A31: Haus 1 | B31: 1. OG | C31: 34 | D31: Treppenhaus | E31: Stein | F31: 15.71 | G31: J2 | J31: =F31 -> 15.71
A32: Haus 1 | B32: 1. OG | C32: 36a | D32: WC | E32: Fliesen | F32: 3.89 | G32: E | H32: =F32 -> 3.89
A33: Haus 1 | B33: 1. OG | C33: 36b | D33: WC | E33: Fliesen | F33: 14.43 | G33: E | H33: =F33 -> 14.43
A34: Haus 1 | B34: 1. OG | C34: 37 | D34: Putzmittel | E34: PVC oder Fliesen | F34: 3.24 | G34: L | L34: =F34 -> 3.24
A35: Haus 1 | B35: 1. OG | C35: 40 | D35: Flur | E35: Teppichboden | F35: 8.09 | G35: I | J35: =F35 -> 8.09
A36: Haus 1 | B36: 1. OG | C36: 41 | D36: Flur | E36: Teppichboden | F36: 4.64 | G36: I | J36: =F36 -> 4.64
A37: Haus 1 | B37: 1. OG | C37: 42 | D37: Flur | E37: Teppichboden | F37: 5.58 | G37: I | J37: =F37 -> 5.58
A38: Haus 1 | B38: 1. OG | C38: 43 | D38: Flur | E38: Teppichboden | F38: 3.87 | G38: I | J38: =F38 -> 3.87
A39: Haus 1 | B39: 1. OG | C39: 46.1 | D39: Flur | E39: Teppichboden | F39: 71.54 | G39: I | J39: =F39 -> 71.54
A40: Haus 1 | B40: 1. OG | C40: 46.2 | D40: Flur | E40: Teppichboden | F40: 75.62 | G40: I | J40: =F40 -> 75.62
A41: Haus 1 | B41: 2. OG | C41: 01 | D41: Büro | E41: Teppichboden | F41: 17.53 | G41: A | J41: =F41 -> 17.53
A42: Haus 1 | B42: 2. OG | C42: 02 | D42: Büro | E42: Teppichboden | F42: 33.19 | G42: A | J42: =F42 -> 33.19
A43: Haus 1 | B43: 2. OG | C43: 03 | D43: Büro | E43: Teppichboden | F43: 23.39 | G43: A | J43: =F43 -> 23.39
A44: Haus 1 | B44: 2. OG | C44: 04 | D44: Büro | E44: Teppichboden | F44: 23.45 | G44: A | J44: =F44 -> 23.45
A45: Haus 1 | B45: 2. OG | C45: 05 | D45: Büro | E45: Teppichboden | F45: 23.1 | G45: A | J45: =F45 -> 23.1
A46: Haus 1 | B46: 2. OG | C46: 06 | D46: Büro | E46: Teppichboden | F46: 22.96 | G46: A | J46: =F46 -> 22.96
... A52: Haus 1 | B52: 2. OG | C52: 12 | D52: Büro | E52: Teppichboden | F52: 23.87 | G52: A | J52: =F52 -> 23.87
A53: Haus 1 | B53: 2. OG | C53: 13 | D53: Besprechung | E53: Teppichboden | F53: 46.03 | G53: C | H53: =F53 -> 46.03 | O53: Frühreinigung
A54: Haus 1 | B54: 2. OG | C54: 14 | D54: Büro | E54: Teppichboden | F54: 22.88 | G54: A | J54: =F54 -> 22.88
A55: Haus 1 | B55: 2. OG | C55: 15 | D55: Büro | E55: Teppichboden | F55: 23.09 | G55: A | J55: =F55 -> 23.09
A56: Haus 1 | B56: 2. OG | C56: 16 | D56: Büro | E56: Teppichboden | F56: 23.46 | G56: A | J56: =F56 -> 23.46
A57: Haus 1 | B57: 2. OG | C57: 17 | D57: Büro | E57: Teppichboden | F57: 23.46 | G57: A | J57: =F57 -> 23.46
A58: Haus 1 | B58: 2. OG | C58: 18 | D58: Büro | E58: Teppichboden | F58: 23.82 | G58: A | J58: =F58 -> 23.82
A59: Haus 1 | B59: 2. OG | C59: 19 | D59: Büro | E59: Teppichboden | F59: 17.22 | G59: A | J59: =F59 -> 17.22
A60: Haus 1 | B60: 2. OG | C60: 20 | D60: Büro | E60: Teppichboden | F60: 21.59 | G60: A | J60: =F60 -> 21.59
A61: Haus 1 | B61: 2. OG | C61: 31 | D61: Küche | E61: PVC oder Fliesen | F61: 3.24 | G61: D1 | H61: =F61 -> 3.24
A62: Haus 1 | B62: 2. OG | C62: 32a | D62: WC | E62: Fliesen | F62: 3.89 | G62: E | H62: =F62 -> 3.89
A63: Haus 1 | B63: 2. OG | C63: 32b | D63: WC | E63: Fliesen | F63: 14.43 | G63: E | H63: =F63 -> 14.43
A64: Haus 1 | B64: 2. OG | C64: 33 | D64: Flur | E64: Teppichboden | F64: 13.36 | G64: I | J64: =F64 -> 13.36
A65: Haus 1 | B65: 2. OG | C65: 34 | D65: Treppenhaus | E65: Stein | F65: 14.62 | G65: J2 | J65: =F65 -> 14.62
A66: Haus 1 | B66: 2. OG | C66: 36a | D66: WC | E66: Fliesen | F66: 3.89 | G66: E | H66: =F66 -> 3.89
A67: Haus 1 | B67: 2. OG | C67: 36b | D67: WC | E67: Fliesen | F67: 14.43 | G67: E | H67: =F67 -> 14.43
A68: Haus 1 | B68: 2. OG | C68: 37 | D68: Putzmittel | E68: PVC oder Fliesen | F68: 3.24 | G68: L | L68: =F68 -> 3.24
A69: Haus 1 | B69: 2. OG | C69: 40 | D69: Flur | E69: Teppichboden | F69: 5.8 | G69: I | J69: =F69 -> 5.8
A70: Haus 1 | B70: 2. OG | C70: 41 | D70: Flur | E70: Teppichboden | F70: 4.71 | G70: I | J70: =F70 -> 4.71
A71: Haus 1 | B71: 2. OG | C71: 43 | D71: Flur | E71: Teppichboden | F71: 7.87 | G71: I | J71: =F71 -> 7.87
A72: Haus 1 | B72: 2. OG | C72: 46.1 | D72: Flur | E72: Teppichboden | F72: 66.17 | G72: I | J72: =F72 -> 66.17
A73: Haus 1 | B73: 2. OG | C73: 46.2 | D73: Flur | E73: Teppichboden | F73: 58 | G73: I | J73: =F73 -> 58
A74: Haus 1 | B74: EG | C74: 01 | D74: Büro | E74: Teppichboden | F74: 27.19 | G74: A | J74: =F74 -> 27.19
A75: Haus 1 | B75: EG | C75: 02 | D75: Büro | E75: Teppichboden | F75: 23.02 | G75: A | J75: =F75 -> 23.02
A76: Haus 1 | B76: EG | C76: 03 | D76: Büro | E76: Teppichboden | F76: 26.41 | G76: A | J76: =F76 -> 26.41
A77: Haus 1 | B77: EG | C77: 04 | D77: Büro | E77: Teppichboden | F77: 23.19 | G77: A | J77: =F77 -> 23.19
A78: Haus 1 | B78: EG | C78: 05 | D78: Büro | E78: Teppichboden | F78: 17.63 | G78: A | J78: =F78 -> 17.63
A79: Haus 1 | B79: EG | C79: 06 | D79: Besprechung | E79: Teppichboden | F79: 33.16 | G79: C | H79: =F79 -> 33.16 | O79: Frühreinigung
A80: Haus 1 | B80: EG | C80: 07 | D80: Büro | E80: Teppichboden | F80: 23.64 | G80: A | J80: =F80 -> 23.64
A81: Haus 1 | B81: EG | C81: 08 | D81: Büro | E81: Teppichboden | F81: 35.54 | G81: A | J81: =F81 -> 35.54
A82: Haus 1 | B82: EG | C82: 09 | D82: Büro | E82: Teppichboden | F82: 23.45 | G82: A | J82: =F82 -> 23.45
A83: Haus 1 | B83: EG | C83: 10 | D83: Büro | E83: Teppichboden | F83: 23.84 | G83: A | J83: =F83 -> 23.84
A84: Haus 1 | B84: EG | C84: 11 | D84: Büro | E84: Teppichboden | F84: 24.12 | G84: A | J84: =F84 -> 24.12
A85: Haus 1 | B85: EG | C85: 12 | D85: Büro | E85: Teppichboden | F85: 27.42 | G85: A | J85: =F85 -> 27.42
A86: Haus 1 | B86: EG | C86: 13 | D86: Büro | E86: Teppichboden | F86: 23.07 | G86: A | J86: =F86 -> 23.07
A87: Haus 1 | B87: EG | C87: 14 | D87: Büro | E87: Teppichboden | F87: 23.9 | G87: A | J87: =F87 -> 23.9
A88: Haus 1 | B88: EG | C88: 15 | D88: Büro | E88: Teppichboden | F88: 23.9 | G88: A | J88: =F88 -> 23.9
A89: Haus 1 | B89: EG | C89: 16 | D89: Büro | E89: Teppichboden | F89: 24.78 | G89: A | J89: =F89 -> 24.78
A90: Haus 1 | B90: EG | C90: 17 | D90: Büro | E90: Teppichboden | F90: 17.38 | G90: A | J90: =F90 -> 17.38
A91: Haus 1 | B91: EG | C91: 18 | D91: Büro | E91: Teppichboden | F91: 21.64 | G91: A | J91: =F91 -> 21.64
A92: Haus 1 | B92: EG | C92: 31 | D92: Küche | E92: PVC oder Fliesen | F92: 3.12 | G92: D1 | H92: =F92 -> 3.12
A93: Haus 1 | B93: EG | C93: 32a | D93: WC | E93: Fliesen | F93: 4.03 | G93: E | H93: =F93 -> 4.03
A94: Haus 1 | B94: EG | C94: 32b | D94: WC | E94: Fliesen | F94: 14.43 | G94: E | H94: =F94 -> 14.43
A95: Haus 1 | B95: EG | C95: 33 | D95: Flur | E95: Teppichboden | F95: 10.97 | G95: I | J95: =F95 -> 10.97
A96: Haus 1 | B96: EG | C96: 34 | D96: Treppenhaus | E96: Stein | F96: 16.85 | G96: J2 | J96: =F96 -> 16.85
A97: Haus 1 | B97: EG | C97: 36a | D97: WC | E97: Fliesen | F97: 3.89 | G97: E | H97: =F97 -> 3.89
A98: Haus 1 | B98: EG | C98: 36b | D98: WC | E98: Fliesen | F98: 14.43 | G98: E | H98: =F98 -> 14.43
A99: Haus 1 | B99: EG | C99: 37 | D99: Putzmittel | E99: PVC oder Fliesen | F99: 3.24 | G99: L | L99: =F99 -> 3.24
A100: Haus 1 | B100: EG | C100: 40 | D100: Flur | E100: Teppichboden | F100: 5.73 | G100: I | J100: =F100 -> 5.73
A101: Haus 1 | B101: EG | C101: 41 | D101: Flur | E101: Teppichboden | F101: 5.64 | G101: I | J101: =F101 -> 5.64
A102: Haus 1 | B102: EG | C102: 42 | D102: Flur | E102: Teppichboden | F102: 5.39 | G102: I | J102: =F102 -> 5.39
A103: Haus 1 | B103: EG | C103: 43 | D103: Flur | E103: Teppichboden | F103: 9.09 | G103: I | J103: =F103 -> 9.09
A104: Haus 1 | B104: EG | C104: 44 | D104: Flur | E104: Teppichboden | F104: 35.13 | G104: I | J104: =F104 -> 35.13
A105: Haus 1 | B105: EG | C105: 45 | D105: Foyer | E105: Stein | F105: 228.85 | G105: H | H105: =F105 -> 228.85 | O105: Frühreinigung
A106: Haus 1 | B106: Keller | C106: 47 | D106: Treppenhaus | E106: Stein | F106: 29.41 | G106: J2 | J106: =F106 -> 29.41
F108: =SUM(F5:F107) -> 2268.92 | H108: =SUM(H5:H107) -> 427.7 | J108: =SUM(J5:J107) -> 1831.5 | L108: =SUM(L5:L107) -> 9.72

Sheet Haus 2
A2: Gebäude | B2: Etage | C2: Raum- Nr. | D2: Raumbezeichnung | E2: Belagsart | F2: Grundfläche QM | G2: Raumgruppe | H2: Reinigungshäufigkeit Reinigen der Fußböden und Einrichtungsgegenstände (einschließlich der Arbeitsplätze) | O2: Bemerkungen
H3: wöchentlich in QM | K3: monatlich in QM | L3: vierteljährig in QM | M3: halbjährig in QM | N3: jährlich in QM
H4: 5x | I4: 2x | J4: 1x | K4: 1x | L4: 1x | M4: 1x | N4: 1x
A5: Haus 2 | B5: 1. OG | C5: 01 | D5: Büro | E5: Teppichboden | F5: 15.15 | G5: A | J5: =F5 -> 15.15
A6: Haus 2 | B6: 1. OG | C6: 02 | D6: Büro | E6: Teppichboden | F6: 33.46 | G6: A | J6: =F6 -> 33.46
A7: Haus 2 | B7: 1. OG | C7: 03 | D7: Büro | E7: Teppichboden | F7: 14.97 | G7: A | J7: =F7 -> 14.97
A8: Haus 2 | B8: 1. OG | C8: 04 | D8: Büro | E8: Teppichboden | F8: 14.95 | G8: A | J8: =F8 -> 14.95
A9: Haus 2 | B9: 1. OG | C9: 05 | D9: Büro | E9: Teppichboden | F9: 14.8 | G9: A | J9: =F9 -> 14.8
A10: Haus 2 | B10: 1. OG | C10: 06 | D10: Büro | E10: Teppichboden | F10: 14.78 | G10: A | J10: =F10 -> 14.78
A11: Haus 2 | B11: 1. OG | C11: 07 | D11: Büro | E11: Teppichboden | F11: 25.26 | G11: A | J11: =F11 -> 25.26
A12: Haus 2 | B12: 1. OG | C12: 08 | D12: Büro | E12: Teppichboden | F12: 21.4 | G12: A | J12: =F12 -> 21.4
A13: Haus 2 | B13: 1. OG | C13: 09 | D13: Büro | E13: Teppichboden | F13: 14.96 | G13: A | J13: =F13 -> 14.96
A14: Haus 2 | B14: 1. OG | C14: 10 | D14: Büro | E14: Teppichboden | F14: 14.96 | G14: A | J14: =F14 -> 14.96
A15: Haus 2 | B15: 1. OG | C15: 11 | D15: IT-Technik | E15: PVC | F15: 14.96 | G15: F | J15: =F15 -> 14.96
A16: Haus 2 | B16: 1. OG | C16: 12 | D16: Sonderraum | E16: Teppichboden | F16: 14.96 | G16: F | J16: =F16 -> 14.96
... A26: Haus 2 | B26: 1. OG | C26: 23 | D26: Büro | E26: Teppichboden | F26: 12.57 | G26: A | J26: =F26 -> 12.57
A27: Haus 2 | B27: 1. OG | C27: 24 | D27: Lager | E27: Gummiboden | F27: 7.86 | G27: L | L27: =F27 -> 7.86
A28: Haus 2 | B28: 1. OG | C28: 25 | D28: Büro | E28: Teppichboden | F28: 14.09 | G28: A | J28: =F28 -> 14.09
A29: Haus 2 | B29: 1. OG | C29: 26 | D29: Büro | E29: Teppichboden | F29: 20.71 | G29: A | J29: =F29 -> 20.71
A30: Haus 2 | B30: 1. OG | C30: 27 | D30: Lager | E30: Gummiboden | F30: 7.08 | G30: L | L30: =F30 -> 7.08
A31: Haus 2 | B31: 1. OG | C31: 28 | D31: Büro | E31: Teppichboden | F31: 13.04 | G31: A | J31: =F31 -> 13.04
A32: Haus 2 | B32: 1. OG | C32: 29 | D32: Büro | E32: Teppichboden | F32: 12.89 | G32: A | J32: =F32 -> 12.89
A33: Haus 2 | B33: 1. OG | C33: 30 | D33: Büro | E33: Teppichboden | F33: 14.07 | G33: A | J33: =F33 -> 14.07
A34: Haus 2 | B34: 1. OG | C34: 31 | D34: Putzmittel | E34: PVC oder Fliesen | F34: 3.92 | G34: L | L34: =F34 -> 3.92
A35: Haus 2 | B35: 1. OG | C35: 32a | D35: WC | E35: Fliesen | F35: 5.28 | G35: E | H35: =F35 -> 5.28
A36: Haus 2 | B36: 1. OG | C36: 32b | D36: WC | E36: Fliesen | F36: 10.58 | G36: E | H36: =F36 -> 10.58
A37: Haus 2 | B37: 1. OG | C37: 33 | D37: Treppenhaus | E37: Stein | F37: 9.98 | G37: J2 | J37: =F37 -> 9.98
A38: Haus 2 | B38: 1. OG | C38: 34 | D38: Treppenhaus | E38: Stein | F38: 16.08 | G38: J2 | J38: =F38 -> 16.08
A39: Haus 2 | B39: 1. OG | C39: 36a | D39: WC | E39: Fliesen | F39: 5.28 | G39: E | H39: =F39 -> 5.28
A40: Haus 2 | B40: 1. OG | C40: 36b | D40: WC | E40: Fliesen | F40: 10.58 | G40: E | H40: =F40 -> 10.58
A41: Haus 2 | B41: 1. OG | C41: 37 | D41: Küche | E41: PVC oder Fliesen | F41: 3.92 | G41: J1 | H41: =F41 -> 3.92
A42: Haus 2 | B42: 1. OG | C42: 40 | D42: Flur | E42: Teppichboden | F42: 5.53 | G42: I | J42: =F42 -> 5.53
A43: Haus 2 | B43: 1. OG | C43: 43 | D43: Flur | E43: Teppichboden | F43: 6.72 | G43: I | J43: =F43 -> 6.72
A44: Haus 2 | B44: 1. OG | C44: 46.1 | D44: Flur | E44: Teppichboden | F44: 87.96 | G44: I | J44: =F44 -> 87.96
A45: Haus 2 | B45: 1. OG | C45: 46.2 | D45: Flur | E45: Teppichboden | F45: 74.92 | G45: I | J45: =F45 -> 74.92
A46: Haus 2 | B46: 1. OG | C46: 47 | D46: Treppenhaus | E46: Stein | F46: 14.68 | G46: J2 | J46: =F46 -> 14.68
A47: Haus 2 | B47: 2. OG | C47: 01 | D47: Büro | E47: Teppichboden | F47: 18.13 | G47: A | J47: =F47 -> 18.13
A48: Haus 2 | B48: 2. OG | C48: 02 | D48: Büro | E48: Teppichboden | F48: 24.97 | G48: A | J48: =F48 -> 24.97
A49: Haus 2 | B49: 2. OG | C49: 03 | D49: Büro | E49: Teppichboden | F49: 14.97 | G49: A | J49: =F49 -> 14.97
A50: Haus 2 | B50: 2. OG | C50: 04 | D50: Büro | E50: Teppichboden | F50: 14.96 | G50: A | J50: =F50 -> 14.96
A51: Haus 2 | B51: 2. OG | C51: 05 | D51: Büro | E51: Teppichboden | F51: 14.79 | G51: A | J51: =F51 -> 14.79
A52: Haus 2 | B52: 2. OG | C52: 06 | D52: Büro | E52: Teppichboden | F52: 14.78 | G52: A | J52: =F52 -> 14.78
A53: Haus 2 | B53: 2. OG | C53: 07 | D53: Büro | E53: Teppichboden | F53: 25.26 | G53: A | J53: =F53 -> 25.26
... A69: Haus 2 | B69: 2. OG | C69: 23 | D69: Büro | E69: Teppichboden | F69: 12.56 | G69: A | J69: =F69 -> 12.56
A70: Haus 2 | B70: 2. OG | C70: 24 | D70: Lager | E70: Gummiboden | F70: 7.55 | G70: L | L70: =F70 -> 7.55
A71: Haus 2 | B71: 2. OG | C71: 25 | D71: Büro | E71: Teppichboden | F71: 14.04 | G71: A | J71: =F71 -> 14.04
A72: Haus 2 | B72: 2. OG | C72: 26 | D72: Büro | E72: Teppichboden | F72: 20.65 | G72: A | J72: =F72 -> 20.65
A73: Haus 2 | B73: 2. OG | C73: 27 | D73: Lager | E73: Gummiboden | F73: 7.55 | G73: L | L73: =F73 -> 7.55
A74: Haus 2 | B74: 2. OG | C74: 28 | D74: Büro | E74: Teppichboden | F74: 12.43 | G74: A | J74: =F74 -> 12.43
A75: Haus 2 | B75: 2. OG | C75: 29 | D75: Büro | E75: Teppichboden | F75: 12.84 | G75: A | J75: =F75 -> 12.84
A76: Haus 2 | B76: 2. OG | C76: 30 | D76: Büro | E76: Teppichboden | F76: 14.02 | G76: A | J76: =F76 -> 14.02
A77: Haus 2 | B77: 2. OG | C77: 31 | D77: Putzmittel | E77: PVC oder Fliesen | F77: 4.25 | G77: L | L77: =F77 -> 4.25
A78: Haus 2 | B78: 2. OG | C78: 32a | D78: WC | E78: Fliesen | F78: 4.9 | G78: E | H78: =F78 -> 4.9
A79: Haus 2 | B79: 2. OG | C79: 32b | D79: WC | E79: Fliesen | F79: 10.58 | G79: E | H79: =F79 -> 10.58
A80: Haus 2 | B80: 2. OG | C80: 33 | D80: Treppenhaus | E80: Stein | F80: 10.48 | G80: J2 | J80: =F80 -> 10.48
A81: Haus 2 | B81: 2. OG | C81: 34 | D81: Treppenhaus | E81: Stein | F81: 15.58 | G81: J2 | J81: =F81 -> 15.58
A82: Haus 2 | B82: 2. OG | C82: 36a | D82: WC | E82: Fliesen | F82: 4.91 | G82: E | H82: =F82 -> 4.91
A83: Haus 2 | B83: 2. OG | C83: 36b | D83: WC | E83: Fliesen | F83: 10.58 | G83: E | H83: =F83 -> 10.58
A84: Haus 2 | B84: 2. OG | C84: 37 | D84: Küche | E84: PVC oder Fliesen | F84: 8.82 | G84: D1 | H84: =F84 -> 8.82
A85: Haus 2 | B85: 2. OG | C85: 40 | D85: Flur | E85: Teppichboden | F85: 6.12 | G85: I | J85: =F85 -> 6.12
A86: Haus 2 | B86: 2. OG | C86: 43 | D86: Flur | E86: Teppichboden | F86: 4.82 | G86: I | J86: =F86 -> 4.82
A87: Haus 2 | B87: 2. OG | C87: 46.1 | D87: Flur | E87: Teppichboden | F87: 87.01 | G87: I | J87: =F87 -> 87.01
A88: Haus 2 | B88: 2. OG | C88: 46.2 | D88: Flur | E88: Teppichboden | F88: 75.77 | G88: I | J88: =F88 -> 75.77
A89: Haus 2 | B89: 2. OG | C89: 47 | D89: Treppenhaus | E89: Stein | F89: 13.4 | G89: J2 | J89: =F89 -> 13.4
A90: Haus 2 | B90: EG | C90: 01 | D90: Bürotechnik | E90: Teppichboden | F90: 5.11 | G90: F | J90: =F90 -> 5.11
A91: Haus 2 | B91: EG | C91: 02 | D91: Büro | E91: Teppichboden | F91: 33.71 | G91: A | J91: =F91 -> 33.71
A92: Haus 2 | B92: EG | C92: 03 | D92: Büro | E92: Teppichboden | F92: 21.42 | G92: A | J92: =F92 -> 21.42
A93: Haus 2 | B93: EG | C93: 04 | D93: Sonderraum | E93: Teppichboden | F93: 21.31 | G93: A | J93: =F93 -> 21.31
A94: Haus 2 | B94: EG | C94: 05 | D94: Büro | E94: Teppichboden | F94: 14.71 | G94: A | J94: =F94 -> 14.71
A95: Haus 2 | B95: EG | C95: 06 | D95: Büro | E95: Teppichboden | F95: 33.9 | G95: A | J95: =F95 -> 33.9
A96: Haus 2 | B96: EG | C96: 07 | D96: Büro | E96: Teppichboden | F96: 21.63 | G96: A | J96: =F96 -> 21.63
... A107: Haus 2 | B107: EG | C107: 18 | D107: Bürotechnik | E107: Teppichboden | F107: 14.77 | G107: F | J107: =F107 -> 14.77
A108: Haus 2 | B108: EG | C108: 31 | D108: Putzmittel | E108: PVC oder Fliesen | F108: 4.26 | G108: L | L108: =F108 -> 4.26
A109: Haus 2 | B109: EG | C109: 32a | D109: WC | E109: Fliesen | F109: 4.9 | G109: E | H109: =F109 -> 4.9
A110: Haus 2 | B110: EG | C110: 32b | D110: WC | E110: Fliesen | F110: 10.58 | G110: E | H110: =F110 -> 10.58
A111: Haus 2 | B111: EG | C111: 33 | D111: Treppenhaus | E111: Stein | F111: 9.98 | G111: J2 | J111: =F111 -> 9.98
A112: Haus 2 | B112: EG | C112: 34 | D112: Treppenhaus | E112: Stein | F112: 16.08 | G112: J2 | J112: =F112 -> 16.08
A113: Haus 2 | B113: EG | C113: 36a | D113: WC | E113: Fliesen | F113: 4.9 | G113: E | H113: =F113 -> 4.9
A114: Haus 2 | B114: EG | C114: 36b | D114: WC | E114: Fliesen | F114: 10.58 | G114: E | H114: =F114 -> 10.58
A115: Haus 2 | B115: EG | C115: 37 | D115: Küche | E115: PVC oder Fliesen | F115: 4.26 | G115: D1 | H115: =F115 -> 4.26
A116: Haus 2 | B116: EG | C116: 40 | D116: Flur | E116: Teppichboden | F116: 5.22 | G116: I | J116: =F116 -> 5.22
A117: Haus 2 | B117: EG | C117: 41 | D117: Flur | E117: Teppichboden | F117: 6.8 | G117: I | J117: =F117 -> 6.8
A118: Haus 2 | B118: EG | C118: 42 | D118: Flur | E118: Teppichboden | F118: 6.67 | G118: I | J118: =F118 -> 6.67
A119: Haus 2 | B119: EG | C119: 43 | D119: Flur | E119: Teppichboden | F119: 6.68 | G119: I | J119: =F119 -> 6.68
A120: Haus 2 | B120: EG | C120: 44 | D120: Treppenhaus | E120: Stein | F120: 44.58 | G120: J2 | J120: =F120 -> 44.58
A121: Haus 2 | B121: EG | C121: 46.1 | D121: Flur | E121: Teppichboden | F121: 61.69 | G121: I | J121: =F121 -> 61.69
A122: Haus 2 | B122: EG | C122: 46.2 | D122: Flur | E122: Teppichboden | F122: 50.91 | G122: I | J122: =F122 -> 50.91
A123: Haus 2 | B123: EG | C123: 47 | D123: Treppenhaus | E123: Stein | F123: 21.19 | G123: J2 | J123: =F123 -> 21.19
A124: Haus 2 | B124: Keller | C124: 33 | D124: Flur | E124: Teppichboden | F124: 10.43 | G124: I | J124: =F124 -> 10.43
A125: Haus 2 | B125: Keller | C125: 46.2 | D125: Flur | E125: Teppichboden | F125: 61.83 | G125: I | J125: =F125 -> 61.83
A126: Haus 2 | B126: Sonderr. | C126: 31 | D126: Küche | E126: PVC oder Fliesen | F126: 13.4 | G126: D1 | H126: =F126 -> 13.4
A127: Haus 2 | B127: Sonderr. | C127: 51 | D127: Treppenhaus | E127: Parkett | F127: 5.1 | G127: J2 | J127: =F127 -> 5.1
A128: Haus 2 | B128: Sonderr. | C128: Dusche | D128: Dusche- Damen | E128: Fliesen | F128: 6.08 | G128: E | H128: =F128 -> 6.08
A129: Haus 2 | B129: Sonderr. | C129: Dusche | D129: Dusche-Herren | E129: Fliesen | F129: 6.08 | G129: E | H129: =F129 -> 6.08
A130: Haus 2 | B130: Sonderr. | C130: Sonderr. | D130: Besprechung | E130: Teppich / Parkett | F130: 145.48 | G130: C | H130: =F130 -> 145.48 | O130: Frühreinigung
A131: Haus 2 | B131: Sonderr. | C131: Sonderr. | D131: WC | E131: Fliesen | F131: 7.4 | G131: E | H131: =F131 -> 7.4
A132: Haus 2 | B132: Sonderr. | C132: Sonderr. | D132: WC | E132: Fliesen | F132: 9.5 | G132: E | H132: =F132 -> 9.5
A133: Haus 2 | B133: Sonderr. | C133: Vorraum Du. | D133: Vorraum Duschen | E133: Fliesen | F133: 7.35 | G133: E | H133: =F133 -> 7.35
A134: Haus 2 | B134: Sonderr. | D134: Küche | E134: PVC oder Fliesen | F134: 4.75 | G134: D1 | H134: =F134 -> 4.75
F136: =SUM(F5:F135) -> 2449.8 | H136: =SUM(H5:H135) -> 310.69 | J136: =SUM(J5:J135) -> 2096.64 | L136: =SUM(L5:L135) -> 42.47

Sheet Haus 3
A2: Gebäude | B2: Etage | C2: Raum- Nr. | D2: Raumbezeichnung | E2: Belagsart | F2: Grundfläche QM | G2: Raumgruppe | H2: Reinigungshäufigkeit Reinigen der Fußböden und Einrichtungsgegenstände (einschließlich der Arbeitsplätze) | O2: Bemerkungen
H3: wöchentlich in QM | K3: monatlich in QM | L3: vierteljährig in QM | M3: vierteljährig in QM | N3: jährlich in QM
H4: 5x | I4: 2x | J4: 1x | K4: 1x | L4: 1x | M4: 1x | N4: 1x
A5: Haus 3 | B5: 1. OG | C5: 01 | D5: Büro | E5: Teppichboden | F5: 16.9 | G5: A | J5: =F5 -> 16.9
A6: Haus 3 | B6: 1. OG | C6: 02 | D6: Büro | E6: Teppichboden | F6: 33.46 | G6: A | J6: =F6 -> 33.46
A7: Haus 3 | B7: 1. OG | C7: 03 | D7: Büro | E7: Teppichboden | F7: 23.25 | G7: A | J7: =F7 -> 23.25
A8: Haus 3 | B8: 1. OG | C8: 04 | D8: Büro | E8: Teppichboden | F8: 23.33 | G8: A | J8: =F8 -> 23.33
A9: Haus 3 | B9: 1. OG | C9: 05 | D9: Büro | E9: Teppichboden | F9: 23.45 | G9: A | J9: =F9 -> 23.45
A10: Haus 3 | B10: 1. OG | C10: 06 | D10: Büro | E10: Teppichboden | F10: 33.45 | G10: A | J10: =F10 -> 33.45
A11: Haus 3 | B11: 1. OG | C11: 07 | D11: Büro | E11: Teppichboden | F11: 17.27 | G11: A | J11: =F11 -> 17.27
A12: Haus 3 | B12: 1. OG | C12: 08 | D12: Büro | E12: Teppichboden | F12: 23.45 | G12: A | J12: =F12 -> 23.45
A13: Haus 3 | B13: 1. OG | C13: 09 | D13: Büro | E13: Teppichboden | F13: 23.45 | G13: A | J13: =F13 -> 23.45
A14: Haus 3 | B14: 1. OG | C14: 10 | D14: Büro | E14: Teppichboden | F14: 23.18 | G14: A | J14: =F14 -> 23.18
A15: Haus 3 | B15: 1. OG | C15: 11 | D15: Büro | E15: Teppichboden | F15: 35.54 | G15: A | J15: =F15 -> 35.54
A16: Haus 3 | B16: 1. OG | C16: 12 | D16: Büro | E16: Teppichboden | F16: 23.45 | G16: A | J16: =F16 -> 23.45
... A18: Haus 3 | B18: 1. OG | C18: 12b | D18: Bürotechnik | E18: Teppichboden | F18: 8.66 | G18: F | J18: =F18 -> 8.66
A19: Haus 3 | B19: 1. OG | C19: 13 | D19: Besprechung | E19: Teppichboden | F19: 35.35 | G19: C | H19: =F19 -> 35.35
A20: Haus 3 | B20: 1. OG | C20: 13 | D20: Büro | E20: Teppichboden | F20: 35.95 | G20: A | J20: =F20 -> 35.95
A21: Haus 3 | B21: 1. OG | C21: 14 | D21: Büro | E21: Teppichboden | F21: 21.45 | G21: A | J21: =F21 -> 21.45
A22: Haus 3 | B22: 1. OG | C22: 15 | D22: Büro | E22: Teppichboden | F22: 17.7 | G22: A | J22: =F22 -> 17.7
A23: Haus 3 | B23: 1. OG | C23: 21 | D23: Bürotechnik | E23: Teppichboden | F23: 11.1 | G23: F | J23: =F23 -> 11.1
A24: Haus 3 | B24: 1. OG | C24: 31 | D24: Küche | E24: PVC oder Fliesen | F24: 3.62 | G24: D1 | H24: =F24 -> 3.62
A25: Haus 3 | B25: 1. OG | C25: 32a | D25: WC | E25: Fliesen | F25: 12.99 | G25: E | H25: =F25 -> 12.99
A26: Haus 3 | B26: 1. OG | C26: 32b | D26: WC | E26: Fliesen | F26: 4.95 | G26: E | H26: =F26 -> 4.95
A27: Haus 3 | B27: 1. OG | C27: 33 | D27: Flur | E27: Teppichboden | F27: 12.15 | G27: I | J27: =F27 -> 12.15
A28: Haus 3 | B28: 1. OG | C28: 36a | D28: WC | E28: Fliesen | F28: 12.99 | G28: E | H28: =F28 -> 12.99
A29: Haus 3 | B29: 1. OG | C29: 37 | D29: Putzmittel | E29: PVC oder Fliesen | F29: 2.03 | G29: L | L29: =F29 -> 2.03
A30: Haus 3 | B30: 1. OG | C30: 40 | D30: Flur | E30: Teppichboden | F30: 5.45 | G30: I | J30: =F30 -> 5.45
A31: Haus 3 | B31: 1. OG | C31: 41 | D31: Flur | E31: Teppichboden | F31: 77.2 | G31: I | J31: =F31 -> 77.2
A32: Haus 3 | B32: 1. OG | C32: 42 | D32: Flur | E32: Teppichboden | F32: 7.56 | G32: I | J32: =F32 -> 7.56
A33: Haus 3 | B33: 1. OG | C33: 43 | D33: Flur | E33: Teppichboden | F33: 77.82 | G33: I | J33: =F33 -> 77.82
A34: Haus 3 | B34: 1. OG | C34: 44 | D34: Flur | E34: Teppichboden | F34: 5.64 | G34: I | J34: =F34 -> 5.64
A35: Haus 3 | B35: 1. OG | C35: Vorraum | D35: WC | E35: Fliesen | F35: 4.95 | G35: E | H35: =F35 -> 4.95
A36: Haus 3 | B36: 1. OG | D36: Aktei | F36: 57.75 | G36: G | J36: =F36 -> 57.75
A37: Haus 3 | B37: 1.OG | D37: Treppenhaus | E37: Stein | F37: 24.18 | G37: J2 | J37: =F37 -> 24.18
A38: Haus 3 | B38: 2. OG | C38: 01 | D38: Besprechung | E38: Teppichboden | F38: 23.32 | G38: C | H38: =F38 -> 23.32 | O38: Frühreinigung
A39: Haus 3 | B39: 2. OG | C39: 02 | D39: Büro | E39: Teppichboden | F39: 23.63 | G39: A | J39: =F39 -> 23.63
A40: Haus 3 | B40: 2. OG | C40: 03 | D40: Büro | E40: Teppichboden | F40: 23.04 | G40: A | J40: =F40 -> 23.04
A41: Haus 3 | B41: 2. OG | C41: 04 | D41: Büro | E41: Teppichboden | F41: 23.34 | G41: A | J41: =F41 -> 23.34
A42: Haus 3 | B42: 2. OG | C42: 05 | D42: Büro | E42: Teppichboden | F42: 23.76 | G42: A | J42: =F42 -> 23.76
A43: Haus 3 | B43: 2. OG | C43: 06 | D43: Büro | E43: Teppichboden | F43: 33.4 | G43: A | J43: =F43 -> 33.4
A44: Haus 3 | B44: 2. OG | C44: 07 | D44: Büro | E44: Teppichboden | F44: 17.15 | G44: A | J44: =F44 -> 17.15
A45: Haus 3 | B45: 2. OG | C45: 08 | D45: Büro | E45: Teppichboden | F45: 23.34 | G45: A | J45: =F45 -> 23.34
A46: Haus 3 | B46: 2. OG | C46: 09 | D46: Büro | E46: Teppichboden | F46: 23.34 | G46: A | J46: =F46 -> 23.34
A47: Haus 3 | B47: 2. OG | C47: 10 | D47: Büro | E47: Teppichboden | F47: 23.34 | G47: A | J47: =F47 -> 23.34
A48: Haus 3 | B48: 2. OG | C48: 11 | D48: Büro | E48: Teppichboden | F48: 23.73 | G48: A | J48: =F48 -> 23.73
A49: Haus 3 | B49: 2. OG | C49: 12 | D49: Büro | E49: Teppichboden | F49: 23.06 | G49: A | J49: =F49 -> 23.06
A50: Haus 3 | B50: 2. OG | C50: 13 | D50: Büro | E50: Teppichboden | F50: 27.37 | G50: A | J50: =F50 -> 27.37
... A58: Haus 3 | B58: 2. OG | C58: 21 | D58: Bürotechnik | E58: Teppichboden | F58: 8.35 | G58: F | J58: =F58 -> 8.35
A59: Haus 3 | B59: 2. OG | C59: 31 | D59: Küche | E59: PVC oder Fliesen | F59: 3.62 | G59: D1 | H59: =F59 -> 3.62
A60: Haus 3 | B60: 2. OG | C60: 32a | D60: WC | E60: Fliesen | F60: 12.88 | G60: E | H60: =F60 -> 12.88
A61: Haus 3 | B61: 2. OG | C61: 32b | D61: WC | E61: Fliesen | F61: 4.95 | G61: E | H61: =F61 -> 4.95
A62: Haus 3 | B62: 2. OG | C62: 33 | D62: Flur | E62: Teppichboden | F62: 7.47 | G62: I | J62: =F62 -> 7.47
A63: Haus 3 | B63: 2. OG | C63: 36a | D63: WC | E63: Fliesen | F63: 12.87 | G63: E | H63: =F63 -> 12.87
A64: Haus 3 | B64: 2. OG | C64: 37 | D64: Putzmittel | E64: PVC oder Fliesen | F64: 2.03 | G64: L | L64: =F64 -> 2.03
A65: Haus 3 | B65: 2. OG | C65: 40 | D65: Flur | E65: Teppichboden | F65: 66.17 | G65: I | J65: =F65 -> 66.17
A66: Haus 3 | B66: 2. OG | C66: 41 | D66: Flur | E66: Teppichboden | F66: 5.99 | G66: I | J66: =F66 -> 5.99
A67: Haus 3 | B67: 2. OG | C67: 42 | D67: Flur | E67: Teppichboden | F67: 13.27 | G67: I | J67: =F67 -> 13.27
A68: Haus 3 | B68: 2. OG | C68: 43 | D68: Flur | E68: Teppichboden | F68: 2.66 | G68: I | J68: =F68 -> 2.66
A69: Haus 3 | B69: 2. OG | C69: 44 | D69: Flur | E69: Teppichboden | F69: 58.02 | G69: I | J69: =F69 -> 58.02
A70: Haus 3 | B70: 2. OG | C70: 46.2 | D70: Flur | E70: Teppichboden | F70: 5.57 | G70: I | J70: =F70 -> 5.57
A71: Haus 3 | B71: 2. OG | C71: Vorraum | D71: WC | E71: Fliesen | F71: 4.95 | G71: E | H71: =F71 -> 4.95
A72: Haus 3 | B72: 2.OG | D72: Treppenhaus | E72: Stein | F72: 24.18 | G72: J2 | J72: =F72 -> 24.18
A73: Haus 3 | B73: EG | C73: 01 | D73: Büro | E73: Teppichboden | F73: 33.45 | G73: A | J73: =F73 -> 33.45 | O73: Frühreinigung
A74: Haus 3 | B74: EG | C74: 02 | D74: Büro | E74: Teppichboden | F74: 23.58 | G74: A | J74: =F74 -> 23.58
A75: Haus 3 | B75: EG | C75: 03 | D75: Büro | E75: Teppichboden | F75: 23.18 | G75: A | J75: =F75 -> 23.18
A76: Haus 3 | B76: EG | C76: 04 | D76: Büro | E76: Teppichboden | F76: 27.14 | G76: A | J76: =F76 -> 27.14
A77: Haus 3 | B77: EG | C77: 05 | D77: Büro | E77: Teppichboden | F77: 23.22 | G77: A | J77: =F77 -> 23.22
A78: Haus 3 | B78: EG | C78: 06 | D78: Büro | E78: Teppichboden | F78: 23.95 | G78: A | J78: =F78 -> 23.95
A79: Haus 3 | B79: EG | C79: 07 | D79: Büro | E79: Teppichboden | F79: 35.54 | G79: A | J79: =F79 -> 35.54
A80: Haus 3 | B80: EG | C80: 08 | D80: Büro | E80: Teppichboden | F80: 23.45 | G80: A | J80: =F80 -> 23.45
A81: Haus 3 | B81: EG | C81: 09 | D81: Büro | E81: Teppichboden | F81: 23.84 | G81: A | J81: =F81 -> 23.84
A82: Haus 3 | B82: EG | C82: 10 | D82: Büro | E82: Teppichboden | F82: 23.05 | G82: A | J82: =F82 -> 23.05
A83: Haus 3 | B83: EG | C83: 11 | D83: Büro | E83: Teppichboden | F83: 27.36 | G83: A | J83: =F83 -> 27.36 | O83: Frühreinigung
A84: Haus 3 | B84: EG | C84: 12 | D84: Büro | E84: Teppichboden | F84: 23.46 | G84: A | J84: =F84 -> 23.46
A85: Haus 3 | B85: EG | C85: 13 | D85: Büro | E85: Teppichboden | F85: 23.45 | G85: A | J85: =F85 -> 23.45
A86: Haus 3 | B86: EG | C86: 14 | D86: Büro | E86: Teppichboden | F86: 23.33 | G86: A | J86: =F86 -> 23.33
A87: Haus 3 | B87: EG | C87: 15 | D87: Büro | E87: Teppichboden | F87: 23.85 | G87: A | J87: =F87 -> 23.85
A88: Haus 3 | B88: EG | C88: 16 | D88: Büro | E88: Teppichboden | F88: 21.47 | G88: A | J88: =F88 -> 21.47
A89: Haus 3 | B89: EG | C89: 17 | D89: Büro | E89: Teppichboden | F89: 17.96 | G89: A | J89: =F89 -> 17.96
A90: Haus 3 | B90: EG | C90: 21 | D90: Bürotechnik | E90: Teppichboden | F90: 13.59 | G90: F | J90: =F90 -> 13.59
A91: Haus 3 | B91: EG | C91: 31 | D91: Küche | E91: PVC oder Fliesen | F91: 3.64 | G91: D1 | H91: =F91 -> 3.64
A92: Haus 3 | B92: EG | C92: 32a | D92: WC | E92: Fliesen | F92: 12.99 | G92: E | H92: =F92 -> 12.99
A93: Haus 3 | B93: EG | C93: 32b | D93: WC | E93: Fliesen | F93: 4.95 | G93: E | H93: =F93 -> 4.95
A94: Haus 3 | B94: EG | C94: 33 | D94: Flur | E94: Teppichboden | F94: 8.48 | G94: I | J94: =F94 -> 8.48
A95: Haus 3 | B95: EG | C95: 36a | D95: WC | E95: Fliesen | F95: 12.99 | G95: E | H95: =F95 -> 12.99
A96: Haus 3 | B96: EG | C96: 37 | D96: Putzmittel | E96: PVC oder Fliesen | F96: 2.04 | G96: L | L96: =F96 -> 2.04
A97: Haus 3 | B97: EG | C97: 40 | D97: Flur | E97: Teppichboden | F97: 10.91 | G97: I | J97: =F97 -> 10.91
A98: Haus 3 | B98: EG | C98: 41 | D98: Foyer | E98: Stein | F98: 234.32 | G98: H | H98: =F98 -> 234.32 | O98: Frühreinigung
A99: Haus 3 | B99: EG | C99: 42 | D99: Flur | E99: Teppichboden | F99: 7.61 | G99: I | J99: =F99 -> 7.61
A100: Haus 3 | B100: EG | C100: 43 | D100: Flur | E100: Teppichboden | F100: 5.97 | G100: I | J100: =F100 -> 5.97
A101: Haus 3 | B101: EG | C101: 44 | D101: Flur | E101: Teppichboden | F101: 5.84 | G101: I | J101: =F101 -> 5.84
A102: Haus 3 | B102: EG | C102: Eingang | D102: Eingang | F102: 35.13 | G102: H | H102: =F102 -> 35.13
A103: Haus 3 | B103: EG | C103: Vorraum | D103: WC | E103: Fliesen | F103: 4.95 | G103: E | H103: =F103 -> 4.95
A104: Haus 3 | B104: EG | C104: WC | D104: Behinderten - WC | E104: Fliesen | F104: 13.85 | G104: E | H104: =F104 -> 13.85
A105: Haus 3 | B105: EG | D105: Treppenhaus | E105: Stein | F105: 24.18 | G105: J2 | J105: =F105 -> 24.18
A106: Haus 3 | B106: Keller | C106: 32a | D106: WC | E106: Fliesen | F106: 7.37 | G106: E | H106: =F106 -> 7.37
A107: Haus 3 | B107: Keller | C107: 32b | D107: WC | E107: Fliesen | F107: 9.48 | G107: E | H107: =F107 -> 9.48
A108: Haus 3 | B108: Keller | C108: 33 | D108: Flur | E108: Teppichboden | F108: 13.34 | G108: I | J108: =F108 -> 13.34
A109: Haus 3 | B109: Keller | C109: 34 | D109: Treppenhaus | E109: Stein | F109: 4 | G109: J2 | J109: =F109 -> 4
...

Sheet Haus 4
A2: Gebäude | B2: Etage | C2: Raum- Nr. | D2: Raumbezeichnung | E2: Belagsart | F2: Grundfläche QM | G2: Raumgruppe | H2: Reinigungshäufigkeit Reinigen der Fußböden und Einrichtungsgegenstände (einschließlich der Arbeitsplätze) | O2: Bemerkungen
H3: wöchentlich in QM | K3: monatlich in QM | L3: vierteljährig in QM | M3: halbjährig in QM | N3: jährlich in QM
H4: 5x | I4: 2x | J4: 1x | K4: 1x | L4: 1x | M4: 1x | N4: 1x
A5: Haus 4 | B5: 1.OG | C5: 1.03 | D5: Büro | E5: Teppichboden | F5: 18.85 | G5: A | J5: =F5 -> 18.85
A6: Haus 4 | B6: 1.OG | C6: 1.04 | D6: Büro | E6: Teppichboden | F6: 18.71 | G6: A | J6: =F6 -> 18.71
A7: Haus 4 | B7: 1.OG | C7: 1.05 | D7: Büro | E7: Teppichboden | F7: 18.96 | G7: A | J7: =F7 -> 18.96
A8: Haus 4 | B8: 1.OG | C8: 1.06 | D8: Büro | E8: Teppichboden | F8: 19.12 | G8: A | J8: =F8 -> 19.12
A9: Haus 4 | B9: 1.OG | C9: 1.07 | D9: Büro | E9: Teppichboden | F9: 18.9 | G9: A | J9: =F9 -> 18.9
A10: Haus 4 | B10: 1.OG | C10: 1.08 | D10: Büro | E10: Teppichboden | F10: 28.38 | G10: A | J10: =F10 -> 28.38
A11: Haus 4 | B11: 1.OG | C11: 1.09 | D11: Büro | E11: Teppichboden | F11: 19.13 | G11: A | J11: =F11 -> 19.13
A12: Haus 4 | B12: 1.OG | C12: 1.10 | D12: Büro | E12: Teppichboden | F12: 19.39 | G12: A | J12: =F12 -> 19.39
A13: Haus 4 | B13: 1.OG | C13: 1.11 | D13: Büro | E13: Teppichboden | F13: 18.52 | G13: A | J13: =F13 -> 18.52
A14: Haus 4 | B14: 1.OG | C14: 1.12 | D14: Büro | E14: Teppichboden | F14: 17.41 | G14: A | J14: =F14 -> 17.41
A15: Haus 4 | B15: 1.OG | C15: 1.13 | D15: Büro | E15: Teppichboden | F15: 29.71 | G15: A | J15: =F15 -> 29.71
A16: Haus 4 | B16: 1.OG | C16: 1.14 | D16: Büro | E16: Teppichboden | F16: 21.71 | G16: A | J16: =F16 -> 21.71
... A31: Haus 4 | B31: 1OG | C31: 1.29 | D31: Technikraum | E31: PVC | F31: 30 | G31: F | J31: =F31 -> 30
A32: Haus 4 | B32: 1.OG | C32: 1.72 | D32: WC Damen | E32: Feinsteinzeug | F32: 13.75 | G32: E | H32: =F32 -> 13.75
A33: Haus 4 | B33: 1.OG | C33: 1.72 | D33: WC Herren | E33: Feinsteinzeug | F33: 19.92 | G33: E | H33: =F33 -> 19.92
A34: Haus 4 | B34: 1.OG | D34: Aufzugsvorraum | E34: Teppichboden | F34: 36.11 | G34: I | J34: =F34 -> 36.11
A35: Haus 4 | B35: 1.OG | D35: Flur | E35: Teppichboden | F35: 191.29 | G35: I | J35: =F35 -> 191.29
A36: Haus 4 | B36: 1.OG | D36: Putzmittel | E36: PVC | F36: 5.83 | G36: L | L36: =F36 -> 5.83
A37: Haus 4 | B37: 1.OG | D37: Teeküche | E37: PVC | F37: 4.41 | G37: D1 | H37: =F37 -> 4.41
A38: Haus 4 | B38: 10.OG | C38: 10.01 | D38: Büro | E38: Teppichboden | F38: 21.81 | G38: A | J38: =F38 -> 21.81
A39: Haus 4 | B39: 10.OG | C39: 10.02 | D39: Büro | E39: Teppichboden | F39: 16.22 | G39: A | J39: =F39 -> 16.22
A40: Haus 4 | B40: 10.OG | C40: 10.03 | D40: Büro | E40: Teppichboden | F40: 19.05 | G40: A | J40: =F40 -> 19.05
A41: Haus 4 | B41: 10.OG | C41: 10.04 | D41: Büro | E41: Teppichboden | F41: 19.11 | G41: A | J41: =F41 -> 19.11
A42: Haus 4 | B42: 10.OG | C42: 10.05 | D42: Büro | E42: Teppichboden | F42: 19.08 | G42: A | J42: =F42 -> 19.08
A43: Haus 4 | B43: 10.OG | C43: 10.06 | D43: Büro | E43: Teppichboden | F43: 18.97 | G43: A | J43: =F43 -> 18.97
A44: Haus 4 | B44: 10.OG | C44: 10.07 | D44: Büro | E44: Teppichboden | F44: 18.79 | G44: A | J44: =F44 -> 18.79
A45: Haus 4 | B45: 10.OG | C45: 10.08 | D45: Besprechungsraum | E45: Teppichboden | F45: 28.84 | G45: C | H45: =F45 -> 28.84 | O45: Frühreinigung
A46: Haus 4 | B46: 10.OG | C46: 10.09 | D46: Bürotechnik | E46: Teppichboden | F46: 9.07 | G46: F | J46: =F46 -> 9.07
A47: Haus 4 | B47: 10.OG | C47: 10.10 | D47: Büro | E47: Teppichboden | F47: 18.89 | G47: A | J47: =F47 -> 18.89
A48: Haus 4 | B48: 10.OG | C48: 10.11 | D48: Büro | E48: Teppichboden | F48: 18.94 | G48: A | J48: =F48 -> 18.94
A49: Haus 4 | B49: 10.OG | C49: 10.12 | D49: Büro | E49: Teppichboden | F49: 26.71 | G49: A | J49: =F49 -> 26.71
A50: Haus 4 | B50: 10.OG | C50: 10.13 | D50: Büro | E50: Teppichboden | F50: 31.55 | G50: A | J50: =F50 -> 31.55
A51: Haus 4 | B51: 10.OG | C51: 10.14 | D51: Büro | E51: Teppichboden | F51: 21.45 | G51: A | J51: =F51 -> 21.45
A52: Haus 4 | B52: 10.OG | C52: 10.15 | D52: Büro | E52: Teppichboden | F52: 16.06 | G52: A | J52: =F52 -> 16.06
A53: Haus 4 | B53: 10.OG | C53: 10.16 | D53: Büro | E53: Teppichboden | F53: 19.03 | G53: A | J53: =F53 -> 19.03
A54: Haus 4 | B54: 10.OG | C54: 10.17 | D54: Büro | E54: Teppichboden | F54: 19.01 | G54: A | J54: =F54 -> 19.01
A55: Haus 4 | B55: 10.OG | C55: 10.18 | D55: Büro | E55: Teppichboden | F55: 19.17 | G55: A | J55: =F55 -> 19.17
A56: Haus 4 | B56: 10.OG | C56: 10.19 | D56: Büro | E56: Teppichboden | F56: 19.16 | G56: A | J56: =F56 -> 19.16
A57: Haus 4 | B57: 10.OG | C57: 10.20 | D57: Büro | E57: Teppichboden | F57: 18.87 | G57: A | J57: =F57 -> 18.87
... A65: Haus 4 | B65: 10.OG | C65: 10.28 | D65: Büro | E65: Teppichboden | F65: 29.28 | G65: A | J65: =F65 -> 29.28
A66: Haus 4 | B66: 10.OG | C66: 10.30 | D66: Lager | E66: Beton | F66: 27.32 | G66: L | L66: =F66 -> 27.32
A67: Haus 4 | B67: 10.OG | C67: 10.72 | D67: WC Herren | E67: Feinsteinzeug | F67: 19.92 | G67: E | H67: =F67 -> 19.92
A68: Haus 4 | B68: 10.OG | C68: 10.75 | D68: WC Damen | E68: Feinsteinzeug | F68: 13.75 | G68: E | H68: =F68 -> 13.75
A69: Haus 4 | B69: 10.OG | D69: Aufzugsvorraum | E69: Teppichboden | F69: 36.11 | G69: I | J69: =F69 -> 36.11
A70: Haus 4 | B70: 10.OG | D70: Flur | E70: Teppichboden | F70: 191.29 | G70: I | J70: =F70 -> 191.29
A71: Haus 4 | B71: 10.OG | D71: Putzmittel | E71: PVC | F71: 5.83 | G71: L | L71: =F71 -> 5.83
A72: Haus 4 | B72: 10.OG | D72: Teeküche | E72: PVC | F72: 4.41 | G72: D1 | H72: =F72 -> 4.41
A73: Haus 4 | B73: 11.OG | C73: 11.01 | D73: Büro | E73: Teppichboden | F73: 21.7 | G73: A | J73: =F73 -> 21.7
A74: Haus 4 | B74: 11.OG | C74: 11.02 | D74: Büro | E74: Teppichboden | F74: 16.3 | G74: A | J74: =F74 -> 16.3
A75: Haus 4 | B75: 11.OG | C75: 11.03 | D75: Büro | E75: Teppichboden | F75: 19.1 | G75: A | J75: =F75 -> 19.1
A76: Haus 4 | B76: 11.OG | C76: 11.04 | D76: Büro | E76: Teppichboden | F76: 18.98 | G76: A | J76: =F76 -> 18.98
A77: Haus 4 | B77: 11.OG | C77: 11.05 | D77: Büro | E77: Teppichboden | F77: 28.84 | G77: A | J77: =F77 -> 28.84
A78: Haus 4 | B78: 11.OG | C78: 11.06 | D78: Büro | E78: Teppichboden | F78: 26.64 | G78: A | J78: =F78 -> 26.64
A79: Haus 4 | B79: 11.OG | C79: 11.07 | D79: Büro | E79: Teppichboden | F79: 18.91 | G79: A | J79: =F79 -> 18.91
A80: Haus 4 | B80: 11.OG | C80: 11.08 | D80: Büro | E80: Teppichboden | F80: 18.79 | G80: A | J80: =F80 -> 18.79
A81: Haus 4 | B81: 11.OG | C81: 11.09 | D81: Büro | E81: Teppichboden | F81: 18.98 | G81: A | J81: =F81 -> 18.98
A82: Haus 4 | B82: 11.OG | C82: 11.10 | D82: Büro | E82: Teppichboden | F82: 18.77 | G82: A | J82: =F82 -> 18.77
A83: Haus 4 | B83: 11.OG | C83: 11.11 | D83: Büro | E83: Teppichboden | F83: 18.26 | G83: A | J83: =F83 -> 18.26
A84: Haus 4 | B84: 11.OG | C84: 11.12 | D84: Büro | E84: Teppichboden | F84: 15.8 | G84: A | J84: =F84 -> 15.8
... A100: Haus 4 | B100: 11.OG | C100: 11.29 | D100: Büro | E100: Teppichboden | F100: 29.86 | G100: A | J100: =F100 -> 29.86
A101: Haus 4 | B101: 11.OG | C101: 11.30 | D101: Lager | E101: Beton | F101: 27.32 | G101: L | L101: =F101 -> 27.32
A102: Haus 4 | B102: 11.OG | C102: 11.72 | D102: WC Herren | E102: Feinsteinzeug | F102: 19.92 | G102: E | H102: =F102 -> 19.92
A103: Haus 4 | B103: 11.OG | C103: 11.75 | D103: WC Damen | E103: Feinsteinzeug | F103: 13.75 | G103: E | H103: =F103 -> 13.75
A104: Haus 4 | B104: 11.OG | D104: Aufzugsvorraum | E104: Teppichboden | F104: 36.11 | G104: I | J104: =F104 -> 36.11
A105: Haus 4 | B105: 11.OG | D105: Flur | E105: Teppichboden | F105: 191.29 | G105: I | J105: =F105 -> 191.29
A106: Haus 4 | B106: 11.OG | D106: Putzmittel | E106: PVC | F106: 5.83 | G106: L | L106: =F106 -> 5.83
A107: Haus 4 | B107: 11.OG | D107: Teeküche | E107: PVC | F107: 4.41 | G107: D1 | H107: =F107 -> 4.41
A108: Haus 4 | B108: 12.OG | C108: 12.01 | D108: Büro | E108: Teppichboden | F108: 21.95 | G108: A | J108: =F108 -> 21.95
A109: Haus 4 | B109: 12.OG | C109: 12.02 | D109: Büro | E109: Teppichboden | F109: 17.47 | G109: A | J109: =F109 -> 17.47
A110: Haus 4 | B110: 12.OG | C110: 12.03 | D110: Büro | E110: Teppichboden | F110: 18.95 | G110: A | J110: =F110 -> 18.95
A111: Haus 4 | B111: 12.OG | C111: 12.04 | D111: Büro | E111: Teppichboden | F111: 18.98 | G111: A | J111: =F111 -> 18.98
A112: Haus 4 | B112: 12.OG | C112: 12.05 | D112: Büro | E112: Teppichboden | F112: 18.9 | G112: A | J112: =F112 -> 18.9
A113: Haus 4 | B113: 12.OG | C113: 12.06 | D113: Besprechungsraum | E113: Teppichboden | F113: 28.43 | G113: C | H113: =F113 -> 28.43 | O113: Frühreinigung
A114: Haus 4 | B114: 12.OG | C114: 12.07 | D114: Büro | E114: Teppichboden | F114: 19.4 | G114: A | J114: =F114 -> 19.4
A115: Haus 4 | B115: 12.OG | C115: 12.08 | D115: Büro | E115: Teppichboden | F115: 18.75 | G115: A | J115: =F115 -> 18.75
A116: Haus 4 | B116: 12.OG | C116: 12.09 | D116: Büro | E116: Teppichboden | F116: 18.92 | G116: A | J116: =F116 -> 18.92
A117: Haus 4 | B117: 12.OG | C117: 12.10 | D117: Büro | E117: Teppichboden | F117: 18.93 | G117: A | J117: =F117 -> 18.93
A118: Haus 4 | B118: 12.OG | C118: 12.11 | D118: Bürotechnik | E118: Teppichboden | F118: 18.79 | G118: F | J118: =F118 -> 18.79
A119: Haus 4 | B119: 12.OG | C119: 12.12 | D119: Büro | E119: Teppichboden | F119: 27.03 | G119: A | J119: =F119 -> 27.03
A120: Haus 4 | B120: 12.OG | C120: 12.13 | D120: Büro | E120: Teppichboden | F120: 22.05 | G120: A | J120: =F120 -> 22.05
A121: Haus 4 | B121: 12.OG | C121: 12.15 | D121: Büro | E121: Teppichboden | F121: 21.73 | G121: A | J121: =F121 -> 21.73
A122: Haus 4 | B122: 12.OG | C122: 12.16 | D122: Büro | E122: Teppichboden | F122: 17.4 | G122: A | J122: =F122 -> 17.4
A123: Haus 4 | B123: 12.OG | C123: 12.17 | D123: Büro | E123: Teppichboden | F123: 19 | G123: A | J123: =F123 -> 19
A124: Haus 4 | B124: 12.OG | C124: 12.18 | D124: Büro | E124: Teppichboden | F124: 19.13 | G124: A | J124: =F124 -> 19.13
A125: Haus 4 | B125: 12.OG | C125: 12.19 | D125: Büro | E125: Teppichboden | F125: 18.9 | G125: A | J125: =F125 -> 18.9
... A135: Haus 4 | B135: 12.OG | C135: 12.29 | D135: Büro | E135: Teppichboden | F135: 29.88 | G135: A | J135: =F135 -> 29.88
A136: Haus 4 | B136: 12.OG | C136: 12.30 | D136: Lager | E136: Beton | F136: 27.32 | G136: L | L136: =F136 -> 27.32
A137: Haus 4 | B137: 12.OG | C137: 12.72 | D137: WC Herren | E137: Feinsteinzeug | F137: 19.92 | G137: E | H137: =F137 -> 19.92
A138: Haus 4 | B138: 12.OG | C138: 12.75 | D138: WC Damen | E138: Feinsteinzeug | F138: 13.75 | G138: E | H138: =F138 -> 13.75
A139: Haus 4 | B139: 12.OG | D139: Aufzugsvorraum | E139: Teppichboden | F139: 36.11 | G139: I | J139: =F139 -> 36.11
A140: Haus 4 | B140: 12.OG | D140: Flur | E140: Teppichboden | F140: 191.29 | G140: I | J140: =F140 -> 191.29
A141: Haus 4 | B141: 12.OG | D141: Putzmittel | E141: PVC | F141: 5.83 | G141: L | L141: =F141 -> 5.83
A142: Haus 4 | B142: 12.OG | D142: Teeküche | E142: PVC | F142: 4.41 | G142: D1 | H142: =F142 -> 4.41
A143: Haus 4 | B143: 13.OG | C143: 13.01 | D143: Büro | E143: Teppichboden | F143: 39.88 | G143: B | H143: =F143 -> 39.88 | O143: Frühreinigung
A144: Haus 4 | B144: 13.OG | C144: 13.02 | D144: Büro | E144: Teppichboden | F144: 18.35 | G144: B | H144: =F144 -> 18.35 | O144: Frühreinigung
A145: Haus 4 | B145: 13.OG | C145: 13.03 | D145: Büro | E145: Teppichboden | F145: 18.87 | G145: B | H145: =F145 -> 18.87 | O145: Frühreinigung
A146: Haus 4 | B146: 13.OG | C146: 13.04 | D146: Büro | E146: Teppichboden | F146: 33.17 | G146: B | H146: =F146 -> 33.17 | O146: Frühreinigung
...

Sheet Haus 5
A2: Gebäude | B2: Etage | C2: Raum- Nr. | D2: Raumbezeichnung | E2: Belagsart | F2: Grundfläche QM | G2: Raumgruppe | H2: Reinigungshäufigkeit Reinigen der Fußböden und Einrichtungsgegenstände (einschließlich der Arbeitsplätze) | O2: Bemerkungen
H3: wöchentlich in QM | K3: monatlich in QM | L3: vierteljährig in QM | M3: halbjährig in QM | N3: jährlich in QM
H4: 5x | I4: 2x | J4: 1x | K4: 1x | L4: 1x | M4: 1x | N4: 1x
A5: Haus 5 | B5: 1.OG | C5: 1.02 | D5: Büro | E5: Teppichboden | F5: 18.27 | G5: A | J5: =F5 -> 18.27
A6: Haus 5 | B6: 1.OG | C6: 1.03 | D6: Büro | E6: Teppichboden | F6: 17.48 | G6: A | J6: =F6 -> 17.48
A7: Haus 5 | B7: 1.OG | C7: 1.04 | D7: Büro | E7: Teppichboden | F7: 26.73 | G7: A | J7: =F7 -> 26.73
A8: Haus 5 | B8: 1.OG | C8: 1.05 | D8: Büro | E8: Teppichboden | F8: 18.5 | G8: A | J8: =F8 -> 18.5
A9: Haus 5 | B9: 1.OG | C9: 1.06 | D9: Büro | E9: Teppichboden | F9: 18.89 | G9: A | J9: =F9 -> 18.89
A10: Haus 5 | B10: 1.OG | C10: 1.07 | D10: Büro | E10: Teppichboden | F10: 18.84 | G10: A | J10: =F10 -> 18.84
A11: Haus 5 | B11: 1.OG | C11: 1.08 | D11: Büro | E11: Teppichboden | F11: 18.84 | G11: A | J11: =F11 -> 18.84
A12: Haus 5 | B12: 1.OG | C12: 1.09 | D12: Büro | E12: Teppichboden | F12: 18.84 | G12: A | J12: =F12 -> 18.84
A13: Haus 5 | B13: 1.OG | C13: 1.10 | D13: Büro | E13: Teppichboden | F13: 18.84 | G13: A | J13: =F13 -> 18.84
A14: Haus 5 | B14: 1.OG | C14: 1.11 | D14: Büro | E14: Teppichboden | F14: 18.95 | G14: A | J14: =F14 -> 18.95
A15: Haus 5 | B15: 1.OG | C15: 1.12 | D15: Büro | E15: Teppichboden | F15: 18.73 | G15: A | J15: =F15 -> 18.73
A16: Haus 5 | B16: 1.OG | C16: 1.13 | D16: Büro | E16: Teppichboden | F16: 18.84 | G16: A | J16: =F16 -> 18.84
A17: Haus 5 | B17: 1.OG | C17: 1.14 | D17: Büro | E17: Teppichboden | F17: 28.53 | G17: A | J17: =F17 -> 28.53
A18: Haus 5 | B18: 1.OG | C18: 1.16 | D18: Besprechungsraum | E18: Teppichboden | F18: 34.29 | G18: C | H18: =F18 -> 34.29
A19: Haus 5 | B19: 1.OG | C19: 1.17 | D19: Bürotechnik | E19: Teppichboden | F19: 18.53 | G19: F | J19: =F19 -> 18.53
A20: Haus 5 | B20: 1.OG | C20: 1.19 | D20: Büro | E20: Teppichboden | F20: 35.45 | G20: A | J20: =F20 -> 35.45
A21: Haus 5 | B21: 1.OG | C21: 1.20 | D21: Büro | E21: Teppichboden | F21: 19.11 | G21: A | J21: =F21 -> 19.11
A22: Haus 5 | B22: 1.OG | C22: 1.21 | D22: Büro | E22: Teppichboden | F22: 18.15 | G22: A | J22: =F22 -> 18.15
A23: Haus 5 | B23: 1.OG | C23: 1.22 | D23: Büro | E23: Teppichboden | F23: 33.09 | G23: A | J23: =F23 -> 33.09
A24: Haus 5 | B24: 1.OG | C24: 1.23 | D24: Büro | E24: Teppichboden | F24: 18.73 | G24: A | J24: =F24 -> 18.73
A25: Haus 5 | B25: 1.OG | C25: 1.24 | D25: Büro | E25: Teppichboden | F25: 18.92 | G25: A | J25: =F25 -> 18.92
A26: Haus 5 | B26: 1.OG | C26: 1.25 | D26: Büro | E26: Teppichboden | F26: 18.39 | G26: A | J26: =F26 -> 18.39
A27: Haus 5 | B27: 1.OG | C27: 1.25 | D27: Büro | E27: Teppichboden | F27: 18.32 | G27: A | J27: =F27 -> 18.32
A28: Haus 5 | B28: 1.OG | C28: 1.26 | D28: Büro | E28: Teppichboden | F28: 18.84 | G28: A | J28: =F28 -> 18.84
A29: Haus 5 | B29: 1.OG | C29: 1.26 | D29: Büro | E29: Teppichboden | F29: 18.29 | G29: A | J29: =F29 -> 18.29
A30: Haus 5 | B30: 1.OG | C30: 1.27 | D30: Büro | E30: Teppichboden | F30: 28.81 | G30: A | J30: =F30 -> 28.81
... A44: Haus 5 | B44: 1.OG | C44: 1.40 | D44: Büro | E44: Teppichboden | F44: 18.23 | G44: A | J44: =F44 -> 18.23
A45: Haus 5 | B45: 1.OG | D45: Damen WC | E45: Fliesen | F45: 12.57 | G45: E | H45: =F45 -> 12.57
A46: Haus 5 | B46: 1.OG | D46: Flure | E46: Teppichboden | F46: 173.45 | G46: I | J46: =F46 -> 173.45
A47: Haus 5 | B47: 1.OG | D47: Herren WC | E47: Fliesen | F47: 19.09 | G47: E | H47: =F47 -> 19.09
A48: Haus 5 | B48: 1.OG | D48: Herren WC | E48: Fliesen | F48: 12.03 | G48: E | H48: =F48 -> 12.03
A49: Haus 5 | B49: 1.OG | D49: Teeküche | E49: PVC | F49: 3.72 | G49: D1 | H49: =F49 -> 3.72
A50: Haus 5 | B50: 1.OG | D50: Treppenhäuser | E50: Fliesen | F50: 36.26 | G50: J2 | J50: =F50 -> 36.26
A51: Haus 5 | B51: 2.OG | C51: 2.00 | D51: Büro | E51: Teppichboden | F51: 13.79 | G51: A | J51: =F51 -> 13.79
A52: Haus 5 | B52: 2.OG | C52: 2.01 | D52: Büro | E52: Teppichboden | F52: 19.25 | G52: A | J52: =F52 -> 19.25
A53: Haus 5 | B53: 2.OG | C53: 2.02 | D53: Büro | E53: Teppichboden | F53: 18.54 | G53: A | J53: =F53 -> 18.54
A54: Haus 5 | B54: 2.OG | C54: 2.03 | D54: Büro | E54: Teppichboden | F54: 18.15 | G54: A | J54: =F54 -> 18.15
A55: Haus 5 | B55: 2.OG | C55: 2.04 | D55: Büro | E55: Teppichboden | F55: 22.78 | G55: A | J55: =F55 -> 22.78
A56: Haus 5 | B56: 2.OG | C56: 2.05 | D56: Büro | E56: Teppichboden | F56: 17.37 | G56: A | J56: =F56 -> 17.37
A57: Haus 5 | B57: 2.OG | C57: 2.06 | D57: Büro | E57: Teppichboden | F57: 17.74 | G57: A | J57: =F57 -> 17.74
A58: Haus 5 | B58: 2.OG | C58: 2.07 | D58: Büro | E58: Teppichboden | F58: 17.42 | G58: A | J58: =F58 -> 17.42
A59: Haus 5 | B59: 2.OG | C59: 2.08 | D59: Büro | E59: Teppichboden | F59: 27.46 | G59: A | J59: =F59 -> 27.46
A60: Haus 5 | B60: 2.OG | C60: 2.09 | D60: Büro | E60: Teppichboden | F60: 18.84 | G60: A | J60: =F60 -> 18.84
A61: Haus 5 | B61: 2.OG | C61: 2.10 | D61: Büro | E61: Teppichboden | F61: 18.56 | G61: A | J61: =F61 -> 18.56
A62: Haus 5 | B62: 2.OG | C62: 2.11 | D62: Büro | E62: Teppichboden | F62: 18.67 | G62: A | J62: =F62 -> 18.67
... A64: Haus 5 | B64: 2.OG | C64: 2.13 | D64: Büro | E64: Teppichboden | F64: 18.84 | G64: A | J64: =F64 -> 18.84
A65: Haus 5 | B65: 2.OG | C65: 2.14 | D65: Aktenlager | E65: Teppichboden | F65: 18.56 | G65: L | L65: =F65 -> 18.56
A66: Haus 5 | B66: 2.OG | C66: 2.17 | D66: Besprechungsraum | E66: Teppichboden | F66: 34.36 | G66: C | H66: =F66 -> 34.36 | O66: Frühreinigung
A67: Haus 5 | B67: 2.OG | C67: 2.18 | D67: Krankenzimmer/Bürotechnik | E67: PVC | F67: 17.83 | G67: F | J67: =F67 -> 17.83
A68: Haus 5 | B68: 2.OG | C68: 2.20 | D68: Büro | E68: Teppichboden | F68: 37.79 | G68: A | J68: =F68 -> 37.79
A69: Haus 5 | B69: 2.OG | C69: 2.21 | D69: Büro | E69: Teppichboden | F69: 18.39 | G69: A | J69: =F69 -> 18.39
A70: Haus 5 | B70: 2.OG | C70: 2.22 | D70: Büro | E70: Teppichboden | F70: 16.01 | G70: A | J70: =F70 -> 16.01
A71: Haus 5 | B71: 2.OG | C71: 2.23 | D71: Büro | E71: Teppichboden | F71: 18.84 | G71: A | J71: =F71 -> 18.84
A72: Haus 5 | B72: 2.OG | C72: 2.24 | D72: Büro | E72: Teppichboden | F72: 12.76 | G72: A | J72: =F72 -> 12.76
A73: Haus 5 | B73: 2.OG | C73: 2.25 | D73: Büro | E73: Teppichboden | F73: 18.73 | G73: A | J73: =F73 -> 18.73
A74: Haus 5 | B74: 2.OG | C74: 2.26 | D74: Büro | E74: Teppichboden | F74: 19.06 | G74: A | J74: =F74 -> 19.06
A75: Haus 5 | B75: 2.OG | C75: 2.27 | D75: Büro | E75: Teppichboden | F75: 28.36 | G75: A | J75: =F75 -> 28.36
A76: Haus 5 | B76: 2.OG | C76: 2.28 | D76: Büro | E76: Teppichboden | F76: 18.84 | G76: A | J76: =F76 -> 18.84
A77: Haus 5 | B77: 2.OG | C77: 2.29 | D77: Büro | E77: Teppichboden | F77: 18.84 | G77: A | J77: =F77 -> 18.84
A78: Haus 5 | B78: 2.OG | C78: 2.30 | D78: Büro | E78: Teppichboden | F78: 18.73 | G78: A | J78: =F78 -> 18.73
... A91: Haus 5 | B91: 2.OG | C91: 2.43 | D91: Büro | E91: Teppichboden | F91: 33.06 | G91: A | J91: =F91 -> 33.06
A92: Haus 5 | B92: 2.OG | D92: Damen WC | E92: Fliesen | F92: 16.3 | G92: E | H92: =F92 -> 16.3
A93: Haus 5 | B93: 2.OG | D93: Damen WC | E93: Fliesen | F93: 12.57 | G93: E | H93: =F93 -> 12.57
A94: Haus 5 | B94: 2.OG | D94: Flure | E94: Teppichboden | F94: 173.45 | G94: I | J94: =F94 -> 173.45
A95: Haus 5 | B95: 2.OG | D95: Herren WC | E95: Fliesen | F95: 19.09 | G95: E | H95: =F95 -> 19.09
A96: Haus 5 | B96: 2.OG | D96: Herren WC | E96: Fliesen | F96: 12.03 | G96: E | H96: =F96 -> 12.03
A97: Haus 5 | B97: 2.OG | D97: Treppenhäuser | E97: Fliesen | F97: 36.26 | G97: J2 | J97: =F97 -> 36.26
A98: Haus 5 | B98: EG | C98: 001 | D98: Büro | E98: Teppichboden | F98: 23.17 | G98: A | J98: =F98 -> 23.17
A99: Haus 5 | B99: EG | C99: 002 | D99: Büro | E99: Teppichboden | F99: 19.12 | G99: A | J99: =F99 -> 19.12
A100: Haus 5 | B100: EG | C100: 003 | D100: Büro | E100: Teppichboden | F100: 18.32 | G100: A | J100: =F100 -> 18.32
A101: Haus 5 | B101: EG | C101: 004 | D101: Büro | E101: Teppichboden | F101: 8.64 | G101: A | J101: =F101 -> 8.64
A102: Haus 5 | B102: EG | C102: 005 | D102: Büro | E102: Teppichboden | F102: 13.53 | G102: A | J102: =F102 -> 13.53
A103: Haus 5 | B103: EG | C103: 006 | D103: Büro | E103: Teppichboden | F103: 19.38 | G103: A | J103: =F103 -> 19.38
A104: Haus 5 | B104: EG | C104: 007 | D104: Büro | E104: Teppichboden | F104: 18.23 | G104: A | J104: =F104 -> 18.23 | O104: Frühreinigung
A105: Haus 5 | B105: EG | C105: 008 | D105: Bibliothek | E105: Teppichboden | F105: 235.6 | G105: G | J105: =F105 -> 235.6 | O105: Frühreinigung
A106: Haus 5 | B106: EG | C106: 009 | D106: Besprechungsraum | E106: Teppichboden | F106: 39.13 | G106: C | H106: =F106 -> 39.13 | O106: Frühreinigung
A107: Haus 5 | B107: EG | C107: 010 | D107: Büro | E107: Teppichboden | F107: 19.38 | G107: A | J107: =F107 -> 19.38
A108: Haus 5 | B108: EG | C108: 011 | D108: Büro | E108: Teppichboden | F108: 18.32 | G108: A | J108: =F108 -> 18.32
A109: Haus 5 | B109: EG | C109: 012 | D109: Poststelle | E109: PVC | F109: 13.53 | G109: A | J109: =F109 -> 13.53
A110: Haus 5 | B110: EG | C110: 013 | D110: IT-Technik | E110: PVC | F110: 8 | G110: F | J110: =F110 -> 8
A111: Haus 5 | B111: EG | C111: 014 | D111: Büro | E111: Teppichboden | F111: 19.12 | G111: A | J111: =F111 -> 19.12
A112: Haus 5 | B112: EG | C112: 015 | D112: Büro | E112: Teppichboden | F112: 23.17 | G112: A | J112: =F112 -> 23.17
A113: Haus 5 | B113: EG | C113: 016 | D113: Büro- Neu | E113: Teppichboden | F113: 18.25 | G113: A | J113: =F113 -> 18.25
A114: Haus 5 | B114: EG | C114: 017 | D114: Büro- Neu | E114: Teppichboden | F114: 18.25 | G114: A | J114: =F114 -> 18.25
A115: Haus 5 | B115: EG | C115: 018 | D115: Büro- Neu | E115: Teppichboden | F115: 18.25 | G115: A | J115: =F115 -> 18.25
A116: Haus 5 | B116: EG | C116: 019 | D116: Büro- Neu | E116: Teppichboden | F116: 18.25 | G116: A | J116: =F116 -> 18.25
A117: Haus 5 | B117: EG | C117: 020 | D117: Büro- Neu | E117: Teppichboden | F117: 18.25 | G117: A | J117: =F117 -> 18.25
A118: Haus 5 | B118: EG | C118: 021 | D118: Büro- Neu | E118: Teppichboden | F118: 18.25 | G118: A | J118: =F118 -> 18.25
B119: EG | C119: 022 | D119: Büro- Neu | E119: Teppichboden | F119: 18.25 | G119: A | J119: =F119 -> 18.25
A120: Haus 5 | B120: EG | D120: Aufenthaltsraum Boten | E120: Teppichboden | F120: 13.9 | G120: A | J120: =F120 -> 13.9
A121: Haus 5 | B121: EG | D121: Damen WC | E121: Fliesen | F121: 16.82 | G121: E | H121: =F121 -> 16.82
A122: Haus 5 | B122: EG | D122: Damen WC | E122: Fliesen | F122: 12.57 | G122: E | H122: =F122 -> 12.57
A123: Haus 5 | B123: EG | D123: Flur | E123: Teppichboden | F123: 36.07 | G123: I | J123: =F123 -> 36.07
A124: Haus 5 | B124: EG | D124: Flure/Lobby | E124: Fliesen | F124: 105.65 | G124: H | H124: =F124 -> 105.65
A125: Haus 5 | B125: EG | D125: Herren WC | E125: Fliesen | F125: 16.82 | G125: E | H125: =F125 -> 16.82
A126: Haus 5 | B126: EG | D126: Herren WC | E126: Fliesen | F126: 12.03 | G126: E | H126: =F126 -> 12.03
A127: Haus 5 | B127: EG | D127: Kopierstelle | E127: PVC | F127: 166.7 | G127: K | J127: =F127 -> 166.7 | O127: Frühreinigung
...

Sheet Haus 7
A2: Gebäude | B2: Etage | C2: Raum- Nr. | D2: Raumbezeichnung | E2: Belagsart | F2: Grundfläche QM | G2: Raumgruppe | H2: Reinigungshäufigkeit Reinigen der Fußböden und Einrichtungsgegenstände (einschließlich der Arbeitsplätze) | O2: Bemerkungen
H3: wöchentlich im QM | K3: monatlich in QM | L3: vierteljährig in QM | M3: halbjährig in QM | N3: jährlich in QM
H4: 5x | I4: 2x | J4: 1x | K4: 1x | L4: 1x | M4: 1x | N4: 1x
A5: Haus 7 | B5: EG | C5: 001 | D5: Schulungsraum | E5: Teppichboden | F5: 69.63 | G5: C | H5: =F5 -> 69.63
A6: Haus 7 | B6: EG | C6: 002 | D6: Besprecher | E6: Hochfloorteppich | F6: 184.97 | G6: C | H6: =F6 -> 184.97
A7: Haus 7 | B7: EG | C7: 002a | D7: IT-Technik | E7: PVC | F7: 8.55 | G7: F | J7: =F7 -> 8.55
A8: Haus 7 | B8: EG | C8: 003 | D8: Garderobe | E8: Teppichboden | F8: 13.99 | G8: F | J8: =F8 -> 13.99
A9: Haus 7 | B9: EG | C9: 004 | D9: Besprecher | E9: Hochfloorteppich | F9: 66.23 | G9: C | H9: =F9 -> 66.23
A10: Haus 7 | B10: EG | C10: 005 | D10: kl. Teeküche | E10: Teppichboden | F10: 4.72 | G10: D1 | H10: =F10 -> 4.72
A11: Haus 7 | B11: EG | C11: 006/007 | D11: Poolbüro | E11: Hochfloorteppich | F11: 91.17 | G11: A | J11: =F11 -> 91.17
A12: Haus 7 | B12: EG | C12: 008 | D12: Betriebsraum | E12: Hochfloorteppich | F12: 16.94 | G12: A | J12: =F12 -> 16.94
A13: Haus 7 | B13: EG | C13: 009 | D13: Pforte | E13: Teppichboden | F13: 17.77 | G13: F | J13: =F13 -> 17.77
A14: Haus 7 | B14: EG | C14: 010 | D14: Teeküche | E14: Vinylboden | F14: 25.45 | G14: D1 | H14: =F14 -> 25.45
A15: Haus 7 | B15: EG | C15: 011 | D15: Besprecher | E15: Teppichboden | F15: 66.2 | G15: C | H15: =F15 -> 66.2
A16: Haus 7 | B16: EG | C16: 012 | D16: Garderobe | E16: Teppichboden | F16: 8.87 | G16: F | J16: =F16 -> 8.87
A17: Haus 7 | B17: EG | C17: 013 | D17: Schulungsraum | E17: Teppichboden | F17: 69.95 | G17: C | H17: =F17 -> 69.95
A18: Haus 7 | B18: EG | D18: Flure | E18: Teppichboden | F18: 53.08 | G18: I | J18: =F18 -> 53.08
A19: Haus 7 | B19: EG | D19: Eingangsbereich | E19: Stein | F19: 41.69 | G19: H | H19: =F19 -> 41.69
A20: Haus 7 | B20: EG | D20: Foyer Nebeneingang | E20: Stein | F20: 45.11 | G20: H | H20: =F20 -> 45.11
A21: Haus 7 | B21: EG | D21: Foyer Haupteingang | E21: Naturfeinstein | F21: 91.11 | G21: H | H21: =F21 -> 91.11
A22: Haus 7 | B22: EG | D22: WC Flächen EG | E22: Fliesen | F22: 89.15 | G22: E | H22: =F22 -> 89.15
A23: Haus 7 | B23: 1 OG | C23: 101 | D23: Büro | E23: Teppichboden | F23: 13.78 | G23: A | J23: =F23 -> 13.78
A24: Haus 7 | B24: 1 OG | C24: 102 | D24: Büro | E24: Teppichboden | F24: 19.28 | G24: A | J24: =F24 -> 19.28
A25: Haus 7 | B25: 1 OG | C25: 103 | D25: Büro | E25: Teppichboden | F25: 19.24 | G25: A | J25: =F25 -> 19.24
A26: Haus 7 | B26: 1 OG | C26: 104 | D26: Büro | E26: Teppichboden | F26: 18.78 | G26: A | J26: =F26 -> 18.78
A27: Haus 7 | B27: 1 OG | C27: 105 | D27: Büro | E27: Teppichboden | F27: 13.74 | G27: A | J27: =F27 -> 13.74
A28: Haus 7 | B28: 1 OG | C28: 106 | D28: Büro | E28: Teppichboden | F28: 13.71 | G28: A | J28: =F28 -> 13.71
A29: Haus 7 | B29: 1 OG | C29: 107 | D29: Büro | E29: Teppichboden | F29: 19.06 | G29: A | J29: =F29 -> 19.06
A30: Haus 7 | B30: 1 OG | C30: 108 | D30: Büro | E30: Teppichboden | F30: 17.75 | G30: A | J30: =F30 -> 17.75
A31: Haus 7 | B31: 1 OG | C31: 109 | D31: Büro | E31: Teppichboden | F31: 18.54 | G31: A | J31: =F31 -> 18.54
A32: Haus 7 | B32: 1 OG | C32: 110 | D32: Büro | E32: Teppichboden | F32: 18.51 | G32: A | J32: =F32 -> 18.51
A33: Haus 7 | B33: 1 OG | C33: 111 | D33: Büro | E33: Teppichboden | F33: 18.45 | G33: A | J33: =F33 -> 18.45
A34: Haus 7 | B34: 1 OG | C34: 112 | D34: Büro | E34: Teppichboden | F34: 18.48 | G34: A | J34: =F34 -> 18.48
... A60: Haus 7 | B60: 1 OG | C60: 135 | D60: Büro | E60: Teppichboden | F60: 13.78 | G60: A | J60: =F60 -> 13.78
A61: Haus 7 | B61: 1 OG | D61: Flure | E61: Nadelfilz | F61: 190.33 | G61: I | J61: =F61 -> 190.33
A62: Haus 7 | B62: 1 OG | D62: Flure Treppenbereich | E62: Naturfeinstein | F62: 61.5 | G62: J2 | J62: =F62 -> 61.5
A63: Haus 7 | B63: 1 OG | D63: WC Flächen 1 OG | E63: Fliesen | F63: 58.04 | G63: E | H63: =F63 -> 58.04
A64: Haus 7 | B64: 2 OG | C64: 201 | D64: Büro | E64: Teppichboden | F64: 13.84 | G64: A | J64: =F64 -> 13.84
A65: Haus 7 | B65: 2 OG | C65: 202 | D65: Büro | E65: Teppichboden | F65: 18.64 | G65: A | J65: =F65 -> 18.64
A66: Haus 7 | B66: 2 OG | C66: 203 | D66: Büro | E66: Teppichboden | F66: 18.49 | G66: A | J66: =F66 -> 18.49
A67: Haus 7 | B67: 2 OG | C67: 204 | D67: Büro | E67: Teppichboden | F67: 18.3 | G67: A | J67: =F67 -> 18.3
A68: Haus 7 | B68: 2 OG | C68: 205 | D68: Büro | E68: Teppichboden | F68: 18.44 | G68: A | J68: =F68 -> 18.44
A69: Haus 7 | B69: 2 OG | C69: 206 | D69: Büro | E69: Teppichboden | F69: 18.27 | G69: A | J69: =F69 -> 18.27
A70: Haus 7 | B70: 2 OG | C70: 207 | D70: Büro | E70: Teppichboden | F70: 18.33 | G70: A | J70: =F70 -> 18.33
A71: Haus 7 | B71: 2 OG | C71: 208 | D71: Büro | E71: Teppichboden | F71: 13.53 | G71: A | J71: =F71 -> 13.53
A72: Haus 7 | B72: 2 OG | C72: 209 | D72: Büro | E72: Teppichboden | F72: 13.53 | G72: A | J72: =F72 -> 13.53
A73: Haus 7 | B73: 2 OG | C73: 210 | D73: Büro | E73: Teppichboden | F73: 13.53 | G73: A | J73: =F73 -> 13.53
A74: Haus 7 | B74: 2 OG | C74: 211 | D74: Büro | E74: Teppichboden | F74: 13.69 | G74: A | J74: =F74 -> 13.69
A75: Haus 7 | B75: 2 OG | C75: 212 | D75: Büro | E75: Teppichboden | F75: 18.49 | G75: A | J75: =F75 -> 18.49
... A102: Haus 7 | B102: 2 OG | C102: 238b | D102: Büro | E102: Teppichboden | F102: 13.97 | G102: A | J102: =F102 -> 13.97
A103: Haus 7 | B103: 2 OG | D103: Flure | E103: Nadelfilz | F103: 199.63 | G103: I | J103: =F103 -> 199.63
A104: Haus 7 | B104: 2 OG | D104: Flure Treppenbereich | E104: Naturfeinstein | F104: 50.85 | G104: J2 | J104: =F104 -> 50.85
A105: Haus 7 | B105: 2 OG | D105: WC Flächen 2 OG | E105: Fliesen | F105: 72.05 | G105: E | H105: =F105 -> 72.05
A106: Haus 7 | B106: 2 OG | D106: Teeküche | E106: Fliesen | F106: 3.44 | G106: D1 | H106: =F106 -> 3.44
A107: Haus 7 | B107: 3 OG | C107: 301 | D107: Büro | E107: Teppichboden | F107: 13.83 | G107: A | J107: =F107 -> 13.83
A108: Haus 7 | B108: 3 OG | C108: 302 | D108: Büro | E108: Teppichboden | F108: 18.33 | G108: A | J108: =F108 -> 18.33
A109: Haus 7 | B109: 3 OG | C109: 303 | D109: Büro | E109: Teppichboden | F109: 23.25 | G109: A | J109: =F109 -> 23.25
A110: Haus 7 | B110: 3 OG | C110: 304 | D110: Büro | E110: Teppichboden | F110: 13.54 | G110: A | J110: =F110 -> 13.54
A111: Haus 7 | B111: 3 OG | C111: 305 | D111: Büro | E111: Teppichboden | F111: 13.8 | G111: A | J111: =F111 -> 13.8
A112: Haus 7 | B112: 3 OG | C112: 306 | D112: Büro | E112: Teppichboden | F112: 13.84 | G112: A | J112: =F112 -> 13.84
A113: Haus 7 | B113: 3 OG | C113: 307 | D113: Büro | E113: Teppichboden | F113: 13.68 | G113: A | J113: =F113 -> 13.68
A114: Haus 7 | B114: 3 OG | C114: 308 | D114: Büro | E114: Teppichboden | F114: 13.68 | G114: A | J114: =F114 -> 13.68
A115: Haus 7 | B115: 3 OG | C115: 309 | D115: Büro | E115: Teppichboden | F115: 18.48 | G115: A | J115: =F115 -> 18.48
A116: Haus 7 | B116: 3 OG | C116: 310 | D116: Büro | E116: Teppichboden | F116: 18.27 | G116: A | J116: =F116 -> 18.27
A117: Haus 7 | B117: 3 OG | C117: 311 | D117: Büro | E117: Teppichboden | F117: 18.48 | G117: A | J117: =F117 -> 18.48
A118: Haus 7 | B118: 3 OG | C118: 312 | D118: Büro | E118: Teppichboden | F118: 18.54 | G118: A | J118: =F118 -> 18.54
... A123: Haus 7 | B123: 3 OG | C123: 317 | D123: Büro | E123: Teppichboden | F123: 13.84 | G123: A | J123: =F123 -> 13.84
A124: Haus 7 | B124: 3 OG | C124: 318/319 | D124: Büro | E124: Teppichboden | F124: 13.29 | G124: A | J124: =F124 -> 13.29
A125: Haus 7 | B125: 3 OG | C125: 320 | D125: Büro | E125: Teppichboden | F125: 18.4 | G125: A | J125: =F125 -> 18.4
A126: Haus 7 | B126: 3 OG | C126: 320a | D126: Büro | E126: Teppichboden | F126: 18.19 | G126: A | J126: =F126 -> 18.19
A127: Haus 7 | B127: 3 OG | C127: 321 | D127: Büro | E127: Teppichboden | F127: 17.62 | G127: A | J127: =F127 -> 17.62
A128: Haus 7 | B128: 3 OG | C128: 322 | D128: Teeküche + Küche bei den WC's | E128: Fliesen | F128: 21.75 | G128: D1 | H128: =F128 -> 21.75
A129: Haus 7 | B129: 3 OG | C129: 323 | D129: IT-Technik | E129: PVC | F129: 7.58 | G129: F | J129: =F129 -> 7.58
A130: Haus 7 | B130: 3 OG | C130: 324 | D130: Büro | E130: Teppichboden | F130: 17.46 | G130: A | J130: =F130 -> 17.46
A131: Haus 7 | B131: 3 OG | C131: 325/326 | D131: Büro | E131: Teppichboden | F131: 23.05 | G131: A | J131: =F131 -> 23.05
A132: Haus 7 | B132: 3 OG | C132: 327 | D132: Büro | E132: Teppichboden | F132: 13.71 | G132: A | J132: =F132 -> 13.71
A133: Haus 7 | B133: 3 OG | C133: 328 | D133: Büro | E133: Teppichboden | F133: 13.71 | G133: A | J133: =F133 -> 13.71
A134: Haus 7 | B134: 3 OG | C134: 328a | D134: Büro | E134: Teppichboden | F134: 13.71 | G134: A | J134: =F134 -> 13.71
A135: Haus 7 | B135: 3 OG | C135: 329 | D135: Büro | E135: Teppichboden | F135: 13.62 | G135: A | J135: =F135 -> 13.62
A136: Haus 7 | B136: 3 OG | C136: 330 | D136: Büro | E136: Teppichboden | F136: 13.62 | G136: A | J136: =F136 -> 13.62
A137: Haus 7 | B137: 3 OG | C137: 331 | D137: Büro | E137: Teppichboden | F137: 13.71 | G137: A | J137: =F137 -> 13.71
A138: Haus 7 | B138: 3 OG | C138: 332 | D138: Büro | E138: Teppichboden | F138: 13.78 | G138: A | J138: =F138 -> 13.78
A139: Haus 7 | B139: 3 OG | C139: 333 | D139: Büro | E139: Teppichboden | F139: 13.78 | G139: A | J139: =F139 -> 13.78
A140: Haus 7 | B140: 3 OG | C140: 334 | D140: Büro | E140: Teppichboden | F140: 13.71 | G140: A | J140: =F140 -> 13.71
A141: Haus 7 | B141: 3 OG | C141: 335 | D141: Büro | E141: Teppichboden | F141: 13.71 | G141: A | J141: =F141 -> 13.71
A142: Haus 7 | B142: 3 OG | C142: 336 | D142: Büro | E142: Teppichboden | F142: 13.78 | G142: A | J142: =F142 -> 13.78
A143: Haus 7 | B143: 3 OG | C143: 337 | D143: Büro | E143: Teppichboden | F143: 17.63 | G143: A | J143: =F143 -> 17.63
A144: Haus 7 | B144: 3 OG | C144: 338 | D144: Büro | E144: Teppichboden | F144: 22.05 | G144: A | J144: =F144 -> 22.05
A145: Haus 7 | B145: 3 OG | C145: 339 | D145: Büro | E145: Teppichboden | F145: 13.09 | G145: A | J145: =F145 -> 13.09
A146: Haus 7 | B146: 3 OG | C146: 340 | D146: Bürotechnik | E146: Teppichboden | F146: 8.42 | G146: F | J146: =F146 -> 8.42
... A150: Haus 7 | B150: 3 OG | C150: 344 | D150: Büro | E150: Teppichboden | F150: 13.78 | G150: A | J150: =F150 -> 13.78
A151: Haus 7 | B151: 3 OG | D151: Flure | E151: Nadelfilz | F151: 134.45 | G151: I | J151: =F151 -> 134.45
A152: Haus 7 | B152: 3 OG | D152: Flure Treppenbereich | E152: Naturfeinstein | F152: 51.29 | G152: J2 | J152: =F152 -> 51.29
A153: Haus 7 | B153: 3 OG | D153: WC Flächen 3 OG | E153: Fliesen | F153: 54.98 | G153: E | H153: =F153 -> 54.98
A154: Haus 7 | B154: 4 OG | C154: 401 | D154: Büro | E154: Teppichboden | F154: 13.78 | G154: A | J154: =F154 -> 13.78
A155: Haus 7 | B155: 4 OG | C155: 402 | D155: Büro | E155: Teppichboden | F155: 17.62 | G155: A | J155: =F155 -> 17.62
A156: Haus 7 | B156: 4 OG | C156: 403 | D156: Büro | E156: Teppichboden | F156: 18.45 | G156: A | J156: =F156 -> 18.45
A157: Haus 7 | B157: 4 OG | C157: 404 | D157: Büro | E157: Teppichboden | F157: 18.34 | G157: A | J157: =F157 -> 18.34
A158: Haus 7 | B158: 4 OG | C158: 405-407 | D158: Büro | E158: Teppichboden | F158: 37.65 | G158: A | J158: =F158 -> 37.65
A159: Haus 7 | B159: 4 OG | C159: 408/409 | D159: Büro | E159: Teppichboden | F159: 28.14 | G159: A | J159: =F159 -> 28.14
...

Sheet Haus 8
A2: Gebäude | B2: Etage | C2: Raum- Nr. | D2: Raumbezeichnung | E2: Belagsart | F2: Grundfläche QM | G2: Raumgruppe | H2: Reinigungshäufigkeit Reinigen der Fußböden und Einrichtungsgegenstände (einschließlich der Arbeitsplätze) | O2: Bemerkungen
H3: wöchentlich in QM | K3: monatlich in QM | L3: vierteljährig in QM | M3: halbjährig in QM | N3: jährlich in QM
H4: 5x | I4: 2x | J4: 1x | K4: 1x | L4: 1x | M4: 1x | N4: 1x
A5: Haus 8 | B5: 1. OG | C5: 03 | D5: IT-Technik | E5: Teppichboden | F5: 29.37 | G5: F | J5: =F5 -> 29.37
A6: Haus 8 | B6: 1. OG | C6: 04 | D6: Büro | E6: Teppichboden | F6: 43.17 | G6: A | J6: =F6 -> 43.17
A7: Haus 8 | B7: 1. OG | C7: 05 | D7: Büro | E7: Teppichboden | F7: 19.03 | G7: A | J7: =F7 -> 19.03
A8: Haus 8 | B8: 1. OG | C8: 06 | D8: Büro | E8: Teppichboden | F8: 20.23 | G8: A | J8: =F8 -> 20.23
A9: Haus 8 | B9: 1. OG | C9: 07 | D9: Büro | E9: Teppichboden | F9: 20.88 | G9: A | J9: =F9 -> 20.88
A10: Haus 8 | B10: 1. OG | C10: 08 | D10: Büro | E10: Teppichboden | F10: 27.43 | G10: A | J10: =F10 -> 27.43
A11: Haus 8 | B11: 1. OG | C11: 09 | D11: Büro | E11: Teppichboden | F11: 18.06 | G11: A | J11: =F11 -> 18.06
A12: Haus 8 | B12: 1. OG | C12: 10 | D12: Büro | E12: Teppichboden | F12: 18.37 | G12: A | J12: =F12 -> 18.37
A13: Haus 8 | B13: 1. OG | C13: 11 | D13: Büro | E13: Teppichboden | F13: 18.2 | G13: A | J13: =F13 -> 18.2
A14: Haus 8 | B14: 1. OG | C14: 12 | D14: Büro | E14: Teppichboden | F14: 18.02 | G14: A | J14: =F14 -> 18.02
A15: Haus 8 | B15: 1. OG | C15: 12a | D15: Bürotechnik | E15: PVC | F15: 10.23 | G15: F | J15: =F15 -> 10.23
A16: Haus 8 | B16: 1. OG | C16: 13 | D16: Besprechung | E16: Teppichboden | F16: 43.17 | G16: C | H16: =F16 -> 43.17 | O16: Frühreinigung
A17: Haus 8 | B17: 1. OG | C17: 13 | D17: Büro | E17: Teppichboden | F17: 18.26 | G17: A | J17: =F17 -> 18.26
A18: Haus 8 | B18: 1. OG | C18: 14 | D18: Büro | E18: Teppichboden | F18: 23.3 | G18: A | J18: =F18 -> 23.3
A19: Haus 8 | B19: 1. OG | C19: 15 | D19: Büro | E19: Teppichboden | F19: 33.18 | G19: A | J19: =F19 -> 33.18
A20: Haus 8 | B20: 1. OG | C20: 21 | D20: Bürotechnik | E20: PVC | F20: 8.87 | G20: F | J20: =F20 -> 8.87
A21: Haus 8 | B21: 1. OG | C21: 31 | D21: Küche | E21: PVC oder Fliesen | F21: 5.46 | G21: D1 | H21: =F21 -> 5.46
A22: Haus 8 | B22: 1. OG | C22: 32a | D22: WC | E22: Fliesen | F22: 4.25 | G22: E | H22: =F22 -> 4.25
A23: Haus 8 | B23: 1. OG | C23: 32b | D23: WC | E23: Fliesen | F23: 9.25 | G23: E | H23: =F23 -> 9.25
A24: Haus 8 | B24: 1. OG | C24: 33 | D24: Flur | E24: Teppichboden | F24: 27.9 | G24: I | J24: =F24 -> 27.9
A25: Haus 8 | B25: 1. OG | C25: 36a | D25: WC | E25: Fliesen | F25: 9.23 | G25: E | H25: =F25 -> 9.23
A26: Haus 8 | B26: 1. OG | C26: 40 | D26: Flur | E26: Teppichboden | F26: 76.39 | G26: I | J26: =F26 -> 76.39
A27: Haus 8 | B27: 1. OG | C27: 41 | D27: Flur | E27: Teppichboden | F27: 13.38 | G27: I | J27: =F27 -> 13.38
A28: Haus 8 | B28: 1.OG | C28: 1.01 | D28: Treppenhaus | E28: Stein | F28: 15.99 | G28: J2 | J28: =F28 -> 15.99
A29: Haus 8 | B29: 2. OG | C29: 01 | D29: Büro | E29: Teppichboden | F29: 18.3 | G29: A | J29: =F29 -> 18.3
A30: Haus 8 | B30: 2. OG | C30: 02 | D30: Büro | E30: Teppichboden | F30: 18.45 | G30: A | J30: =F30 -> 18.45
A31: Haus 8 | B31: 2. OG | C31: 03 | D31: IT-Technik | E31: PVC | F31: 18.67 | G31: F | J31: =F31 -> 18.67
A32: Haus 8 | B32: 2.OG | C32: 03a | D32: Bürotechnik | E32: PVC | F32: 12 | G32: F | J32: =F32 -> 12
A33: Haus 8 | B33: 2. OG | C33: 04 | D33: Büro | E33: Teppichboden | F33: 18.22 | G33: A | J33: =F33 -> 18.22
A34: Haus 8 | B34: 2. OG | C34: 05 | D34: Büro | E34: Teppichboden | F34: 18.23 | G34: A | J34: =F34 -> 18.23
A35: Haus 8 | B35: 2. OG | C35: 06 | D35: Büro | E35: Teppichboden | F35: 17.9 | G35: A | J35: =F35 -> 17.9
A36: Haus 8 | B36: 2. OG | C36: 07 | D36: Büro | E36: Teppichboden | F36: 16.45 | G36: A | J36: =F36 -> 16.45
A37: Haus 8 | B37: 2. OG | C37: 08 | D37: Büro | E37: Teppichboden | F37: 19.8 | G37: A | J37: =F37 -> 19.8
... A48: Haus 8 | B48: 2. OG | C48: 21 | D48: Bürotechnik | E48: PVC | F48: 15.47 | G48: F | J48: =F48 -> 15.47
A49: Haus 8 | B49: 2. OG | C49: 31 | D49: Küche | E49: PVC oder Fliesen | F49: 3.89 | G49: D1 | H49: =F49 -> 3.89
A50: Haus 8 | B50: 2. OG | C50: 32a | D50: WC | E50: Fliesen | F50: 5.28 | G50: E | H50: =F50 -> 5.28
A51: Haus 8 | B51: 2. OG | C51: 32b | D51: WC | E51: Fliesen | F51: 4.25 | G51: E | H51: =F51 -> 4.25
A52: Haus 8 | B52: 2. OG | C52: 33 | D52: Flur | E52: Teppichboden | F52: 71.71 | G52: I | J52: =F52 -> 71.71
A53: Haus 8 | B53: 2. OG | C53: 36a | D53: WC | E53: Fliesen | F53: 12.45 | G53: E | H53: =F53 -> 12.45
A54: Haus 8 | B54: 2. OG | C54: 37 | D54: Putzmittel | E54: PVC oder Fliesen | F54: 5.69 | G54: L | L54: =F54 -> 5.69
A55: Haus 8 | B55: 2. OG | C55: 40 | D55: Flur | E55: Teppichboden | F55: 30.41 | G55: I | J55: =F55 -> 30.41
A56: Haus 8 | B56: 2.OG | D56: Treppenhaus | E56: Stein | F56: 15.99 | G56: J2 | J56: =F56 -> 15.99
A57: Haus 8 | B57: EG | C57: 01 | D57: Büro | E57: Teppichboden | F57: 27.01 | G57: A | J57: =F57 -> 27.01
A58: Haus 8 | B58: EG | C58: 02 | D58: Büro | E58: Teppichboden | F58: 17.68 | G58: A | J58: =F58 -> 17.68
A59: Haus 8 | B59: EG | C59: 03 | D59: Büro | E59: Teppichboden | F59: 18.09 | G59: A | J59: =F59 -> 18.09
A60: Haus 8 | B60: EG | C60: 04 | D60: Büro | E60: Teppichboden | F60: 18.19 | G60: A | J60: =F60 -> 18.19
A61: Haus 8 | B61: EG | C61: 05 | D61: Büro | E61: Teppichboden | F61: 25.06 | G61: A | J61: =F61 -> 25.06
A62: Haus 8 | B62: EG | C62: 06 | D62: Büro | E62: Teppichboden | F62: 18.15 | G62: A | J62: =F62 -> 18.15
A63: Haus 8 | B63: EG | C63: 07 | D63: Büro | E63: Teppichboden | F63: 24.25 | G63: A | J63: =F63 -> 24.25
A64: Haus 8 | B64: EG | C64: 21 | D64: Bürotechnik | E64: PVC | F64: 11.01 | G64: F | J64: =F64 -> 11.01
A65: Haus 8 | B65: EG | C65: 33 | D65: Flur | E65: Teppichboden | F65: 31.85 | G65: I | J65: =F65 -> 31.85
A66: Haus 8 | B66: EG | C66: 40 | D66: Flur | E66: Teppichboden | F66: 53.67 | G66: I | J66: =F66 -> 53.67
A67: Haus 8 | B67: EG | C67: Eingang | D67: Eingang Schwerb. | E67: Teppichboden | F67: 71.02 | G67: I | J67: =F67 -> 71.02
A68: Haus 8 | B68: EG | C68: Lager | D68: Lager | E68: Gummiboden | F68: 8.07 | G68: L | L68: =F68 -> 8.07
A69: Haus 8 | B69: EG | C69: WC | D69: Behinderten - WC | E69: Fliesen | F69: 8.79 | G69: E | H69: =F69 -> 8.79
F71: =SUM(F4:F70) -> 1398.64 | H71: =SUM(H5:H70) -> 106.02 | J71: =SUM(J5:J70) -> 1278.86 | L71: =SUM(L5:L70) -> 13.76

Sheet Haus 9-10
A2: Gebäude | B2: Etage | C2: Raum- Nr. | D2: Raumbezeichnung | E2: Belagsart | F2: Grundfläche QM | G2: Raumgruppe | H2: Reinigungshäufigkeit Reinigen der Fußböden und Einrichtungsgegenstände (einschließlich der Arbeitsplätze) | O2: Bemerkungen
H3: wöchentlich in QM | K3: monatlich in QM | L3: vierteljährig in QM | M3: halbjährig in QM | N3: jährlich in QM
H4: 5x | I4: 2x | J4: 1x | K4: 1x | L4: 1x | M4: 1x | N4: 1x
A5: Haus 9-10 | B5: 1. OG | C5: 03 | D5: Büro | E5: Teppichboden | F5: 18.6 | G5: A | J5: =F5 -> 18.6
A6: Haus 9-10 | B6: 1. OG | C6: 04 | D6: Büro | E6: Teppichboden | F6: 19.24 | G6: A | J6: =F6 -> 19.24
A7: Haus 9-10 | B7: 1. OG | C7: 05 | D7: Büro | E7: Teppichboden | F7: 19.24 | G7: A | J7: =F7 -> 19.24
A8: Haus 9-10 | B8: 1. OG | C8: 06 | D8: Büro | E8: Teppichboden | F8: 19.25 | G8: A | J8: =F8 -> 19.25
A9: Haus 9-10 | B9: 1. OG | C9: 07 | D9: Büro | E9: Teppichboden | F9: 19.25 | G9: A | J9: =F9 -> 19.25
A10: Haus 9-10 | B10: 1. OG | C10: 08 | D10: Büro | E10: Teppichboden | F10: 19.16 | G10: A | J10: =F10 -> 19.16
A11: Haus 9-10 | B11: 1. OG | C11: 09 | D11: Büro | E11: Teppichboden | F11: 18.3 | G11: A | J11: =F11 -> 18.3
A12: Haus 9-10 | B12: 1. OG | C12: 10 | D12: Büro | E12: Teppichboden | F12: 18.52 | G12: A | J12: =F12 -> 18.52
A13: Haus 9-10 | B13: 1. OG | C13: 31 | D13: Küche | E13: PVC oder Fliesen | F13: 9.73 | G13: D1 | H13: =F13 -> 9.73
A14: Haus 9-10 | B14: 1. OG | C14: 32a | D14: WC | E14: Fliesen | F14: 5.3 | G14: E | H14: =F14 -> 5.3
A15: Haus 9-10 | B15: 1. OG | C15: 32b | D15: WC | E15: Fliesen | F15: 7.14 | G15: E | H15: =F15 -> 7.14
A16: Haus 9-10 | B16: 1. OG | C16: 33 | D16: Flur | E16: Teppichboden | F16: 6.24 | G16: I | J16: =F16 -> 6.24
A17: Haus 9-10 | B17: 1. OG | C17: 36a | D17: WC | E17: Fliesen | F17: 6.17 | G17: E | H17: =F17 -> 6.17
A18: Haus 9-10 | B18: 1. OG | C18: 51 | D18: Treppenhaus | E18: Stein | F18: 16.15 | G18: J2 | J18: =F18 -> 16.15
A19: Haus 9-10 | B19: 1. OG | C19: 52 | D19: Treppenhaus | E19: Stein | F19: 15.36 | G19: J2 | J19: =F19 -> 15.36
A20: Haus 9-10 | B20: 1. OG | C20: WC | D20: Damen und Herren | E20: Fliesen | F20: 5.33 | G20: E | H20: =F20 -> 5.33
A21: Haus 9-10 | B21: 2. OG | C21: 01 | D21: Büro | E21: Teppichboden | F21: 17.78 | G21: A | J21: =F21 -> 17.78
A22: Haus 9-10 | B22: 2. OG | C22: 02 | D22: Büro | E22: Teppichboden | F22: 17.77 | G22: A | J22: =F22 -> 17.77
A23: Haus 9-10 | B23: 2. OG | C23: 04 | D23: Büro | E23: Teppichboden | F23: 19.24 | G23: A | J23: =F23 -> 19.24
A24: Haus 9-10 | B24: 2. OG | C24: 05 | D24: Büro | E24: Teppichboden | F24: 19.56 | G24: A | J24: =F24 -> 19.56
A25: Haus 9-10 | B25: 2. OG | C25: 06 | D25: Büro | E25: Teppichboden | F25: 19.5 | G25: A | J25: =F25 -> 19.5
A26: Haus 9-10 | B26: 2. OG | C26: 07 | D26: Büro | E26: Teppichboden | F26: 19.39 | G26: A | J26: =F26 -> 19.39
A27: Haus 9-10 | B27: 2. OG | C27: 08 | D27: Büro | E27: Teppichboden | F27: 19.45 | G27: A | J27: =F27 -> 19.45
A28: Haus 9-10 | B28: 2. OG | C28: 09 | D28: Büro | E28: Teppichboden | F28: 19.53 | G28: A | J28: =F28 -> 19.53
A29: Haus 9-10 | B29: 2. OG | C29: 10 | D29: Büro | E29: Teppichboden | F29: 19.5 | G29: A | J29: =F29 -> 19.5
A30: Haus 9-10 | B30: 2. OG | C30: 11 | D30: Büro | E30: Teppichboden | F30: 29.29 | G30: A | J30: =F30 -> 29.29
A31: Haus 9-10 | B31: 2. OG | C31: 12 | D31: Büro | E31: Teppichboden | F31: 19.27 | G31: A | J31: =F31 -> 19.27
A32: Haus 9-10 | B32: 2. OG | C32: 13 | D32: Büro | E32: Teppichboden | F32: 19.26 | G32: A | J32: =F32 -> 19.26
... A38: Haus 9-10 | B38: 2. OG | C38: 21 | D38: Bürotechnik | E38: PVC | F38: 9.48 | G38: F | J38: =F38 -> 9.48
A39: Haus 9-10 | B39: 2. OG | C39: 32a | D39: WC | E39: Fliesen | F39: 4.41 | G39: E | H39: =F39 -> 4.41
A40: Haus 9-10 | B40: 2. OG | C40: 32b | D40: WC | E40: Fliesen | F40: 6.18 | G40: E | H40: =F40 -> 6.18
A41: Haus 9-10 | B41: 2. OG | C41: 33 | D41: Treppenhaus | E41: Stein | F41: 14.87 | G41: J2 | J41: =F41 -> 14.87
A42: Haus 9-10 | B42: 2. OG | C42: 34 | D42: Treppenhaus | E42: Stein | F42: 15.65 | G42: J2 | J42: =F42 -> 15.65
A43: Haus 9-10 | B43: 2. OG | C43: 36a | D43: WC | E43: Fliesen | F43: 6.29 | G43: E | H43: =F43 -> 6.29
A44: Haus 9-10 | B44: 2. OG | C44: 36b | D44: WC | E44: Fliesen | F44: 6.96 | G44: E | H44: =F44 -> 6.96
A45: Haus 9-10 | B45: 2. OG | C45: 37 | D45: Küche | E45: PVC oder Fliesen | F45: 23.55 | G45: D1 | H45: =F45 -> 23.55
A46: Haus 9-10 | B46: 2. OG | C46: 40 | D46: Flur | E46: Teppichboden | F46: 46.13 | G46: I | J46: =F46 -> 46.13
A47: Haus 9-10 | B47: 2. OG | C47: 41 | D47: Flur | E47: Teppichboden | F47: 17.23 | G47: I | J47: =F47 -> 17.23
A48: Haus 9-10 | B48: 2. OG | C48: 44 | D48: Treppenhaus | E48: Stein | F48: 19.66 | G48: J2 | J48: =F48 -> 19.66
A49: Haus 9-10 | B49: 2. OG | C49: 47 | D49: Treppenhaus | E49: Stein | F49: 19.03 | G49: J2 | J49: =F49 -> 19.03
A50: Haus 9-10 | B50: 2. OG | C50: 51 | D50: Treppenhaus | E50: Stein | F50: 14.87 | G50: J2 | J50: =F50 -> 14.87
A51: Haus 9-10 | B51: 2. OG | C51: 52 | D51: Treppenhaus | E51: Stein | F51: 19.66 | G51: J2 | J51: =F51 -> 19.66
A52: Haus 9-10 | B52: 2. OG | D52: Küche | E52: PVC oder Fliesen | F52: 7.77 | G52: D1 | H52: =F52 -> 7.77
A53: Haus 9-10 | B53: 3. OG | C53: 01 | D53: Büro | E53: Teppichboden | F53: 17.62 | G53: A | J53: =F53 -> 17.62
A54: Haus 9-10 | B54: 3. OG | C54: 02 | D54: Büro | E54: Teppichboden | F54: 17.78 | G54: A | J54: =F54 -> 17.78
A55: Haus 9-10 | B55: 3. OG | C55: 04 | D55: Büro | E55: Teppichboden | F55: 19.31 | G55: A | J55: =F55 -> 19.31
A56: Haus 9-10 | B56: 3. OG | C56: 05 | D56: Büro | E56: Teppichboden | F56: 29.03 | G56: A | J56: =F56 -> 29.03
A57: Haus 9-10 | B57: 3. OG | C57: 06 | D57: Büro | E57: Teppichboden | F57: 19.16 | G57: A | J57: =F57 -> 19.16
A58: Haus 9-10 | B58: 3. OG | C58: 07 | D58: Büro | E58: Teppichboden | F58: 18.73 | G58: A | J58: =F58 -> 18.73
A59: Haus 9-10 | B59: 3. OG | C59: 08 | D59: Büro | E59: Teppichboden | F59: 19.07 | G59: A | J59: =F59 -> 19.07
A60: Haus 9-10 | B60: 3. OG | C60: 09 | D60: Büro | E60: Teppichboden | F60: 18.91 | G60: A | J60: =F60 -> 18.91
A61: Haus 9-10 | B61: 3. OG | C61: 10 | D61: Büro | E61: Teppichboden | F61: 18.91 | G61: A | J61: =F61 -> 18.91
A62: Haus 9-10 | B62: 3. OG | C62: 11 | D62: Büro | E62: Teppichboden | F62: 18.98 | G62: A | J62: =F62 -> 18.98
A63: Haus 9-10 | B63: 3. OG | C63: 12 | D63: Büro | E63: Teppichboden | F63: 19.53 | G63: A | J63: =F63 -> 19.53
A64: Haus 9-10 | B64: 3. OG | C64: 13 | D64: Büro | E64: Teppichboden | F64: 19.47 | G64: A | J64: =F64 -> 19.47
... A70: Haus 9-10 | B70: 3. OG | C70: 21 | D70: Bürotechnik | E70: Teppichboden | F70: 8.84 | G70: F | J70: =F70 -> 8.84
A71: Haus 9-10 | B71: 3. OG | C71: 32a | D71: WC | E71: Fliesen | F71: 4.41 | G71: E | H71: =F71 -> 4.41
A72: Haus 9-10 | B72: 3. OG | C72: 32b | D72: WC | E72: Fliesen | F72: 6.18 | G72: E | H72: =F72 -> 6.18
A73: Haus 9-10 | B73: 3. OG | C73: 33 | D73: Treppenhaus | E73: Stein | F73: 14.87 | G73: J2 | J73: =F73 -> 14.87
A74: Haus 9-10 | B74: 3. OG | C74: 34 | D74: Treppenhaus | E74: Stein | F74: 15.65 | G74: J2 | J74: =F74 -> 15.65
A75: Haus 9-10 | B75: 3. OG | C75: 36a | D75: WC | E75: Fliesen | F75: 6.29 | G75: E | H75: =F75 -> 6.29
A76: Haus 9-10 | B76: 3. OG | C76: 36b | D76: WC | E76: Fliesen | F76: 6.96 | G76: E | H76: =F76 -> 6.96
A77: Haus 9-10 | B77: 3. OG | C77: 37 | D77: Küche | E77: PVC oder Fliesen | F77: 3.97 | G77: D1 | H77: =F77 -> 3.97
A78: Haus 9-10 | B78: 3. OG | C78: 40 | D78: Flur | E78: Teppichboden | F78: 35.25 | G78: I | J78: =F78 -> 35.25
A79: Haus 9-10 | B79: 3. OG | C79: 41 | D79: Flur | E79: Teppichboden | F79: 28.11 | G79: I | J79: =F79 -> 28.11
A80: Haus 9-10 | B80: 3. OG | C80: 44 | D80: Treppenhaus | E80: Stein | F80: 19.66 | G80: J2 | J80: =F80 -> 19.66
A81: Haus 9-10 | B81: 3. OG | C81: 47 | D81: Treppenhaus | E81: Stein | F81: 19.03 | G81: J2 | J81: =F81 -> 19.03
A82: Haus 9-10 | B82: 3. OG | C82: 51 | D82: Treppenhaus | E82: Stein | F82: 14.87 | G82: J2 | J82: =F82 -> 14.87
A83: Haus 9-10 | B83: 3. OG | C83: 52 | D83: Treppenhaus | E83: Stein | F83: 19.66 | G83: J2 | J83: =F83 -> 19.66
A84: Haus 9-10 | B84: 3. OG | C84: WC | D84: Damen und Herren | E84: Fliesen | F84: 6.36 | G84: E | H84: =F84 -> 6.36
A85: Haus 9-10 | B85: 3. OG | C85: WC | D85: Dusche Damen | E85: Fliesen | F85: 8.88 | G85: E | H85: =F85 -> 8.88
A86: Haus 9-10 | B86: 3. OG | C86: WC | D86: Dusche Herren | E86: Fliesen | F86: 4.31 | G86: E | H86: =F86 -> 4.31
A87: Haus 9-10 | B87: 3. OG | C87: WC | D87: WC | E87: Fliesen | F87: 6.83 | G87: E | H87: =F87 -> 6.83
A88: Haus 9-10 | B88: 3. OG | D88: Besprechungsraum | E88: Teppichboden | F88: 73.01 | G88: C | H88: =F88 -> 73.01
A89: Haus 9-10 | B89: 4. OG | C89: 01 | D89: Büro | E89: Teppichboden | F89: 17.52 | G89: A | J89: =F89 -> 17.52
A90: Haus 9-10 | B90: 4. OG | C90: 02 | D90: Büro | E90: Teppichboden | F90: 17.04 | G90: A | J90: =F90 -> 17.04
A91: Haus 9-10 | B91: 4. OG | C91: 04 | D91: Büro | E91: Teppichboden | F91: 19.09 | G91: A | J91: =F91 -> 19.09
A92: Haus 9-10 | B92: 4. OG | C92: 05 | D92: Büro | E92: Teppichboden | F92: 19.08 | G92: A | J92: =F92 -> 19.08
A93: Haus 9-10 | B93: 4. OG | C93: 06 | D93: Büro | E93: Teppichboden | F93: 19.15 | G93: A | J93: =F93 -> 19.15
A94: Haus 9-10 | B94: 4. OG | C94: 07 | D94: Büro | E94: Teppichboden | F94: 19.41 | G94: A | J94: =F94 -> 19.41
A95: Haus 9-10 | B95: 4. OG | C95: 08 | D95: Büro | E95: Teppichboden | F95: 19.15 | G95: A | J95: =F95 -> 19.15
A96: Haus 9-10 | B96: 4. OG | C96: 09 | D96: Büro | E96: Teppichboden | F96: 19.01 | G96: A | J96: =F96 -> 19.01
A97: Haus 9-10 | B97: 4. OG | C97: 10 | D97: Büro | E97: Teppichboden | F97: 18.27 | G97: A | J97: =F97 -> 18.27
A98: Haus 9-10 | B98: 4. OG | C98: 11 | D98: Büro | E98: Teppichboden | F98: 29.4 | G98: A | J98: =F98 -> 29.4 | O98: Frühreinigung
A99: Haus 9-10 | B99: 4. OG | C99: 12 | D99: Büro | E99: Teppichboden | F99: 18.53 | G99: A | J99: =F99 -> 18.53
A100: Haus 9-10 | B100: 4. OG | C100: 13 | D100: Büro | E100: Teppichboden | F100: 19.73 | G100: A | J100: =F100 -> 19.73 | O100: Frühreinigung
A101: Haus 9-10 | B101: 4. OG | C101: 14 | D101: Büro | E101: Teppichboden | F101: 19.41 | G101: A | J101: =F101 -> 19.41
A102: Haus 9-10 | B102: 4. OG | C102: 15 | D102: Büro | E102: Teppichboden | F102: 19.04 | G102: A | J102: =F102 -> 19.04
A103: Haus 9-10 | B103: 4. OG | C103: 16 | D103: Büro | E103: Teppichboden | F103: 18.77 | G103: A | J103: =F103 -> 18.77
A104: Haus 9-10 | B104: 4. OG | C104: 17 | D104: Büro | E104: Teppichboden | F104: 17.64 | G104: A | J104: =F104 -> 17.64
A105: Haus 9-10 | B105: 4. OG | C105: 18 | D105: Büro | E105: Teppichboden | F105: 17.39 | G105: A | J105: =F105 -> 17.39
A106: Haus 9-10 | B106: 4. OG | C106: 19 | D106: Büro | E106: Teppichboden | F106: 27.9 | G106: A | J106: =F106 -> 27.9
A107: Haus 9-10 | B107: 4. OG | C107: 20 | D107: Büro | E107: Teppichboden | F107: 18.68 | G107: A | J107: =F107 -> 18.68
A108: Haus 9-10 | B108: 4. OG | C108: 21 | D108: Bürotechnik | E108: Teppichboden | F108: 9.1 | G108: F | J108: =F108 -> 9.1
A109: Haus 9-10 | B109: 4. OG | C109: 22 | D109: Büro | E109: Teppichboden | F109: 13.94 | G109: A | J109: =F109 -> 13.94
A110: Haus 9-10 | B110: 4. OG | C110: 33 | D110: Treppenhaus | E110: Stein | F110: 14.87 | G110: J2 | J110: =F110 -> 14.87
A111: Haus 9-10 | B111: 4. OG | C111: 34 | D111: Treppenhaus | E111: Stein | F111: 15.65 | G111: J2 | J111: =F111 -> 15.65
...

Sheet Zusammenfassung
B2: Quadratmeter Reinigungsfläche
B4: Haus 1 | C4: ='Haus 1'!F108 -> 2268.92
B6: Haus 2 | C6: ='Haus 2'!F136 -> 2449.8
B8: Haus 3 | C8: ='Haus 3'!F112 -> 2347.33
B10: Haus 4 | C10: ='Haus 4'!F613 -> 16873.39
B12: Haus 5 | C12: ='Haus 5'!F135 -> 3569.83
B14: Haus 7 | C14: ='Haus 7'!F243 -> 5800.58
B16: Haus 8 | C16: ='Haus 8'!F71 -> 1398.64
B18: Haus 9-10 | C18: ='Haus 9-10'!F189 -> 3050.84
C20: =SUM(C4:C19) -> 37759.33
