Workbook

Sheet Haus 1
A2: Gebäude | B2: Etage | C2: Raum- Nr. | D2: Raumbezeichnung | E2: Belagsart | F2: Grundfläche QM | G2: Raumgruppe | H2: Reinigungshäufigkeit Reinigen der Fußböden und Einrichtungsgegenstände (einschließlich der Arbeitsplätze) | O2: Bemerkungen
H3: wöchentlich in QM | K3: monatlich in QM | L3: vierteljährig in QM | M3: halbjährig in QM | N3: jährlich in QM
H4: 5x | I4: 2x | J4: 1x | K4: 1x | L4: 1x | M4: 1x | N4: 1x
A5: Haus 1 | B5: 1. OG | C5: 01 | D5: Büro | E5: Teppichboden | F5: 14.74 | G5: A | J5: =F5 -> 14.74
A6: Haus 1 | B6: 1. OG | C6: 02 | D6: Büro | E6: Teppichboden | F6: 33.19 | G6: A | J6: =F6 -> 33.19
A7: Haus 1 | B7: 1. OG | C7: 03 | D7: Büro | E7: Teppichboden | F7: 23.51 | G7: A | J7: =F7 -> 23.51
A8: Haus 1 | B8: 1. OG | C8: 04 | D8: Büro | E8: Teppichboden | F8: 23.22 | G8: A | J8: =F8 -> 23.22
A9: Haus 1 | B9: 1. OG | C9: 05 | D9: Büro | E9: Teppichboden | F9: 22.99 | G9: A | J9: =F9 -> 22.99
A10: Haus 1 | B10: 1. OG | C10: 06 | D10: Büro | E10: Teppichboden | F10: 22.99 | G10: A | J10: =F10 -> 22.99
A11: Haus 1 | B11: 1. OG | C11: 07 | D11: Büro | E11: Teppichboden | F11: 26.02 | G11: A | J11: =F11 -> 26.02
A12: Haus 1 | B12: 1. OG | C12: 08 | D12: Büro | E12: Teppichboden | F12: 24.18 | G12: A | J12: =F12 -> 24.18
A13: Haus 1 | B13: 1. OG | C13: 09 | D13: Büro | E13: Teppichboden | F13: 23.38 | G13: A | J13: =F13 -> 23.38
A14: Haus 1 | B14: 1. OG | C14: 10 | D14: Büro | E14: Teppichboden | F14: 22.63 | G14: A | J14: =F14 -> 22.63
A15: Haus 1 | B15: 1. OG | C15: 11 | D15: Büro | E15: Teppichboden | F15: 22.63 | G15: A | J15: =F15 -> 22.63
A16: Haus 1 | B16: 1. OG | C16: 12a | D16: Bürotechnik | E16: Teppichboden | F16: 11.25 | G16: F | J16: =F16 -> 11.25
... A26: Haus 1 | B26: 1. OG | C26: 21 | D26: Bürotechnik | E26: Teppichboden | F26: 6.35 | G26: F | J26: =F26 -> 6.35
A27: Haus 1 | B27: 1. OG | C27: 31 | D27: Küche | E27: PVC oder Fliesen | F27: 3.24 | G27: D1 | H27: =F27 -> 3.24
A28: Haus 1 | B28: 1. OG | C28: 32a | D28: WC | E28: Fliesen | F28: 3.89 | G28: E | H28: =F28 -> 3.89
A29: Haus 1 | B29: 1. OG | C29: 32b | D29: WC | E29: Fliesen | F29: 14.43 | G29: E | H29: =F29 -> 14.43
A30: Haus 1 | B30: 1. OG | C30: 33 | D30: Flur | E30: Teppichboden | F30: 11.82 | G30: I | J30: =F30 -> 11.82
A31: Haus 1 | B31: 1. OG | C31: 34 | D31: Treppenhaus | E31: Stein | F31: 15.71 | G31: J2 | J31: =F31 -> 15.71
A32: Haus 1 | B32: 1. OG | C32: 36a | D32: WC | E32: Fliesen | F32: 3.89 | G32: E | H32: =F32 -> 3.89
A33: Haus 1 | B33: 1. OG | C33: 36b | D33: WC | E33: Fliesen | F33: 14.43 | G33: E | H33: =F33 -> 14.43
A34: Haus 1 | B34: 1. OG | C34: 37 | D34: Putzmittel | E34: PVC oder Fliesen | F34: 3.24 | G34: L | L34: =F34 -> 3.24
A35: Haus 1 | B35: 1. OG | C35: 40 | D35: Flur | E35: Teppichboden | F35: 8.09 | G35: I | J35: =F35 -> 8.09
A36: Haus 1 | B36: 1. OG | C36: 41 | D36: Flur | E36: Teppichboden | F36: 4.64 | G36: I | J36: =F36 -> 4.64
A37: Haus 1 | B37: 1. OG | C37: 42 | D37: Flur | E37: Teppichboden | F37: 5.58 | G37: I | J37: =F37 -> 5.58
A38: Haus 1 | B38: 1. OG | C38: 43 | D38: Flur | E38: Teppichboden | F38: 3.87 | G38: I | J38: =F38 -> 3.87
A39: Haus 1 | B39: 1. OG | C39: 46.1 | D39: Flur | E39: Teppichboden | F39: 71.54 | G39: I | J39: =F39 -> 71.54
A40: Haus 1 | B40: 1. OG | C40: 46.2 | D40: Flur | E40: Teppichboden | F40: 75.62 | G40: I | J40: =F40 -> 75.62
A41: Haus 1 | B41: 2. OG | C41: 01 | D41: Büro | E41: Teppichboden | F41: 17.53 | G41: A | J41: =F41 -> 17.53
A42: Haus 1 | B42: 2. OG | C42: 02 | D42: Büro | E42: Teppichboden | F42: 33.19 | G42: A | J42: =F42 -> 33.19
A43: Haus 1 | B43: 2. OG | C43: 03 | D43: Büro | E43: Teppichboden | F43: 23.39 | G43: A | J43: =F43 -> 23.39
A44: Haus 1 | B44: 2. OG | C44: 04 | D44: Büro | E44: Teppichboden | F44: 23.45 | G44: A | J44: =F44 -> 23.45
A45: Haus 1 | B45: 2. OG | C45: 05 | D45: Büro | E45: Teppichboden | F45: 23.1 | G45: A | J45: =F45 -> 23.1
A46: Haus 1 | B46: 2. OG | C46: 06 | D46: Büro | E46: Teppichboden | F46: 22.96 | G46: A | J46: =F46 -> 22.96
... A52: Haus 1 | B52: 2. OG | C52: 12 | D52: Büro | E52: Teppichboden | F52: 23.87 | G52: A | J52: =F52 -> 23.87
A53: Haus 1 | B53: 2. OG | C53: 13 | D53: Besprechung | E53: Teppichboden | F53: 46.03 | G53: C | H53: =F53 -> 46.03 | O53: Frühreinigung
A54: Haus 1 | B54: 2. OG | C54: 14 | D54: Büro | E54: Teppichboden | F54: 22.88 | G54: A | J54: =F54 -> 22.88
A55: Haus 1 | B55: 2. OG | C55: 15 | D55: Büro | E55: Teppichboden | F55: 23.09 | G55: A | J55: =F55 -> 23.09
...

Sheet Haus 2
A2: Gebäude | B2: Etage | C2: Raum- Nr. | D2: Raumbezeichnung | E2: Belagsart | F2: Grundfläche QM | G2: Raumgruppe | H2: Reinigungshäufigkeit Reinigen der Fußböden und Einrichtungsgegenstände (einschließlich der Arbeitsplätze) | O2: Bemerkungen
H3: wöchentlich in QM | K3: monatlich in QM | L3: vierteljährig in QM | M3: halbjährig in QM | N3: jährlich in QM
H4: 5x | I4: 2x | J4: 1x | K4: 1x | L4: 1x | M4: 1x | N4: 1x
A5: Haus 2 | B5: 1. OG | C5: 01 | D5: Büro | E5: Teppichboden | F5: 15.15 | G5: A | J5: =F5 -> 15.15
A6: Haus 2 | B6: 1. OG | C6: 02 | D6: Büro | E6: Teppichboden | F6: 33.46 | G6: A | J6: =F6 -> 33.46
A7: Haus 2 | B7: 1. OG | C7: 03 | D7: Büro | E7: Teppichboden | F7: 14.97 | G7: A | J7: =F7 -> 14.97
A8: Haus 2 | B8: 1. OG | C8: 04 | D8: Büro | E8: Teppichboden | F8: 14.95 | G8: A | J8: =F8 -> 14.95
A9: Haus 2 | B9: 1. OG | C9: 05 | D9: Büro | E9: Teppichboden | F9: 14.8 | G9: A | J9: =F9 -> 14.8
A10: Haus 2 | B10: 1. OG | C10: 06 | D10: Büro | E10: Teppichboden | F10: 14.78 | G10: A | J10: =F10 -> 14.78
A11: Haus 2 | B11: 1. OG | C11: 07 | D11: Büro | E11: Teppichboden | F11: 25.26 | G11: A | J11: =F11 -> 25.26
A12: Haus 2 | B12: 1. OG | C12: 08 | D12: Büro | E12: Teppichboden | F12: 21.4 | G12: A | J12: =F12 -> 21.4
A13: Haus 2 | B13: 1. OG | C13: 09 | D13: Büro | E13: Teppichboden | F13: 14.96 | G13: A | J13: =F13 -> 14.96
A14: Haus 2 | B14: 1. OG | C14: 10 | D14: Büro | E14: Teppichboden | F14: 14.96 | G14: A | J14: =F14 -> 14.96
A15: Haus 2 | B15: 1. OG | C15: 11 | D15: IT-Technik | E15: PVC | F15: 14.96 | G15: F | J15: =F15 -> 14.96
A16: Haus 2 | B16: 1. OG | C16: 12 | D16: Sonderraum | E16: Teppichboden | F16: 14.96 | G16: F | J16: =F16 -> 14.96
... A26: Haus 2 | B26: 1. OG | C26: 23 | D26: Büro | E26: Teppichboden | F26: 12.57 | G26: A | J26: =F26 -> 12.57
A27: Haus 2 | B27: 1. OG | C27: 24 | D27: Lager | E27: Gummiboden | F27: 7.86 | G27: L | L27: =F27 -> 7.86
A28: Haus 2 | B28: 1. OG | C28: 25 | D28: Büro | E28: Teppichboden | F28: 14.09 | G28: A | J28: =F28 -> 14.09
A29: Haus 2 | B29: 1. OG | C29: 26 | D29: Büro | E29: Teppichboden | F29: 20.71 | G29: A | J29: =F29 -> 20.71
A30: Haus 2 | B30: 1. OG | C30: 27 | D30: Lager | E30: Gummiboden | F30: 7.08 | G30: L | L30: =F30 -> 7.08
A31: Haus 2 | B31: 1. OG | C31: 28 | D31: Büro | E31: Teppichboden | F31: 13.04 | G31: A | J31: =F31 -> 13.04
A32: Haus 2 | B32: 1. OG | C32: 29 | D32: Büro | E32: Teppichboden | F32: 12.89 | G32: A | J32: =F32 -> 12.89
A33: Haus 2 | B33: 1. OG | C33: 30 | D33: Büro | E33: Teppichboden | F33: 14.07 | G33: A | J33: =F33 -> 14.07
A34: Haus 2 | B34: 1. OG | C34: 31 | D34: Putzmittel | E34: PVC oder Fliesen | F34: 3.92 | G34: L | L34: =F34 -> 3.92
A35: Haus 2 | B35: 1. OG | C35: 32a | D35: WC | E35: Fliesen | F35: 5.28 | G35: E | H35: =F35 -> 5.28
A36: Haus 2 | B36: 1. OG | C36: 32b | D36: WC | E36: Fliesen | F36: 10.58 | G36: E | H36: =F36 -> 10.58
A37: Haus 2 | B37: 1. OG | C37: 33 | D37: Treppenhaus | E37: Stein | F37: 9.98 | G37: J2 | J37: =F37 -> 9.98
A38: Haus 2 | B38: 1. OG | C38: 34 | D38: Treppenhaus | E38: Stein | F38: 16.08 | G38: J2 | J38: =F38 -> 16.08
A39: Haus 2 | B39: 1. OG | C39: 36a | D39: WC | E39: Fliesen | F39: 5.28 | G39: E | H39: =F39 -> 5.28
A40: Haus 2 | B40: 1. OG | C40: 36b | D40: WC | E40: Fliesen | F40: 10.58 | G40: E | H40: =F40 -> 10.58
A41: Haus 2 | B41: 1. OG | C41: 37 | D41: Küche | E41: PVC oder Fliesen | F41: 3.92 | G41: J1 | H41: =F41 -> 3.92
A42: Haus 2 | B42: 1. OG | C42: 40 | D42: Flur | E42: Teppichboden | F42: 5.53 | G42: I | J42: =F42 -> 5.53
A43: Haus 2 | B43: 1. OG | C43: 43 | D43: Flur | E43: Teppichboden | F43: 6.72 | G43: I | J43: =F43 -> 6.72
A44: Haus 2 | B44: 1. OG | C44: 46.1 | D44: Flur | E44: Teppichboden | F44: 87.96 | G44: I | J44: =F44 -> 87.96
A45: Haus 2 | B45: 1. OG | C45: 46.2 | D45: Flur | E45: Teppichboden | F45: 74.92 | G45: I | J45: =F45 -> 74.92
A46: Haus 2 | B46: 1. OG | C46: 47 | D46: Treppenhaus | E46: Stein | F46: 14.68 | G46: J2 | J46: =F46 -> 14.68
A47: Haus 2 | B47: 2. OG | C47: 01 | D47: Büro | E47: Teppichboden | F47: 18.13 | G47: A | J47: =F47 -> 18.13
A48: Haus 2 | B48: 2. OG | C48: 02 | D48: Büro | E48: Teppichboden | F48: 24.97 | G48: A | J48: =F48 -> 24.97
A49: Haus 2 | B49: 2. OG | C49: 03 | D49: Büro | E49: Teppichboden | F49: 14.97 | G49: A | J49: =F49 -> 14.97
A50: Haus 2 | B50: 2. OG | C50: 04 | D50: Büro | E50: Teppichboden | F50: 14.96 | G50: A | J50: =F50 -> 14.96
...

Sheet Haus 3
A2: Gebäude | B2: Etage | C2: Raum- Nr. | D2: Raumbezeichnung | E2: Belagsart | F2: Grundfläche QM | G2: Raumgruppe | H2: Reinigungshäufigkeit Reinigen der Fußböden und Einrichtungsgegenstände (einschließlich der Arbeitsplätze) | O2: Bemerkungen
H3: wöchentlich in QM | K3: monatlich in QM | L3: vierteljährig in QM | M3: vierteljährig in QM | N3: jährlich in QM
H4: 5x | I4: 2x | J4: 1x | K4: 1x | L4: 1x | M4: 1x | N4: 1x
A5: Haus 3 | B5: 1. OG | C5: 01 | D5: Büro | E5: Teppichboden | F5: 16.9 | G5: A | J5: =F5 -> 16.9
A6: Haus 3 | B6: 1. OG | C6: 02 | D6: Büro | E6: Teppichboden | F6: 33.46 | G6: A | J6: =F6 -> 33.46
A7: Haus 3 | B7: 1. OG | C7: 03 | D7: Büro | E7: Teppichboden | F7: 23.25 | G7: A | J7: =F7 -> 23.25
A8: Haus 3 | B8: 1. OG | C8: 04 | D8: Büro | E8: Teppichboden | F8: 23.33 | G8: A | J8: =F8 -> 23.33
A9: Haus 3 | B9: 1. OG | C9: 05 | D9: Büro | E9: Teppichboden | F9: 23.45 | G9: A | J9: =F9 -> 23.45
A10: Haus 3 | B10: 1. OG | C10: 06 | D10: Büro | E10: Teppichboden | F10: 33.45 | G10: A | J10: =F10 -> 33.45
A11: Haus 3 | B11: 1. OG | C11: 07 | D11: Büro | E11: Teppichboden | F11: 17.27 | G11: A | J11: =F11 -> 17.27
A12: Haus 3 | B12: 1. OG | C12: 08 | D12: Büro | E12: Teppichboden | F12: 23.45 | G12: A | J12: =F12 -> 23.45
A13: Haus 3 | B13: 1. OG | C13: 09 | D13: Büro | E13: Teppichboden | F13: 23.45 | G13: A | J13: =F13 -> 23.45
A14: Haus 3 | B14: 1. OG | C14: 10 | D14: Büro | E14: Teppichboden | F14: 23.18 | G14: A | J14: =F14 -> 23.18
A15: Haus 3 | B15: 1. OG | C15: 11 | D15: Büro | E15: Teppichboden | F15: 35.54 | G15: A | J15: =F15 -> 35.54
A16: Haus 3 | B16: 1. OG | C16: 12 | D16: Büro | E16: Teppichboden | F16: 23.45 | G16: A | J16: =F16 -> 23.45
... A18: Haus 3 | B18: 1. OG | C18: 12b | D18: Bürotechnik | E18: Teppichboden | F18: 8.66 | G18: F | J18: =F18 -> 8.66
A19: Haus 3 | B19: 1. OG | C19: 13 | D19: Besprechung | E19: Teppichboden | F19: 35.35 | G19: C | H19: =F19 -> 35.35
A20: Haus 3 | B20: 1. OG | C20: 13 | D20: Büro | E20: Teppichboden | F20: 35.95 | G20: A | J20: =F20 -> 35.95
A21: Haus 3 | B21: 1. OG | C21: 14 | D21: Büro | E21: Teppichboden | F21: 21.45 | G21: A | J21: =F21 -> 21.45
A22: Haus 3 | B22: 1. OG | C22: 15 | D22: Büro | E22: Teppichboden | F22: 17.7 | G22: A | J22: =F22 -> 17.7
A23: Haus 3 | B23: 1. OG | C23: 21 | D23: Bürotechnik | E23: Teppichboden | F23: 11.1 | G23: F | J23: =F23 -> 11.1
A24: Haus 3 | B24: 1. OG | C24: 31 | D24: Küche | E24: PVC oder Fliesen | F24: 3.62 | G24: D1 | H24: =F24 -> 3.62
A25: Haus 3 | B25: 1. OG | C25: 32a | D25: WC | E25: Fliesen | F25: 12.99 | G25: E | H25: =F25 -> 12.99
A26: Haus 3 | B26: 1. OG | C26: 32b | D26: WC | E26: Fliesen | F26: 4.95 | G26: E | H26: =F26 -> 4.95
A27: Haus 3 | B27: 1. OG | C27: 33 | D27: Flur | E27: Teppichboden | F27: 12.15 | G27: I | J27: =F27 -> 12.15
A28: Haus 3 | B28: 1. OG | C28: 36a | D28: WC | E28: Fliesen | F28: 12.99 | G28: E | H28: =F28 -> 12.99
A29: Haus 3 | B29: 1. OG | C29: 37 | D29: Putzmittel | E29: PVC oder Fliesen | F29: 2.03 | G29: L | L29: =F29 -> 2.03
A30: Haus 3 | B30: 1. OG | C30: 40 | D30: Flur | E30: Teppichboden | F30: 5.45 | G30: I | J30: =F30 -> 5.45
A31: Haus 3 | B31: 1. OG | C31: 41 | D31: Flur | E31: Teppichboden | F31: 77.2 | G31: I | J31: =F31 -> 77.2
A32: Haus 3 | B32: 1. OG | C32: 42 | D32: Flur | E32: Teppichboden | F32: 7.56 | G32: I | J32: =F32 -> 7.56
A33: Haus 3 | B33: 1. OG | C33: 43 | D33: Flur | E33: Teppichboden | F33: 77.82 | G33: I | J33: =F33 -> 77.82
A34: Haus 3 | B34: 1. OG | C34: 44 | D34: Flur | E34: Teppichboden | F34: 5.64 | G34: I | J34: =F34 -> 5.64
A35: Haus 3 | B35: 1. OG | C35: Vorraum | D35: WC | E35: Fliesen | F35: 4.95 | G35: E | H35: =F35 -> 4.95
A36: Haus 3 | B36: 1. OG | D36: Aktei | F36: 57.75 | G36: G | J36: =F36 -> 57.75
A37: Haus 3 | B37: 1.OG | D37: Treppenhaus | E37: Stein | F37: 24.18 | G37: J2 | J37: =F37 -> 24.18
A38: Haus 3 | B38: 2. OG | C38: 01 | D38: Besprechung | E38: Teppichboden | F38: 23.32 | G38: C | H38: =F38 -> 23.32 | O38: Frühreinigung
A39: Haus 3 | B39: 2. OG | C39: 02 | D39: Büro | E39: Teppichboden | F39: 23.63 | G39: A | J39: =F39 -> 23.63
A40: Haus 3 | B40: 2. OG | C40: 03 | D40: Büro | E40: Teppichboden | F40: 23.04 | G40: A | J40: =F40 -> 23.04
A41: Haus 3 | B41: 2. OG | C41: 04 | D41: Büro | E41: Teppichboden | F41: 23.34 | G41: A | J41: =F41 -> 23.34
A42: Haus 3 | B42: 2. OG | C42: 05 | D42: Büro | E42: Teppichboden | F42: 23.76 | G42: A | J42: =F42 -> 23.76
...

Sheet Haus 4
A2: Gebäude | B2: Etage | C2: Raum- Nr. | D2: Raumbezeichnung | E2: Belagsart | F2: Grundfläche QM | G2: Raumgruppe | H2: Reinigungshäufigkeit Reinigen der Fußböden und Einrichtungsgegenstände (einschließlich der Arbeitsplätze) | O2: Bemerkungen
H3: wöchentlich in QM | K3: monatlich in QM | L3: vierteljährig in QM | M3: halbjährig in QM | N3: jährlich in QM
H4: 5x | I4: 2x | J4: 1x | K4: 1x | L4: 1x | M4: 1x | N4: 1x
A5: Haus 4 | B5: 1.OG | C5: 1.03 | D5: Büro | E5: Teppichboden | F5: 18.85 | G5: A | J5: =F5 -> 18.85
A6: Haus 4 | B6: 1.OG | C6: 1.04 | D6: Büro | E6: Teppichboden | F6: 18.71 | G6: A | J6: =F6 -> 18.71
A7: Haus 4 | B7: 1.OG | C7: 1.05 | D7: Büro | E7: Teppichboden | F7: 18.96 | G7: A | J7: =F7 -> 18.96
A8: Haus 4 | B8: 1.OG | C8: 1.06 | D8: Büro | E8: Teppichboden | F8: 19.12 | G8: A | J8: =F8 -> 19.12
A9: Haus 4 | B9: 1.OG | C9: 1.07 | D9: Büro | E9: Teppichboden | F9: 18.9 | G9: A | J9: =F9 -> 18.9
A10: Haus 4 | B10: 1.OG | C10: 1.08 | D10: Büro | E10: Teppichboden | F10: 28.38 | G10: A | J10: =F10 -> 28.38
A11: Haus 4 | B11: 1.OG | C11: 1.09 | D11: Büro | E11: Teppichboden | F11: 19.13 | G11: A | J11: =F11 -> 19.13
A12: Haus 4 | B12: 1.OG | C12: 1.10 | D12: Büro | E12: Teppichboden | F12: 19.39 | G12: A | J12: =F12 -> 19.39
A13: Haus 4 | B13: 1.OG | C13: 1.11 | D13: Büro | E13: Teppichboden | F13: 18.52 | G13: A | J13: =F13 -> 18.52
A14: Haus 4 | B14: 1.OG | C14: 1.12 | D14: Büro | E14: Teppichboden | F14: 17.41 | G14: A | J14: =F14 -> 17.41
A15: Haus 4 | B15: 1.OG | C15: 1.13 | D15: Büro | E15: Teppichboden | F15: 29.71 | G15: A | J15: =F15 -> 29.71
A16: Haus 4 | B16: 1.OG | C16: 1.14 | D16: Büro | E16: Teppichboden | F16: 21.71 | G16: A | J16: =F16 -> 21.71
... A31: Haus 4 | B31: 1OG | C31: 1.29 | D31: Technikraum | E31: PVC | F31: 30 | G31: F | J31: =F31 -> 30
A32: Haus 4 | B32: 1.OG | C32: 1.72 | D32: WC Damen | E32: Feinsteinzeug | F32: 13.75 | G32: E | H32: =F32 -> 13.75
A33: Haus 4 | B33: 1.OG | C33: 1.72 | D33: WC Herren | E33: Feinsteinzeug | F33: 19.92 | G33: E | H33: =F33 -> 19.92
A34: Haus 4 | B34: 1.OG | D34: Aufzugsvorraum | E34: Teppichboden | F34: 36.11 | G34: I | J34: =F34 -> 36.11
A35: Haus 4 | B35: 1.OG | D35: Flur | E35: Teppichboden | F35: 191.29 | G35: I | J35: =F35 -> 191.29
A36: Haus 4 | B36: 1.OG | D36: Putzmittel | E36: PVC | F36: 5.83 | G36: L | L36: =F36 -> 5.83
A37: Haus 4 | B37: 1.OG | D37: Teeküche | E37: PVC | F37: 4.41 | G37: D1 | H37: =F37 -> 4.41
A38: Haus 4 | B38: 10.OG | C38: 10.01 | D38: Büro | E38: Teppichboden | F38: 21.81 | G38: A | J38: =F38 -> 21.81
A39: Haus 4 | B39: 10.OG | C39: 10.02 | D39: Büro | E39: Teppichboden | F39: 16.22 | G39: A | J39: =F39 -> 16.22
A40: Haus 4 | B40: 10.OG | C40: 10.03 | D40: Büro | E40: Teppichboden | F40: 19.05 | G40: A | J40: =F40 -> 19.05
A41: Haus 4 | B41: 10.OG | C41: 10.04 | D41: Büro | E41: Teppichboden | F41: 19.11 | G41: A | J41: =F41 -> 19.11
A42: Haus 4 | B42: 10.OG | C42: 10.05 | D42: Büro | E42: Teppichboden | F42: 19.08 | G42: A | J42: =F42 -> 19.08
A43: Haus 4 | B43: 10.OG | C43: 10.06 | D43: Büro | E43: Teppichboden | F43: 18.97 | G43: A | J43: =F43 -> 18.97
A44: Haus 4 | B44: 10.OG | C44: 10.07 | D44: Büro | E44: Teppichboden | F44: 18.79 | G44: A | J44: =F44 -> 18.79
A45: Haus 4 | B45: 10.OG | C45: 10.08 | D45: Besprechungsraum | E45: Teppichboden | F45: 28.84 | G45: C | H45: =F45 -> 28.84 | O45: Frühreinigung
A46: Haus 4 | B46: 10.OG | C46: 10.09 | D46: Bürotechnik | E46: Teppichboden | F46: 9.07 | G46: F | J46: =F46 -> 9.07
A47: Haus 4 | B47: 10.OG | C47: 10.10 | D47: Büro | E47: Teppichboden | F47: 18.89 | G47: A | J47: =F47 -> 18.89
A48: Haus 4 | B48: 10.OG | C48: 10.11 | D48: Büro | E48: Teppichboden | F48: 18.94 | G48: A | J48: =F48 -> 18.94
A49: Haus 4 | B49: 10.OG | C49: 10.12 | D49: Büro | E49: Teppichboden | F49: 26.71 | G49: A | J49: =F49 -> 26.71
A50: Haus 4 | B50: 10.OG | C50: 10.13 | D50: Büro | E50: Teppichboden | F50: 31.55 | G50: A | J50: =F50 -> 31.55
A51: Haus 4 | B51: 10.OG | C51: 10.14 | D51: Büro | E51: Teppichboden | F51: 21.45 | G51: A | J51: =F51 -> 21.45
A52: Haus 4 | B52: 10.OG | C52: 10.15 | D52: Büro | E52: Teppichboden | F52: 16.06 | G52: A | J52: =F52 -> 16.06
A53: Haus 4 | B53: 10.OG | C53: 10.16 | D53: Büro | E53: Teppichboden | F53: 19.03 | G53: A | J53: =F53 -> 19.03
A54: Haus 4 | B54: 10.OG | C54: 10.17 | D54: Büro | E54: Teppichboden | F54: 19.01 | G54: A | J54: =F54 -> 19.01
A55: Haus 4 | B55: 10.OG | C55: 10.18 | D55: Büro | E55: Teppichboden | F55: 19.17 | G55: A | J55: =F55 -> 19.17
...

Sheet Haus 5
A2: Gebäude | B2: Etage | C2: Raum- Nr. | D2: Raumbezeichnung | E2: Belagsart | F2: Grundfläche QM | G2: Raumgruppe | H2: Reinigungshäufigkeit Reinigen der Fußböden und Einrichtungsgegenstände (einschließlich der Arbeitsplätze) | O2: Bemerkungen
H3: wöchentlich in QM | K3: monatlich in QM | L3: vierteljährig in QM | M3: halbjährig in QM | N3: jährlich in QM
H4: 5x | I4: 2x | J4: 1x | K4: 1x | L4: 1x | M4: 1x | N4: 1x
A5: Haus 5 | B5: 1.OG | C5: 1.02 | D5: Büro | E5: Teppichboden | F5: 18.27 | G5: A | J5: =F5 -> 18.27
A6: Haus 5 | B6: 1.OG | C6: 1.03 | D6: Büro | E6: Teppichboden | F6: 17.48 | G6: A | J6: =F6 -> 17.48
A7: Haus 5 | B7: 1.OG | C7: 1.04 | D7: Büro | E7: Teppichboden | F7: 26.73 | G7: A | J7: =F7 -> 26.73
A8: Haus 5 | B8: 1.OG | C8: 1.05 | D8: Büro | E8: Teppichboden | F8: 18.5 | G8: A | J8: =F8 -> 18.5
A9: Haus 5 | B9: 1.OG | C9: 1.06 | D9: Büro | E9: Teppichboden | F9: 18.89 | G9: A | J9: =F9 -> 18.89
A10: Haus 5 | B10: 1.OG | C10: 1.07 | D10: Büro | E10: Teppichboden | F10: 18.84 | G10: A | J10: =F10 -> 18.84
A11: Haus 5 | B11: 1.OG | C11: 1.08 | D11: Büro | E11: Teppichboden | F11: 18.84 | G11: A | J11: =F11 -> 18.84
A12: Haus 5 | B12: 1.OG | C12: 1.09 | D12: Büro | E12: Teppichboden | F12: 18.84 | G12: A | J12: =F12 -> 18.84
A13: Haus 5 | B13: 1.OG | C13: 1.10 | D13: Büro | E13: Teppichboden | F13: 18.84 | G13: A | J13: =F13 -> 18.84
A14: Haus 5 | B14: 1.OG | C14: 1.11 | D14: Büro | E14: Teppichboden | F14: 18.95 | G14: A | J14: =F14 -> 18.95
A15: Haus 5 | B15: 1.OG | C15: 1.12 | D15: Büro | E15: Teppichboden | F15: 18.73 | G15: A | J15: =F15 -> 18.73
A16: Haus 5 | B16: 1.OG | C16: 1.13 | D16: Büro | E16: Teppichboden | F16: 18.84 | G16: A | J16: =F16 -> 18.84
A17: Haus 5 | B17: 1.OG | C17: 1.14 | D17: Büro | E17: Teppichboden | F17: 28.53 | G17: A | J17: =F17 -> 28.53
A18: Haus 5 | B18: 1.OG | C18: 1.16 | D18: Besprechungsraum | E18: Teppichboden | F18: 34.29 | G18: C | H18: =F18 -> 34.29
A19: Haus 5 | B19: 1.OG | C19: 1.17 | D19: Bürotechnik | E19: Teppichboden | F19: 18.53 | G19: F | J19: =F19 -> 18.53
A20: Haus 5 | B20: 1.OG | C20: 1.19 | D20: Büro | E20: Teppichboden | F20: 35.45 | G20: A | J20: =F20 -> 35.45
A21: Haus 5 | B21: 1.OG | C21: 1.20 | D21: Büro | E21: Teppichboden | F21: 19.11 | G21: A | J21: =F21 -> 19.11
A22: Haus 5 | B22: 1.OG | C22: 1.21 | D22: Büro | E22: Teppichboden | F22: 18.15 | G22: A | J22: =F22 -> 18.15
A23: Haus 5 | B23: 1.OG | C23: 1.22 | D23: Büro | E23: Teppichboden | F23: 33.09 | G23: A | J23: =F23 -> 33.09
A24: Haus 5 | B24: 1.OG | C24: 1.23 | D24: Büro | E24: Teppichboden | F24: 18.73 | G24: A | J24: =F24 -> 18.73
A25: Haus 5 | B25: 1.OG | C25: 1.24 | D25: Büro | E25: Teppichboden | F25: 18.92 | G25: A | J25: =F25 -> 18.92
A26: Haus 5 | B26: 1.OG | C26: 1.25 | D26: Büro | E26: Teppichboden | F26: 18.39 | G26: A | J26: =F26 -> 18.39
A27: Haus 5 | B27: 1.OG | C27: 1.25 | D27: Büro | E27: Teppichboden | F27: 18.32 | G27: A | J27: =F27 -> 18.32
A28: Haus 5 | B28: 1.OG | C28: 1.26 | D28: Büro | E28: Teppichboden | F28: 18.84 | G28: A | J28: =F28 -> 18.84
A29: Haus 5 | B29: 1.OG | C29: 1.26 | D29: Büro | E29: Teppichboden | F29: 18.29 | G29: A | J29: =F29 -> 18.29
A30: Haus 5 | B30: 1.OG | C30: 1.27 | D30: Büro | E30: Teppichboden | F30: 28.81 | G30: A | J30: =F30 -> 28.81
... A44: Haus 5 | B44: 1.OG | C44: 1.40 | D44: Büro | E44: Teppichboden | F44: 18.23 | G44: A | J44: =F44 -> 18.23
A45: Haus 5 | B45: 1.OG | D45: Damen WC | E45: Fliesen | F45: 12.57 | G45: E | H45: =F45 -> 12.57
A46: Haus 5 | B46: 1.OG | D46: Flure | E46: Teppichboden | F46: 173.45 | G46: I | J46: =F46 -> 173.45
A47: Haus 5 | B47: 1.OG | D47: Herren WC | E47: Fliesen | F47: 19.09 | G47: E | H47: =F47 -> 19.09
A48: Haus 5 | B48: 1.OG | D48: Herren WC | E48: Fliesen | F48: 12.03 | G48: E | H48: =F48 -> 12.03
A49: Haus 5 | B49: 1.OG | D49: Teeküche | E49: PVC | F49: 3.72 | G49: D1 | H49: =F49 -> 3.72
A50: Haus 5 | B50: 1.OG | D50: Treppenhäuser | E50: Fliesen | F50: 36.26 | G50: J2 | J50: =F50 -> 36.26
A51: Haus 5 | B51: 2.OG | C51: 2.00 | D51: Büro | E51: Teppichboden | F51: 13.79 | G51: A | J51: =F51 -> 13.79
A52: Haus 5 | B52: 2.OG | C52: 2.01 | D52: Büro | E52: Teppichboden | F52: 19.25 | G52: A | J52: =F52 -> 19.25
A53: Haus 5 | B53: 2.OG | C53: 2.02 | D53: Büro | E53: Teppichboden | F53: 18.54 | G53: A | J53: =F53 -> 18.54
A54: Haus 5 | B54: 2.OG | C54: 2.03 | D54: Büro | E54: Teppichboden | F54: 18.15 | G54: A | J54: =F54 -> 18.15
...

Sheet Haus 7
A2: Gebäude | B2: Etage | C2: Raum- Nr. | D2: Raumbezeichnung | E2: Belagsart | F2: Grundfläche QM | G2: Raumgruppe | H2: Reinigungshäufigkeit Reinigen der Fußböden und Einrichtungsgegenstände (einschließlich der Arbeitsplätze) | O2: Bemerkungen
H3: wöchentlich im QM | K3: monatlich in QM | L3: vierteljährig in QM | M3: halbjährig in QM | N3: jährlich in QM
H4: 5x | I4: 2x | J4: 1x | K4: 1x | L4: 1x | M4: 1x | N4: 1x
A5: Haus 7 | B5: EG | C5: 001 | D5: Schulungsraum | E5: Teppichboden | F5: 69.63 | G5: C | H5: =F5 -> 69.63
A6: Haus 7 | B6: EG | C6: 002 | D6: Besprecher | E6: Hochfloorteppich | F6: 184.97 | G6: C | H6: =F6 -> 184.97
A7: Haus 7 | B7: EG | C7: 002a | D7: IT-Technik | E7: PVC | F7: 8.55 | G7: F | J7: =F7 -> 8.55
A8: Haus 7 | B8: EG | C8: 003 | D8: Garderobe | E8: Teppichboden | F8: 13.99 | G8: F | J8: =F8 -> 13.99
A9: Haus 7 | B9: EG | C9: 004 | D9: Besprecher | E9: Hochfloorteppich | F9: 66.23 | G9: C | H9: =F9 -> 66.23
A10: Haus 7 | B10: EG | C10: 005 | D10: kl. Teeküche | E10: Teppichboden | F10: 4.72 | G10: D1 | H10: =F10 -> 4.72
A11: Haus 7 | B11: EG | C11: 006/007 | D11: Poolbüro | E11: Hochfloorteppich | F11: 91.17 | G11: A | J11: =F11 -> 91.17
A12: Haus 7 | B12: EG | C12: 008 | D12: Betriebsraum | E12: Hochfloorteppich | F12: 16.94 | G12: A | J12: =F12 -> 16.94
A13: Haus 7 | B13: EG | C13: 009 | D13: Pforte | E13: Teppichboden | F13: 17.77 | G13: F | J13: =F13 -> 17.77
A14: Haus 7 | B14: EG | C14: 010 | D14: Teeküche | E14: Vinylboden | F14: 25.45 | G14: D1 | H14: =F14 -> 25.45
A15: Haus 7 | B15: EG | C15: 011 | D15: Besprecher | E15: Teppichboden | F15: 66.2 | G15: C | H15: =F15 -> 66.2
A16: Haus 7 | B16: EG | C16: 012 | D16: Garderobe | E16: Teppichboden | F16: 8.87 | G16: F | J16: =F16 -> 8.87
A17: Haus 7 | B17: EG | C17: 013 | D17: Schulungsraum | E17: Teppichboden | F17: 69.95 | G17: C | H17: =F17 -> 69.95
A18: Haus 7 | B18: EG | D18: Flure | E18: Teppichboden | F18: 53.08 | G18: I | J18: =F18 -> 53.08
A19: Haus 7 | B19: EG | D19: Eingangsbereich | E19: Stein | F19: 41.69 | G19: H | H19: =F19 -> 41.69
A20: Haus 7 | B20: EG | D20: Foyer Nebeneingang | E20: Stein | F20: 45.11 | G20: H | H20: =F20 -> 45.11
A21: Haus 7 | B21: EG | D21: Foyer Haupteingang | E21: Naturfeinstein | F21: 91.11 | G21: H | H21: =F21 -> 91.11
A22: Haus 7 | B22: EG | D22: WC Flächen EG | E22: Fliesen | F22: 89.15 | G22: E | H22: =F22 -> 89.15
A23: Haus 7 | B23: 1 OG | C23: 101 | D23: Büro | E23: Teppichboden | F23: 13.78 | G23: A | J23: =F23 -> 13.78
A24: Haus 7 | B24: 1 OG | C24: 102 | D24: Büro | E24: Teppichboden | F24: 19.28 | G24: A | J24: =F24 -> 19.28
A25: Haus 7 | B25: 1 OG | C25: 103 | D25: Büro | E25: Teppichboden | F25: 19.24 | G25: A | J25: =F25 -> 19.24
A26: Haus 7 | B26: 1 OG | C26: 104 | D26: Büro | E26: Teppichboden | F26: 18.78 | G26: A | J26: =F26 -> 18.78
A27: Haus 7 | B27: 1 OG | C27: 105 | D27: Büro | E27: Teppichboden | F27: 13.74 | G27: A | J27: =F27 -> 13.74
A28: Haus 7 | B28: 1 OG | C28: 106 | D28: Büro | E28: Teppichboden | F28: 13.71 | G28: A | J28: =F28 -> 13.71
A29: Haus 7 | B29: 1 OG | C29: 107 | D29: Büro | E29: Teppichboden | F29: 19.06 | G29: A | J29: =F29 -> 19.06
A30: Haus 7 | B30: 1 OG | C30: 108 | D30: Büro | E30: Teppichboden | F30: 17.75 | G30: A | J30: =F30 -> 17.75
A31: Haus 7 | B31: 1 OG | C31: 109 | D31: Büro | E31: Teppichboden | F31: 18.54 | G31: A | J31: =F31 -> 18.54
A32: Haus 7 | B32: 1 OG | C32: 110 | D32: Büro | E32: Teppichboden | F32: 18.51 | G32: A | J32: =F32 -> 18.51
A33: Haus 7 | B33: 1 OG | C33: 111 | D33: Büro | E33: Teppichboden | F33: 18.45 | G33: A | J33: =F33 -> 18.45
A34: Haus 7 | B34: 1 OG | C34: 112 | D34: Büro | E34: Teppichboden | F34: 18.48 | G34: A | J34: =F34 -> 18.48
... A60: Haus 7 | B60: 1 OG | C60: 135 | D60: Büro | E60: Teppichboden | F60: 13.78 | G60: A | J60: =F60 -> 13.78
A61: Haus 7 | B61: 1 OG | D61: Flure | E61: Nadelfilz | F61: 190.33 | G61: I | J61: =F61 -> 190.33
A62: Haus 7 | B62: 1 OG | D62: Flure Treppenbereich | E62: Naturfeinstein | F62: 61.5 | G62: J2 | J62: =F62 -> 61.5
A63: Haus 7 | B63: 1 OG | D63: WC Flächen 1 OG | E63: Fliesen | F63: 58.04 | G63: E | H63: =F63 -> 58.04
A64: Haus 7 | B64: 2 OG | C64: 201 | D64: Büro | E64: Teppichboden | F64: 13.84 | G64: A | J64: =F64 -> 13.84
A65: Haus 7 | B65: 2 OG | C65: 202 | D65: Büro | E65: Teppichboden | F65: 18.64 | G65: A | J65: =F65 -> 18.64
A66: Haus 7 | B66: 2 OG | C66: 203 | D66: Büro | E66: Teppichboden | F66: 18.49 | G66: A | J66: =F66 -> 18.49
...

Sheet Haus 8
A2: Gebäude | B2: Etage | C2: Raum- Nr. | D2: Raumbezeichnung | E2: Belagsart | F2: Grundfläche QM | G2: Raumgruppe | H2: Reinigungshäufigkeit Reinigen der Fußböden und Einrichtungsgegenstände (einschließlich der Arbeitsplätze) | O2: Bemerkungen
H3: wöchentlich in QM | K3: monatlich in QM | L3: vierteljährig in QM | M3: halbjährig in QM | N3: jährlich in QM
H4: 5x | I4: 2x | J4: 1x | K4: 1x | L4: 1x | M4: 1x | N4: 1x
A5: Haus 8 | B5: 1. OG | C5: 03 | D5: IT-Technik | E5: Teppichboden | F5: 29.37 | G5: F | J5: =F5 -> 29.37
A6: Haus 8 | B6: 1. OG | C6: 04 | D6: Büro | E6: Teppichboden | F6: 43.17 | G6: A | J6: =F6 -> 43.17
A7: Haus 8 | B7: 1. OG | C7: 05 | D7: Büro | E7: Teppichboden | F7: 19.03 | G7: A | J7: =F7 -> 19.03
A8: Haus 8 | B8: 1. OG | C8: 06 | D8: Büro | E8: Teppichboden | F8: 20.23 | G8: A | J8: =F8 -> 20.23
A9: Haus 8 | B9: 1. OG | C9: 07 | D9: Büro | E9: Teppichboden | F9: 20.88 | G9: A | J9: =F9 -> 20.88
A10: Haus 8 | B10: 1. OG | C10: 08 | D10: Büro | E10: Teppichboden | F10: 27.43 | G10: A | J10: =F10 -> 27.43
A11: Haus 8 | B11: 1. OG | C11: 09 | D11: Büro | E11: Teppichboden | F11: 18.06 | G11: A | J11: =F11 -> 18.06
A12: Haus 8 | B12: 1. OG | C12: 10 | D12: Büro | E12: Teppichboden | F12: 18.37 | G12: A | J12: =F12 -> 18.37
A13: Haus 8 | B13: 1. OG | C13: 11 | D13: Büro | E13: Teppichboden | F13: 18.2 | G13: A | J13: =F13 -> 18.2
A14: Haus 8 | B14: 1. OG | C14: 12 | D14: Büro | E14: Teppichboden | F14: 18.02 | G14: A | J14: =F14 -> 18.02
A15: Haus 8 | B15: 1. OG | C15: 12a | D15: Bürotechnik | E15: PVC | F15: 10.23 | G15: F | J15: =F15 -> 10.23
A16: Haus 8 | B16: 1. OG | C16: 13 | D16: Besprechung | E16: Teppichboden | F16: 43.17 | G16: C | H16: =F16 -> 43.17 | O16: Frühreinigung
A17: Haus 8 | B17: 1. OG | C17: 13 | D17: Büro | E17: Teppichboden | F17: 18.26 | G17: A | J17: =F17 -> 18.26
A18: Haus 8 | B18: 1. OG | C18: 14 | D18: Büro | E18: Teppichboden | F18: 23.3 | G18: A | J18: =F18 -> 23.3
A19: Haus 8 | B19: 1. OG | C19: 15 | D19: Büro | E19: Teppichboden | F19: 33.18 | G19: A | J19: =F19 -> 33.18
A20: Haus 8 | B20: 1. OG | C20: 21 | D20: Bürotechnik | E20: PVC | F20: 8.87 | G20: F | J20: =F20 -> 8.87
A21: Haus 8 | B21: 1. OG | C21: 31 | D21: Küche | E21: PVC oder Fliesen | F21: 5.46 | G21: D1 | H21: =F21 -> 5.46
A22: Haus 8 | B22: 1. OG | C22: 32a | D22: WC | E22: Fliesen | F22: 4.25 | G22: E | H22: =F22 -> 4.25
A23: Haus 8 | B23: 1. OG | C23: 32b | D23: WC | E23: Fliesen | F23: 9.25 | G23: E | H23: =F23 -> 9.25
A24: Haus 8 | B24: 1. OG | C24: 33 | D24: Flur | E24: Teppichboden | F24: 27.9 | G24: I | J24: =F24 -> 27.9
A25: Haus 8 | B25: 1. OG | C25: 36a | D25: WC | E25: Fliesen | F25: 9.23 | G25: E | H25: =F25 -> 9.23
A26: Haus 8 | B26: 1. OG | C26: 40 | D26: Flur | E26: Teppichboden | F26: 76.39 | G26: I | J26: =F26 -> 76.39
A27: Haus 8 | B27: 1. OG | C27: 41 | D27: Flur | E27: Teppichboden | F27: 13.38 | G27: I | J27: =F27 -> 13.38
A28: Haus 8 | B28: 1.OG | C28: 1.01 | D28: Treppenhaus | E28: Stein | F28: 15.99 | G28: J2 | J28: =F28 -> 15.99
A29: Haus 8 | B29: 2. OG | C29: 01 | D29: Büro | E29: Teppichboden | F29: 18.3 | G29: A | J29: =F29 -> 18.3
A30: Haus 8 | B30: 2. OG | C30: 02 | D30: Büro | E30: Teppichboden | F30: 18.45 | G30: A | J30: =F30 -> 18.45
A31: Haus 8 | B31: 2. OG | C31: 03 | D31: IT-Technik | E31: PVC | F31: 18.67 | G31: F | J31: =F31 -> 18.67
A32: Haus 8 | B32: 2.OG | C32: 03a | D32: Bürotechnik | E32: PVC | F32: 12 | G32: F | J32: =F32 -> 12
A33: Haus 8 | B33: 2. OG | C33: 04 | D33: Büro | E33: Teppichboden | F33: 18.22 | G33: A | J33: =F33 -> 18.22
A34: Haus 8 | B34: 2. OG | C34: 05 | D34: Büro | E34: Teppichboden | F34: 18.23 | G34: A | J34: =F34 -> 18.23
A35: Haus 8 | B35: 2. OG | C35: 06 | D35: Büro | E35: Teppichboden | F35: 17.9 | G35: A | J35: =F35 -> 17.9
A36: Haus 8 | B36: 2. OG | C36: 07 | D36: Büro | E36: Teppichboden | F36: 16.45 | G36: A | J36: =F36 -> 16.45
A37: Haus 8 | B37: 2. OG | C37: 08 | D37: Büro | E37: Teppichboden | F37: 19.8 | G37: A | J37: =F37 -> 19.8
... A48: Haus 8 | B48: 2. OG | C48: 21 | D48: Bürotechnik | E48: PVC | F48: 15.47 | G48: F | J48: =F48 -> 15.47
A49: Haus 8 | B49: 2. OG | C49: 31 | D49: Küche | E49: PVC oder Fliesen | F49: 3.89 | G49: D1 | H49: =F49 -> 3.89
A50: Haus 8 | B50: 2. OG | C50: 32a | D50: WC | E50: Fliesen | F50: 5.28 | G50: E | H50: =F50 -> 5.28
A51: Haus 8 | B51: 2. OG | C51: 32b | D51: WC | E51: Fliesen | F51: 4.25 | G51: E | H51: =F51 -> 4.25
...

Sheet Haus 9-10
A2: Gebäude | B2: Etage | C2: Raum- Nr. | D2: Raumbezeichnung | E2: Belagsart | F2: Grundfläche QM | G2: Raumgruppe | H2: Reinigungshäufigkeit Reinigen der Fußböden und Einrichtungsgegenstände (einschließlich der Arbeitsplätze) | O2: Bemerkungen
H3: wöchentlich in QM | K3: monatlich in QM | L3: vierteljährig in QM | M3: halbjährig in QM | N3: jährlich in QM
H4: 5x | I4: 2x | J4: 1x | K4: 1x | L4: 1x | M4: 1x | N4: 1x
A5: Haus 9-10 | B5: 1. OG | C5: 03 | D5: Büro | E5: Teppichboden | F5: 18.6 | G5: A | J5: =F5 -> 18.6
A6: Haus 9-10 | B6: 1. OG | C6: 04 | D6: Büro | E6: Teppichboden | F6: 19.24 | G6: A | J6: =F6 -> 19.24
A7: Haus 9-10 | B7: 1. OG | C7: 05 | D7: Büro | E7: Teppichboden | F7: 19.24 | G7: A | J7: =F7 -> 19.24
A8: Haus 9-10 | B8: 1. OG | C8: 06 | D8: Büro | E8: Teppichboden | F8: 19.25 | G8: A | J8: =F8 -> 19.25
A9: Haus 9-10 | B9: 1. OG | C9: 07 | D9: Büro | E9: Teppichboden | F9: 19.25 | G9: A | J9: =F9 -> 19.25
A10: Haus 9-10 | B10: 1. OG | C10: 08 | D10: Büro | E10: Teppichboden | F10: 19.16 | G10: A | J10: =F10 -> 19.16
A11: Haus 9-10 | B11: 1. OG | C11: 09 | D11: Büro | E11: Teppichboden | F11: 18.3 | G11: A | J11: =F11 -> 18.3
A12: Haus 9-10 | B12: 1. OG | C12: 10 | D12: Büro | E12: Teppichboden | F12: 18.52 | G12: A | J12: =F12 -> 18.52
A13: Haus 9-10 | B13: 1. OG | C13: 31 | D13: Küche | E13: PVC oder Fliesen | F13: 9.73 | G13: D1 | H13: =F13 -> 9.73
A14: Haus 9-10 | B14: 1. OG | C14: 32a | D14: WC | E14: Fliesen | F14: 5.3 | G14: E | H14: =F14 -> 5.3
A15: Haus 9-10 | B15: 1. OG | C15: 32b | D15: WC | E15: Fliesen | F15: 7.14 | G15: E | H15: =F15 -> 7.14
A16: Haus 9-10 | B16: 1. OG | C16: 33 | D16: Flur | E16: Teppichboden | F16: 6.24 | G16: I | J16: =F16 -> 6.24
A17: Haus 9-10 | B17: 1. OG | C17: 36a | D17: WC | E17: Fliesen | F17: 6.17 | G17: E | H17: =F17 -> 6.17
A18: Haus 9-10 | B18: 1. OG | C18: 51 | D18: Treppenhaus | E18: Stein | F18: 16.15 | G18: J2 | J18: =F18 -> 16.15
A19: Haus 9-10 | B19: 1. OG | C19: 52 | D19: Treppenhaus | E19: Stein | F19: 15.36 | G19: J2 | J19: =F19 -> 15.36
A20: Haus 9-10 | B20: 1. OG | C20: WC | D20: Damen und Herren | E20: Fliesen | F20: 5.33 | G20: E | H20: =F20 -> 5.33
A21: Haus 9-10 | B21: 2. OG | C21: 01 | D21: Büro | E21: Teppichboden | F21: 17.78 | G21: A | J21: =F21 -> 17.78
A22: Haus 9-10 | B22: 2. OG | C22: 02 | D22: Büro | E22: Teppichboden | F22: 17.77 | G22: A | J22: =F22 -> 17.77
A23: Haus 9-10 | B23: 2. OG | C23: 04 | D23: Büro | E23: Teppichboden | F23: 19.24 | G23: A | J23: =F23 -> 19.24
A24: Haus 9-10 | B24: 2. OG | C24: 05 | D24: Büro | E24: Teppichboden | F24: 19.56 | G24: A | J24: =F24 -> 19.56
A25: Haus 9-10 | B25: 2. OG | C25: 06 | D25: Büro | E25: Teppichboden | F25: 19.5 | G25: A | J25: =F25 -> 19.5
A26: Haus 9-10 | B26: 2. OG | C26: 07 | D26: Büro | E26: Teppichboden | F26: 19.39 | G26: A | J26: =F26 -> 19.39
A27: Haus 9-10 | B27: 2. OG | C27: 08 | D27: Büro | E27: Teppichboden | F27: 19.45 | G27: A | J27: =F27 -> 19.45
A28: Haus 9-10 | B28: 2. OG | C28: 09 | D28: Büro | E28: Teppichboden | F28: 19.53 | G28: A | J28: =F28 -> 19.53
A29: Haus 9-10 | B29: 2. OG | C29: 10 | D29: Büro | E29: Teppichboden | F29: 19.5 | G29: A | J29: =F29 -> 19.5
A30: Haus 9-10 | B30: 2. OG | C30: 11 | D30: Büro | E30: Teppichboden | F30: 29.29 | G30: A | J30: =F30 -> 29.29
A31: Haus 9-10 | B31: 2. OG | C31: 12 | D31: Büro | E31: Teppichboden | F31: 19.27 | G31: A | J31: =F31 -> 19.27
A32: Haus 9-10 | B32: 2. OG | C32: 13 | D32: Büro | E32: Teppichboden | F32: 19.26 | G32: A | J32: =F32 -> 19.26
... A38: Haus 9-10 | B38: 2. OG | C38: 21 | D38: Bürotechnik | E38: PVC | F38: 9.48 | G38: F | J38: =F38 -> 9.48
A39: Haus 9-10 | B39: 2. OG | C39: 32a | D39: WC | E39: Fliesen | F39: 4.41 | G39: E | H39: =F39 -> 4.41
A40: Haus 9-10 | B40: 2. OG | C40: 32b | D40: WC | E40: Fliesen | F40: 6.18 | G40: E | H40: =F40 -> 6.18
A41: Haus 9-10 | B41: 2. OG | C41: 33 | D41: Treppenhaus | E41: Stein | F41: 14.87 | G41: J2 | J41: =F41 -> 14.87
A42: Haus 9-10 | B42: 2. OG | C42: 34 | D42: Treppenhaus | E42: Stein | F42: 15.65 | G42: J2 | J42: =F42 -> 15.65
A43: Haus 9-10 | B43: 2. OG | C43: 36a | D43: WC | E43: Fliesen | F43: 6.29 | G43: E | H43: =F43 -> 6.29
A44: Haus 9-10 | B44: 2. OG | C44: 36b | D44: WC | E44: Fliesen | F44: 6.96 | G44: E | H44: =F44 -> 6.96
A45: Haus 9-10 | B45: 2. OG | C45: 37 | D45: Küche | E45: PVC oder Fliesen | F45: 23.55 | G45: D1 | H45: =F45 -> 23.55
A46: Haus 9-10 | B46: 2. OG | C46: 40 | D46: Flur | E46: Teppichboden | F46: 46.13 | G46: I | J46: =F46 -> 46.13
...

Sheet Zusammenfassung
B2: Quadratmeter Reinigungsfläche
B4: Haus 1 | C4: ='Haus 1'!F108 -> 2268.92
B6: Haus 2 | C6: ='Haus 2'!F136 -> 2449.8
B8: Haus 3 | C8: ='Haus 3'!F112 -> 2347.33
B10: Haus 4 | C10: ='Haus 4'!F613 -> 16873.39
B12: Haus 5 | C12: ='Haus 5'!F135 -> 3569.83
B14: Haus 7 | C14: ='Haus 7'!F243 -> 5800.58
B16: Haus 8 | C16: ='Haus 8'!F71 -> 1398.64
B18: Haus 9-10 | C18: ='Haus 9-10'!F189 -> 3050.84
C20: =SUM(C4:C19) -> 37759.33
